Workbook

Sheet Classement Général
A1: Classement | B1: PSEUDO | C1: Total | E1: Monster Stack | F1: Roller Coaster | G1: Kill The PPCien | H1: PSEUDO 2 | I1: Total 2 | J1: 2 | K1: Monster Stack 2 | L1: Roller Coaster 2 | M1: Kill The PPCien 2
A2: =ROW()-1 -> 1 | B2: {=SORT(H2:M251,2,FALSE)} -> _VisMaVie_ | C2: 17391.504 | E2: 10234.559 | F2: 5252.0653 | G2: 1904.8794 | H2: =IFERROR(__xludf.DUMMYFUNCTION("UNIQUE(FLATTEN({'Classement MS'!B2:B248;'Classement RoC'!B2:B248;'Classement Kill'!B2:B248}))"),"_VisMaVie_") -> _VisMaVie_ | I2: =SUM(K2:M2) -> 17391.504 | K2: =IFERROR(VLOOKUP(H2,'Classement MS'!$B$2:$C$200,2,0),"0") -> 10234.559 | L2: =IFERROR(VLOOKUP(H2,'Classement RoC'!$B$2:$C$199,2,0),"0") -> 5252.0653 | M2: =IFERROR(VLOOKUP(H2,'Classement Kill'!$B$2:$C$199,2,0),"0") -> 1904.8794
A3: =ROW()-1 -> 2 | B3: Mako Lemore | C3: 17390.139 | E3: 9523.2264 | F3: 5695.5094 | G3: 2171.4034 | H3: =IFERROR(__xludf.DUMMYFUNCTION("""COMPUTED_VALUE"""),"Xenocq79") -> Xenocq79 | I3: =SUM(K3:M3) -> 12474.915 | K3: =IFERROR(VLOOKUP(H3,'Classement MS'!$B$2:$C$200,2,0),"0") -> 10036.336 | L3: =IFERROR(VLOOKUP(H3,'Classement RoC'!$B$2:$C$199,2,0),"0") -> 1108.1846 | M3: =IFERROR(VLOOKUP(H3,'Classement Kill'!$B$2:$C$199,2,0),"0") -> 1330.3939
A4: =ROW()-1 -> 3 | B4: 8kinder6 | C4: 17141.841 | E4: 9401.2846 | F4: 6081.4046 | G4: 1659.1522 | H4: =IFERROR(__xludf.DUMMYFUNCTION("""COMPUTED_VALUE"""),"Mako Lemore") -> Mako Lemore | I4: =SUM(K4:M4) -> 17390.139 | K4: =IFERROR(VLOOKUP(H4,'Classement MS'!$B$2:$C$200,2,0),"0") -> 9523.2264 | L4: =IFERROR(VLOOKUP(H4,'Classement RoC'!$B$2:$C$199,2,0),"0") -> 5695.5094 | M4: =IFERROR(VLOOKUP(H4,'Classement Kill'!$B$2:$C$199,2,0),"0") -> 2171.4034
A5: =ROW()-1 -> 4 | B5: alexinzaghi | C5: 17100.658 | E5: 9284.116 | F5: 4819.8821 | G5: 2996.6597 | H5: =IFERROR(__xludf.DUMMYFUNCTION("""COMPUTED_VALUE"""),"8kinder6") -> 8kinder6 | I5: =SUM(K5:M5) -> 17141.841 | K5: =IFERROR(VLOOKUP(H5,'Classement MS'!$B$2:$C$200,2,0),"0") -> 9401.2846 | L5: =IFERROR(VLOOKUP(H5,'Classement RoC'!$B$2:$C$199,2,0),"0") -> 6081.4046 | M5: =IFERROR(VLOOKUP(H5,'Classement Kill'!$B$2:$C$199,2,0),"0") -> 1659.1522
A6: =ROW()-1 -> 5 | B6: Nanny on pe | C6: 15553.73 | E6: 7601.9701 | F6: 7055.1947 | G6: 896.56524 | H6: =IFERROR(__xludf.DUMMYFUNCTION("""COMPUTED_VALUE"""),"titounio") -> titounio | I6: =SUM(K6:M6) -> 12872.409 | K6: =IFERROR(VLOOKUP(H6,'Classement MS'!$B$2:$C$200,2,0),"0") -> 9367.9583 | L6: =IFERROR(VLOOKUP(H6,'Classement RoC'!$B$2:$C$199,2,0),"0") -> 1546.3446 | M6: =IFERROR(VLOOKUP(H6,'Classement Kill'!$B$2:$C$199,2,0),"0") -> 1958.1058
A7: =ROW()-1 -> 6 | B7: TontonZgueg | C7: 14808.116 | E7: 9180.7183 | F7: 3190.6851 | G7: 2436.7123 | H7: =IFERROR(__xludf.DUMMYFUNCTION("""COMPUTED_VALUE"""),"alexinzaghi") -> alexinzaghi | I7: =SUM(K7:M7) -> 17100.658 | K7: =IFERROR(VLOOKUP(H7,'Classement MS'!$B$2:$C$200,2,0),"0") -> 9284.116 | L7: =IFERROR(VLOOKUP(H7,'Classement RoC'!$B$2:$C$199,2,0),"0") -> 4819.8821 | M7: =IFERROR(VLOOKUP(H7,'Classement Kill'!$B$2:$C$199,2,0),"0") -> 2996.6597
A8: =ROW()-1 -> 7 | B8: JM-Chatte | C8: 14792.354 | E8: 7950.0643 | F8: 5914.8303 | G8: 927.45918 | H8: =IFERROR(__xludf.DUMMYFUNCTION("""COMPUTED_VALUE"""),"TontonZgueg") -> TontonZgueg | I8: =SUM(K8:M8) -> 14808.116 | K8: =IFERROR(VLOOKUP(H8,'Classement MS'!$B$2:$C$200,2,0),"0") -> 9180.7183 | L8: =IFERROR(VLOOKUP(H8,'Classement RoC'!$B$2:$C$199,2,0),"0") -> 3190.6851 | M8: =IFERROR(VLOOKUP(H8,'Classement Kill'!$B$2:$C$199,2,0),"0") -> 2436.7123
A9: =ROW()-1 -> 8 | B9: jejehehe | C9: 14691.311 | E9: 8037.8864 | F9: 4193.5244 | G9: 2459.9007 | H9: =IFERROR(__xludf.DUMMYFUNCTION("""COMPUTED_VALUE"""),"Phil1308") -> Phil1308 | I9: =SUM(K9:M9) -> 13927.921 | K9: =IFERROR(VLOOKUP(H9,'Classement MS'!$B$2:$C$200,2,0),"0") -> 8505.4229 | L9: =IFERROR(VLOOKUP(H9,'Classement RoC'!$B$2:$C$199,2,0),"0") -> 4134.781 | M9: =IFERROR(VLOOKUP(H9,'Classement Kill'!$B$2:$C$199,2,0),"0") -> 1287.717
A10: =ROW()-1 -> 9 | B10: Kevfurious | C10: 14438.516 | E10: 6828.5958 | F10: 5988.0097 | G10: 1621.91 | H10: =IFERROR(__xludf.DUMMYFUNCTION("""COMPUTED_VALUE"""),"Immond") -> Immond | I10: =SUM(K10:M10) -> 14437.421 | K10: =IFERROR(VLOOKUP(H10,'Classement MS'!$B$2:$C$200,2,0),"0") -> 8150.0787 | L10: =IFERROR(VLOOKUP(H10,'Classement RoC'!$B$2:$C$199,2,0),"0") -> 4324.1577 | M10: =IFERROR(VLOOKUP(H10,'Classement Kill'!$B$2:$C$199,2,0),"0") -> 1963.1849
A11: =ROW()-1 -> 10 | B11: Immond | C11: 14437.421 | E11: 8150.0787 | F11: 4324.1577 | G11: 1963.1849 | H11: =IFERROR(__xludf.DUMMYFUNCTION("""COMPUTED_VALUE"""),"jejehehe") -> jejehehe | I11: =SUM(K11:M11) -> 14691.311 | K11: =IFERROR(VLOOKUP(H11,'Classement MS'!$B$2:$C$200,2,0),"0") -> 8037.8864 | L11: =IFERROR(VLOOKUP(H11,'Classement RoC'!$B$2:$C$199,2,0),"0") -> 4193.5244 | M11: =IFERROR(VLOOKUP(H11,'Classement Kill'!$B$2:$C$199,2,0),"0") -> 2459.9007
A12: =ROW()-1 -> 11 | B12: Phil1308 | C12: 13927.921 | E12: 8505.4229 | F12: 4134.781 | G12: 1287.717 | H12: =IFERROR(__xludf.DUMMYFUNCTION("""COMPUTED_VALUE"""),"JM-Chatte") -> JM-Chatte | I12: =SUM(K12:M12) -> 14792.354 | K12: =IFERROR(VLOOKUP(H12,'Classement MS'!$B$2:$C$200,2,0),"0") -> 7950.0643 | L12: =IFERROR(VLOOKUP(H12,'Classement RoC'!$B$2:$C$199,2,0),"0") -> 5914.8303 | M12: =IFERROR(VLOOKUP(H12,'Classement Kill'!$B$2:$C$199,2,0),"0") -> 927.45918
A13: =ROW()-1 -> 12 | B13: Foldzilla | C13: 13611.521 | E13: 7468.504 | F13: 4136.1132 | G13: 2006.9035 | H13: =IFERROR(__xludf.DUMMYFUNCTION("""COMPUTED_VALUE"""),"Le MARVEL") -> Le MARVEL | I13: =SUM(K13:M13) -> 10583.706 | K13: =IFERROR(VLOOKUP(H13,'Classement MS'!$B$2:$C$200,2,0),"0") -> 7797.2178 | L13: =IFERROR(VLOOKUP(H13,'Classement RoC'!$B$2:$C$199,2,0),"0") -> 2013.0317 | M13: =IFERROR(VLOOKUP(H13,'Classement Kill'!$B$2:$C$199,2,0),"0") -> 773.45678
A14: =ROW()-1 -> 13 | B14: _Sale-Bet_ | C14: 13407.017 | E14: 7051.586 | F14: 3602.2587 | G14: 2753.1718 | H14: =IFERROR(__xludf.DUMMYFUNCTION("""COMPUTED_VALUE"""),"Nanny on pe") -> Nanny on pe | I14: =SUM(K14:M14) -> 15553.73 | K14: =IFERROR(VLOOKUP(H14,'Classement MS'!$B$2:$C$200,2,0),"0") -> 7601.9701 | L14: =IFERROR(VLOOKUP(H14,'Classement RoC'!$B$2:$C$199,2,0),"0") -> 7055.1947 | M14: =IFERROR(VLOOKUP(H14,'Classement Kill'!$B$2:$C$199,2,0),"0") -> 896.56524
A15: =ROW()-1 -> 14 | B15: christ86000 | C15: 13176.434 | E15: 5316.6281 | F15: 5223.6866 | G15: 2636.1197 | H15: =IFERROR(__xludf.DUMMYFUNCTION("""COMPUTED_VALUE"""),"Redblood92") -> Redblood92 | I15: =SUM(K15:M15) -> 12326.198 | K15: =IFERROR(VLOOKUP(H15,'Classement MS'!$B$2:$C$200,2,0),"0") -> 7530.8107 | L15: =IFERROR(VLOOKUP(H15,'Classement RoC'!$B$2:$C$199,2,0),"0") -> 3493.3775 | M15: =IFERROR(VLOOKUP(H15,'Classement Kill'!$B$2:$C$199,2,0),"0") -> 1302.0102
A16: =ROW()-1 -> 15 | B16: titounio | C16: 12872.409 | E16: 9367.9583 | F16: 1546.3446 | G16: 1958.1058 | H16: =IFERROR(__xludf.DUMMYFUNCTION("""COMPUTED_VALUE"""),"Foldzilla") -> Foldzilla | I16: =SUM(K16:M16) -> 13611.521 | K16: =IFERROR(VLOOKUP(H16,'Classement MS'!$B$2:$C$200,2,0),"0") -> 7468.504 | L16: =IFERROR(VLOOKUP(H16,'Classement RoC'!$B$2:$C$199,2,0),"0") -> 4136.1132 | M16: =IFERROR(VLOOKUP(H16,'Classement Kill'!$B$2:$C$199,2,0),"0") -> 2006.9035
A17: =ROW()-1 -> 16 | B17: Chuckandier | C17: 12770.156 | E17: 6548.7104 | F17: 4953.7342 | G17: 1267.7109 | H17: =IFERROR(__xludf.DUMMYFUNCTION("""COMPUTED_VALUE"""),"Scherkan86") -> Scherkan86 | I17: =SUM(K17:M17) -> 11518.601 | K17: =IFERROR(VLOOKUP(H17,'Classement MS'!$B$2:$C$200,2,0),"0") -> 7435.0964 | L17: =IFERROR(VLOOKUP(H17,'Classement RoC'!$B$2:$C$199,2,0),"0") -> 2988.3656 | M17: =IFERROR(VLOOKUP(H17,'Classement Kill'!$B$2:$C$199,2,0),"0") -> 1095.1392
A18: =ROW()-1 -> 17 | B18: Xenocq79 | C18: 12474.915 | E18: 10036.336 | F18: 1108.1846 | G18: 1330.3939 | H18: =IFERROR(__xludf.DUMMYFUNCTION("""COMPUTED_VALUE"""),"BBH 75") -> BBH 75 | I18: =SUM(K18:M18) -> 11066.322 | K18: =IFERROR(VLOOKUP(H18,'Classement MS'!$B$2:$C$200,2,0),"0") -> 7211.0765 | L18: =IFERROR(VLOOKUP(H18,'Classement RoC'!$B$2:$C$199,2,0),"0") -> 3075.6865 | M18: =IFERROR(VLOOKUP(H18,'Classement Kill'!$B$2:$C$199,2,0),"0") -> 779.55919
A19: =ROW()-1 -> 18 | B19: Redblood92 | C19: 12326.198 | E19: 7530.8107 | F19: 3493.3775 | G19: 1302.0102 | H19: =IFERROR(__xludf.DUMMYFUNCTION("""COMPUTED_VALUE"""),"_Sale-Bet_") -> _Sale-Bet_ | I19: =SUM(K19:M19) -> 13407.017 | K19: =IFERROR(VLOOKUP(H19,'Classement MS'!$B$2:$C$200,2,0),"0") -> 7051.586 | L19: =IFERROR(VLOOKUP(H19,'Classement RoC'!$B$2:$C$199,2,0),"0") -> 3602.2587 | M19: =IFERROR(VLOOKUP(H19,'Classement Kill'!$B$2:$C$199,2,0),"0") -> 2753.1718
A20: =ROW()-1 -> 19 | B20: .BARBAPAPA66 | C20: 12262.252 | E20: 5105.1835 | F20: 5382.8454 | G20: 1774.2233 | H20: =IFERROR(__xludf.DUMMYFUNCTION("""COMPUTED_VALUE"""),"Fishtipanda") -> Fishtipanda | I20: =SUM(K20:M20) -> 11105.356 | K20: =IFERROR(VLOOKUP(H20,'Classement MS'!$B$2:$C$200,2,0),"0") -> 6903.0522 | L20: =IFERROR(VLOOKUP(H20,'Classement RoC'!$B$2:$C$199,2,0),"0") -> 2272.3474 | M20: =IFERROR(VLOOKUP(H20,'Classement Kill'!$B$2:$C$199,2,0),"0") -> 1929.9564
A21: =ROW()-1 -> 20 | B21: Dirty Bazaar | C21: 12223.775 | E21: 6272.1461 | F21: 4917.5651 | G21: 1034.0635 | H21: =IFERROR(__xludf.DUMMYFUNCTION("""COMPUTED_VALUE"""),"Kevfurious") -> Kevfurious | I21: =SUM(K21:M21) -> 14438.516 | K21: =IFERROR(VLOOKUP(H21,'Classement MS'!$B$2:$C$200,2,0),"0") -> 6828.5958 | L21: =IFERROR(VLOOKUP(H21,'Classement RoC'!$B$2:$C$199,2,0),"0") -> 5988.0097 | M21: =IFERROR(VLOOKUP(H21,'Classement Kill'!$B$2:$C$199,2,0),"0") -> 1621.91
A22: =ROW()-1 -> 21 | B22: rastamokett | C22: 11812.317 | E22: 4880.0036 | F22: 5302.7597 | G22: 1629.5538 | H22: =IFERROR(__xludf.DUMMYFUNCTION("""COMPUTED_VALUE"""),"Rod_John_VI") -> Rod_John_VI | I22: =SUM(K22:M22) -> 11390.32 | K22: =IFERROR(VLOOKUP(H22,'Classement MS'!$B$2:$C$200,2,0),"0") -> 6660.0564 | L22: =IFERROR(VLOOKUP(H22,'Classement RoC'!$B$2:$C$199,2,0),"0") -> 3137.9776 | M22: =IFERROR(VLOOKUP(H22,'Classement Kill'!$B$2:$C$199,2,0),"0") -> 1592.2857
A23: =ROW()-1 -> 22 | B23: Legabodu86 | C23: 11677.087 | E23: 5576.9766 | F23: 4962.3248 | G23: 1137.786 | H23: =IFERROR(__xludf.DUMMYFUNCTION("""COMPUTED_VALUE"""),"Chuckandier") -> Chuckandier | I23: =SUM(K23:M23) -> 12770.156 | K23: =IFERROR(VLOOKUP(H23,'Classement MS'!$B$2:$C$200,2,0),"0") -> 6548.7104 | L23: =IFERROR(VLOOKUP(H23,'Classement RoC'!$B$2:$C$199,2,0),"0") -> 4953.7342 | M23: =IFERROR(VLOOKUP(H23,'Classement Kill'!$B$2:$C$199,2,0),"0") -> 1267.7109
A24: =ROW()-1 -> 23 | B24: shokooo | C24: 11544.15 | E24: 5920.7359 | F24: 4440.8721 | G24: 1182.5417 | H24: =IFERROR(__xludf.DUMMYFUNCTION("""COMPUTED_VALUE"""),"Dirty Bazaar") -> Dirty Bazaar | I24: =SUM(K24:M24) -> 12223.775 | K24: =IFERROR(VLOOKUP(H24,'Classement MS'!$B$2:$C$200,2,0),"0") -> 6272.1461 | L24: =IFERROR(VLOOKUP(H24,'Classement RoC'!$B$2:$C$199,2,0),"0") -> 4917.5651 | M24: =IFERROR(VLOOKUP(H24,'Classement Kill'!$B$2:$C$199,2,0),"0") -> 1034.0635
A25: =ROW()-1 -> 24 | B25: Scherkan86 | C25: 11518.601 | E25: 7435.0964 | F25: 2988.3656 | G25: 1095.1392 | H25: =IFERROR(__xludf.DUMMYFUNCTION("""COMPUTED_VALUE"""),"--WondeR--") -> --WondeR-- | I25: =SUM(K25:M25) -> 8243.1281 | K25: =IFERROR(VLOOKUP(H25,'Classement MS'!$B$2:$C$200,2,0),"0") -> 6182.6092 | L25: =IFERROR(VLOOKUP(H25,'Classement RoC'!$B$2:$C$199,2,0),"0") -> 641.12761 | M25: =IFERROR(VLOOKUP(H25,'Classement Kill'!$B$2:$C$199,2,0),"0") -> 1419.3913
A26: =ROW()-1 -> 25 | B26: Patgaret | C26: 11446.137 | E26: 5348.9743 | F26: 3938.5849 | G26: 2158.5774 | H26: =IFERROR(__xludf.DUMMYFUNCTION("""COMPUTED_VALUE"""),"FisherPrice.") -> FisherPrice. | I26: =SUM(K26:M26) -> 6679.9256 | K26: =IFERROR(VLOOKUP(H26,'Classement MS'!$B$2:$C$200,2,0),"0") -> 6173.2741 | L26: =IFERROR(VLOOKUP(H26,'Classement RoC'!$B$2:$C$199,2,0),"0") -> 375.93549 | M26: =IFERROR(VLOOKUP(H26,'Classement Kill'!$B$2:$C$199,2,0),"0") -> 130.716
A27: =ROW()-1 -> 26 | B27: Rod_John_VI | C27: 11390.32 | E27: 6660.0564 | F27: 3137.9776 | G27: 1592.2857 | H27: =IFERROR(__xludf.DUMMYFUNCTION("""COMPUTED_VALUE"""),"shokooo") -> shokooo | I27: =SUM(K27:M27) -> 11544.15 | K27: =IFERROR(VLOOKUP(H27,'Classement MS'!$B$2:$C$200,2,0),"0") -> 5920.7359 | L27: =IFERROR(VLOOKUP(H27,'Classement RoC'!$B$2:$C$199,2,0),"0") -> 4440.8721 | M27: =IFERROR(VLOOKUP(H27,'Classement Kill'!$B$2:$C$199,2,0),"0") -> 1182.5417
A28: =ROW()-1 -> 27 | B28: FridAKahlo | C28: 11191.365 | E28: 5406.664 | F28: 3866.8152 | G28: 1917.8856 | H28: =IFERROR(__xludf.DUMMYFUNCTION("""COMPUTED_VALUE"""),"kiki86 x") -> kiki86 x | I28: =SUM(K28:M28) -> 9098.3115 | K28: =IFERROR(VLOOKUP(H28,'Classement MS'!$B$2:$C$200,2,0),"0") -> 5726.6178 | L28: =IFERROR(VLOOKUP(H28,'Classement RoC'!$B$2:$C$199,2,0),"0") -> 2703.4904 | M28: =IFERROR(VLOOKUP(H28,'Classement Kill'!$B$2:$C$199,2,0),"0") -> 668.20328
A29: =ROW()-1 -> 28 | B29: COMBERS | C29: 11124.164 | E29: 2322.9019 | F29: 6483.6826 | G29: 2317.5795 | H29: =IFERROR(__xludf.DUMMYFUNCTION("""COMPUTED_VALUE"""),"gregmoore") -> gregmoore | I29: =SUM(K29:M29) -> 10701.825 | K29: =IFERROR(VLOOKUP(H29,'Classement MS'!$B$2:$C$200,2,0),"0") -> 5703.6228 | L29: =IFERROR(VLOOKUP(H29,'Classement RoC'!$B$2:$C$199,2,0),"0") -> 3575.9696 | M29: =IFERROR(VLOOKUP(H29,'Classement Kill'!$B$2:$C$199,2,0),"0") -> 1422.2326
A30: =ROW()-1 -> 29 | B30: Fishtipanda | C30: 11105.356 | E30: 6903.0522 | F30: 2272.3474 | G30: 1929.9564 | H30: =IFERROR(__xludf.DUMMYFUNCTION("""COMPUTED_VALUE"""),"StephBoss05") -> StephBoss05 | I30: =SUM(K30:M30) -> 6369.7661 | K30: =IFERROR(VLOOKUP(H30,'Classement MS'!$B$2:$C$200,2,0),"0") -> 5611.2993 | L30: =IFERROR(VLOOKUP(H30,'Classement RoC'!$B$2:$C$199,2,0),"0") -> 577.32225 | M30: =IFERROR(VLOOKUP(H30,'Classement Kill'!$B$2:$C$199,2,0),"0") -> 181.14463
A31: =ROW()-1 -> 30 | B31: BBH 75 | C31: 11066.322 | E31: 7211.0765 | F31: 3075.6865 | G31: 779.55919 | H31: =IFERROR(__xludf.DUMMYFUNCTION("""COMPUTED_VALUE"""),"S.coco") -> S.coco | I31: =SUM(K31:M31) -> 10212.526 | K31: =IFERROR(VLOOKUP(H31,'Classement MS'!$B$2:$C$200,2,0),"0") -> 5588.1747 | L31: =IFERROR(VLOOKUP(H31,'Classement RoC'!$B$2:$C$199,2,0),"0") -> 2881.5703 | M31: =IFERROR(VLOOKUP(H31,'Classement Kill'!$B$2:$C$199,2,0),"0") -> 1742.781
A32: =ROW()-1 -> 31 | B32: gregmoore | C32: 10701.825 | E32: 5703.6228 | F32: 3575.9696 | G32: 1422.2326 | H32: =IFERROR(__xludf.DUMMYFUNCTION("""COMPUTED_VALUE"""),"Legabodu86") -> Legabodu86 | I32: =SUM(K32:M32) -> 11677.087 | K32: =IFERROR(VLOOKUP(H32,'Classement MS'!$B$2:$C$200,2,0),"0") -> 5576.9766 | L32: =IFERROR(VLOOKUP(H32,'Classement RoC'!$B$2:$C$199,2,0),"0") -> 4962.3248 | M32: =IFERROR(VLOOKUP(H32,'Classement Kill'!$B$2:$C$199,2,0),"0") -> 1137.786
A33: =ROW()-1 -> 32 | B33: Vaillant 86 | C33: 10586.858 | E33: 4075.9996 | F33: 3589.4363 | G33: 2921.4216 | H33: =IFERROR(__xludf.DUMMYFUNCTION("""COMPUTED_VALUE"""),"POMB1664") -> POMB1664 | I33: =SUM(K33:M33) -> 8206.5622 | K33: =IFERROR(VLOOKUP(H33,'Classement MS'!$B$2:$C$200,2,0),"0") -> 5560.2121 | L33: =IFERROR(VLOOKUP(H33,'Classement RoC'!$B$2:$C$199,2,0),"0") -> 1256.9122 | M33: =IFERROR(VLOOKUP(H33,'Classement Kill'!$B$2:$C$199,2,0),"0") -> 1389.4378
A34: =ROW()-1 -> 33 | B34: Le MARVEL | C34: 10583.706 | E34: 7797.2178 | F34: 2013.0317 | G34: 773.45678 | H34: =IFERROR(__xludf.DUMMYFUNCTION("""COMPUTED_VALUE"""),"A_iniesta") -> A_iniesta | I34: =SUM(K34:M34) -> 9991.6876 | K34: =IFERROR(VLOOKUP(H34,'Classement MS'!$B$2:$C$200,2,0),"0") -> 5443.2018 | L34: =IFERROR(VLOOKUP(H34,'Classement RoC'!$B$2:$C$199,2,0),"0") -> 3016.4541 | M34: =IFERROR(VLOOKUP(H34,'Classement Kill'!$B$2:$C$199,2,0),"0") -> 1532.0318
A35: =ROW()-1 -> 34 | B35: Sharky | C35: 10376.944 | E35: 4764.2254 | F35: 4336.6149 | G35: 1276.1033 | H35: =IFERROR(__xludf.DUMMYFUNCTION("""COMPUTED_VALUE"""),"FridAKahlo") -> FridAKahlo | I35: =SUM(K35:M35) -> 11191.365 | K35: =IFERROR(VLOOKUP(H35,'Classement MS'!$B$2:$C$200,2,0),"0") -> 5406.664 | L35: =IFERROR(VLOOKUP(H35,'Classement RoC'!$B$2:$C$199,2,0),"0") -> 3866.8152 | M35: =IFERROR(VLOOKUP(H35,'Classement Kill'!$B$2:$C$199,2,0),"0") -> 1917.8856
A36: =ROW()-1 -> 35 | B36: S.coco | C36: 10212.526 | E36: 5588.1747 | F36: 2881.5703 | G36: 1742.781 | H36: =IFERROR(__xludf.DUMMYFUNCTION("""COMPUTED_VALUE"""),"Pitt86700") -> Pitt86700 | I36: =SUM(K36:M36) -> 10210.446 | K36: =IFERROR(VLOOKUP(H36,'Classement MS'!$B$2:$C$200,2,0),"0") -> 5381.2535 | L36: =IFERROR(VLOOKUP(H36,'Classement RoC'!$B$2:$C$199,2,0),"0") -> 2369.3626 | M36: =IFERROR(VLOOKUP(H36,'Classement Kill'!$B$2:$C$199,2,0),"0") -> 2459.8301
A37: =ROW()-1 -> 36 | B37: Pitt86700 | C37: 10210.446 | E37: 5381.2535 | F37: 2369.3626 | G37: 2459.8301 | H37: =IFERROR(__xludf.DUMMYFUNCTION("""COMPUTED_VALUE"""),"Patgaret") -> Patgaret | I37: =SUM(K37:M37) -> 11446.137 | K37: =IFERROR(VLOOKUP(H37,'Classement MS'!$B$2:$C$200,2,0),"0") -> 5348.9743 | L37: =IFERROR(VLOOKUP(H37,'Classement RoC'!$B$2:$C$199,2,0),"0") -> 3938.5849 | M37: =IFERROR(VLOOKUP(H37,'Classement Kill'!$B$2:$C$199,2,0),"0") -> 2158.5774
A38: =ROW()-1 -> 37 | B38: cassius-86 | C38: 10020.381 | E38: 3431.2137 | F38: 4592.0952 | G38: 1997.0723 | H38: =IFERROR(__xludf.DUMMYFUNCTION("""COMPUTED_VALUE"""),"christ86000") -> christ86000 | I38: =SUM(K38:M38) -> 13176.434 | K38: =IFERROR(VLOOKUP(H38,'Classement MS'!$B$2:$C$200,2,0),"0") -> 5316.6281 | L38: =IFERROR(VLOOKUP(H38,'Classement RoC'!$B$2:$C$199,2,0),"0") -> 5223.6866 | M38: =IFERROR(VLOOKUP(H38,'Classement Kill'!$B$2:$C$199,2,0),"0") -> 2636.1197
A39: =ROW()-1 -> 38 | B39: A_iniesta | C39: 9991.6876 | E39: 5443.2018 | F39: 3016.4541 | G39: 1532.0318 | H39: =IFERROR(__xludf.DUMMYFUNCTION("""COMPUTED_VALUE"""),"ElDail") -> ElDail | I39: =SUM(K39:M39) -> 7831.8239 | K39: =IFERROR(VLOOKUP(H39,'Classement MS'!$B$2:$C$200,2,0),"0") -> 5310.603 | L39: =IFERROR(VLOOKUP(H39,'Classement RoC'!$B$2:$C$199,2,0),"0") -> 2137.9235 | M39: =IFERROR(VLOOKUP(H39,'Classement Kill'!$B$2:$C$199,2,0),"0") -> 383.29743
A40: =ROW()-1 -> 39 | B40: KamehamehAS | C40: 9908.8545 | E40: 4584.5276 | F40: 3971.5118 | G40: 1352.8151 | H40: =IFERROR(__xludf.DUMMYFUNCTION("""COMPUTED_VALUE"""),"BRUNOWINNER") -> BRUNOWINNER | I40: =SUM(K40:M40) -> 8203.0518 | K40: =IFERROR(VLOOKUP(H40,'Classement MS'!$B$2:$C$200,2,0),"0") -> 5153.6602 | L40: =IFERROR(VLOOKUP(H40,'Classement RoC'!$B$2:$C$199,2,0),"0") -> 1447.5087 | M40: =IFERROR(VLOOKUP(H40,'Classement Kill'!$B$2:$C$199,2,0),"0") -> 1601.8828
...

Sheet TOP 10
A1: Monster Stack | D1: Roller Coaster | H1: Prochains rendez-vous
A2: 1 | B2: ='Classement MS'!B2 -> _VisMaVie_ | C2: ='Classement MS'!C2 -> 10234.559 | D2: 1 | E2: ='Classement RoC'!B2 -> Nanny on pe | F2: ='Classement RoC'!C2 -> 7055.1947 | H2: Online | J2: Live
A3: 2 | B3: ='Classement MS'!B3 -> Xenocq79 | C3: ='Classement MS'!C3 -> 10036.336 | D3: 2 | E3: ='Classement RoC'!B3 -> COMBERS | F3: ='Classement RoC'!C3 -> 6483.6826 | H3: =IFERROR(__xludf.DUMMYFUNCTION("IMPORTRANGE(""https://docs.google.com/spreadsheets/d/1UQyG8rlZnvrZ4fb0TQ41OOfL22HVu1NT6f2xC71LSps/edit?gid=0#gid=0"",""Winamax!A26:B26"")"),"") | J3: =IFERROR(__xludf.DUMMYFUNCTION("IMPORTRANGE(""https://docs.google.com/spreadsheets/d/1UQyG8rlZnvrZ4fb0TQ41OOfL22HVu1NT6f2xC71LSps/edit?gid=0#gid=0"",""Live!A32:B32"")"),46115.0) -> 46115 | K3: =IFERROR(__xludf.DUMMYFUNCTION("""COMPUTED_VALUE"""),"Roller Coaster 9") -> Roller Coaster 9
A4: 3 | B4: ='Classement MS'!B4 -> Mako Lemore | C4: ='Classement MS'!C4 -> 9523.2264 | D4: 3 | E4: ='Classement RoC'!B4 -> 8kinder6 | F4: ='Classement RoC'!C4 -> 6081.4046 | H4: =IFERROR(__xludf.DUMMYFUNCTION("IMPORTRANGE(""https://docs.google.com/spreadsheets/d/1UQyG8rlZnvrZ4fb0TQ41OOfL22HVu1NT6f2xC71LSps/edit?gid=0#gid=0"",""Winamax!A27:B27"")"),"") | J4: =IFERROR(__xludf.DUMMYFUNCTION("IMPORTRANGE(""https://docs.google.com/spreadsheets/d/1UQyG8rlZnvrZ4fb0TQ41OOfL22HVu1NT6f2xC71LSps/edit?gid=0#gid=0"",""Live!A33:B33"")"),46122.0) -> 46122 | K4: =IFERROR(__xludf.DUMMYFUNCTION("""COMPUTED_VALUE"""),"Monster Stack 9") -> Monster Stack 9
A5: 4 | B5: ='Classement MS'!B5 -> 8kinder6 | C5: ='Classement MS'!C5 -> 9401.2846 | D5: 4 | E5: ='Classement RoC'!B5 -> Kevfurious | F5: ='Classement RoC'!C5 -> 5988.0097 | H5: =IFERROR(__xludf.DUMMYFUNCTION("IMPORTRANGE(""https://docs.google.com/spreadsheets/d/1UQyG8rlZnvrZ4fb0TQ41OOfL22HVu1NT6f2xC71LSps/edit?gid=0#gid=0"",""Winamax!A28:B28"")"),"") | J5: =IFERROR(__xludf.DUMMYFUNCTION("IMPORTRANGE(""https://docs.google.com/spreadsheets/d/1UQyG8rlZnvrZ4fb0TQ41OOfL22HVu1NT6f2xC71LSps/edit?gid=0#gid=0"",""Live!A34:B34"")"),46129.0) -> 46129 | K5: =IFERROR(__xludf.DUMMYFUNCTION("""COMPUTED_VALUE"""),"Kill the PPCien 9") -> Kill the PPCien 9
A6: 5 | B6: ='Classement MS'!B6 -> titounio | C6: ='Classement MS'!C6 -> 9367.9583 | D6: 5 | E6: ='Classement RoC'!B6 -> JM-Chatte | F6: ='Classement RoC'!C6 -> 5914.8303 | H6: =IFERROR(__xludf.DUMMYFUNCTION("IMPORTRANGE(""https://docs.google.com/spreadsheets/d/1UQyG8rlZnvrZ4fb0TQ41OOfL22HVu1NT6f2xC71LSps/edit?gid=0#gid=0"",""Winamax!A29:B29"")"),"") | J6: =IFERROR(__xludf.DUMMYFUNCTION("IMPORTRANGE(""https://docs.google.com/spreadsheets/d/1UQyG8rlZnvrZ4fb0TQ41OOfL22HVu1NT6f2xC71LSps/edit?gid=0#gid=0"",""Live!A35:B35"")"),46136.0) -> 46136 | K6: =IFERROR(__xludf.DUMMYFUNCTION("""COMPUTED_VALUE"""),"Roller Coaster 10") -> Roller Coaster 10
A7: 6 | B7: ='Classement MS'!B7 -> alexinzaghi | C7: ='Classement MS'!C7 -> 9284.116 | D7: 6 | E7: ='Classement RoC'!B7 -> Mako Lemore | F7: ='Classement RoC'!C7 -> 5695.5094 | H7: =IFERROR(__xludf.DUMMYFUNCTION("IMPORTRANGE(""https://docs.google.com/spreadsheets/d/1UQyG8rlZnvrZ4fb0TQ41OOfL22HVu1NT6f2xC71LSps/edit?gid=0#gid=0"",""Winamax!A30:B30"")"),"") | J7: =IFERROR(__xludf.DUMMYFUNCTION("IMPORTRANGE(""https://docs.google.com/spreadsheets/d/1UQyG8rlZnvrZ4fb0TQ41OOfL22HVu1NT6f2xC71LSps/edit?gid=0#gid=0"",""Live!A36:B36"")"),46143.0) -> 46143 | K7: =IFERROR(__xludf.DUMMYFUNCTION("""COMPUTED_VALUE"""),"Open") -> Open
A8: 7 | B8: ='Classement MS'!B8 -> TontonZgueg | C8: ='Classement MS'!C8 -> 9180.7183 | D8: 7 | E8: ='Classement RoC'!B8 -> Agouty79 | F8: ='Classement RoC'!C8 -> 5415.0782 | H8: =IFERROR(__xludf.DUMMYFUNCTION("IMPORTRANGE(""https://docs.google.com/spreadsheets/d/1UQyG8rlZnvrZ4fb0TQ41OOfL22HVu1NT6f2xC71LSps/edit?gid=0#gid=0"",""Winamax!A31:B31"")"),"") | J8: =IFERROR(__xludf.DUMMYFUNCTION("IMPORTRANGE(""https://docs.google.com/spreadsheets/d/1UQyG8rlZnvrZ4fb0TQ41OOfL22HVu1NT6f2xC71LSps/edit?gid=0#gid=0"",""Live!A37:B37"")"),46144.0) -> 46144 | K8: =IFERROR(__xludf.DUMMYFUNCTION("""COMPUTED_VALUE"""),"Open") -> Open
A9: 8 | B9: ='Classement MS'!B9 -> Phil1308 | C9: ='Classement MS'!C9 -> 8505.4229 | D9: 8 | E9: ='Classement RoC'!B9 -> .BARBAPAPA66 | F9: ='Classement RoC'!C9 -> 5382.8454
A10: 9 | B10: ='Classement MS'!B10 -> Immond | C10: ='Classement MS'!C10 -> 8150.0787 | D10: 9 | E10: ='Classement RoC'!B10 -> rastamokett | F10: ='Classement RoC'!C10 -> 5302.7597
A11: 10 | B11: ='Classement MS'!B11 -> jejehehe | C11: ='Classement MS'!C11 -> 8037.8864 | D11: 10 | E11: ='Classement RoC'!B11 -> _VisMaVie_ | F11: ='Classement RoC'!C11 -> 5252.0653
A12: Kill the PPCien
A13: 1 | B13: ='Classement Kill'!B2 -> kinchuck | C13: ='Classement Kill'!C2 -> 3091.9629
A14: 2 | B14: ='Classement Kill'!B3 -> alexinzaghi | C14: ='Classement Kill'!C3 -> 2996.6597
A15: 3 | B15: ='Classement Kill'!B4 -> Vaillant 86 | C15: ='Classement Kill'!C4 -> 2921.4216
A16: 4 | B16: ='Classement Kill'!B5 -> RRazeRR_ | C16: ='Classement Kill'!C5 -> 2834.401
A17: 5 | B17: ='Classement Kill'!B6 -> _Sale-Bet_ | C17: ='Classement Kill'!C6 -> 2753.1718
A18: 6 | B18: ='Classement Kill'!B7 -> christ86000 | C18: ='Classement Kill'!C7 -> 2636.1197
A19: 7 | B19: ='Classement Kill'!B8 -> jejehehe | C19: ='Classement Kill'!C8 -> 2459.9007
A20: 8 | B20: ='Classement Kill'!B9 -> Pitt86700 | C20: ='Classement Kill'!C9 -> 2459.8301
A21: 9 | B21: ='Classement Kill'!B10 -> TontonZgueg | C21: ='Classement Kill'!C10 -> 2436.7123
A22: 10 | B22: ='Classement Kill'!B11 -> emmanuel.g | C22: ='Classement Kill'!C11 -> 2343.3016

Sheet Classement MS
A1: Classement | B1: PSEUDO | C1: Points | E1: MS1 | F1: pts1 | G1: MS2 | H1: pts2 | I1: MS3 | J1: pts3 | K1: MS4 | L1: pts4 | M1: MS5 | N1: pts5 | O1: MS6 | P1: pts6 | Q1: MS7 | R1: pts7 | S1: MS8 | T1: pts8 | U1: MS9 | V1: pts9 | W1: MS10 | X1: pts10 | Y1: MS11 | Z1: pts11 | AA1: MS12 | AB1: pts12 | AC1: MS13 | AD1: pts13 | AE1: PSEUDO | AF1: Points
A2: =ROW()-1 -> 1 | B2: {=SORT(AE2:AF251,2,FALSE)} -> _VisMaVie_ | C2: 10234.559 | E2: =IFERROR(VLOOKUP($B2,'MS1'!$A$1:$B$160,2,0),"0") -> 7 | F2: =IFERROR(VLOOKUP(E2,'MS1'!$B$1:$C$161,2,0),0) -> 1280.3612 | G2: =IFERROR(VLOOKUP($B2,'MS2'!$A$1:$B$160,2,0),"0") -> 51 | H2: =IFERROR(VLOOKUP(G2,'MS2'!$B$1:$C$161,2,0),0) -> 235.03228 | I2: =IFERROR(VLOOKUP($B2,'MS3'!$A$1:$B$161,2,0),0) -> 1 | J2: =IFERROR(VLOOKUP(I2,'MS3'!$B$1:$C$161,2,0),0) -> 2339.0286 | K2: =IFERROR(VLOOKUP($B2,'MS4'!$A$1:$B$160,2,0),"0") -> 9 | L2: =IFERROR(VLOOKUP(K2,'MS4'!$B$1:$C$161,2,0),0) -> 1143.9347 | M2: =IFERROR(VLOOKUP($B2,'MS5'!$A$1:$B$160,2,0),"0") -> 31 | N2: =IFERROR(VLOOKUP(M2,'MS5'!$B$1:$C$161,2,0),0) -> 485.17021 | O2: =IFERROR(VLOOKUP($B2,'MS6'!$A$1:$B$160,2,0),"0") -> 5 | P2: =IFERROR(VLOOKUP(O2,'MS6'!$B$1:$C$161,2,0),0) -> 1430.1798 | Q2: =IFERROR(VLOOKUP($B2,'MS7'!$A$1:$B$160,2,0),"0") -> 15 | R2: =IFERROR(VLOOKUP(Q2,'MS7'!$B$1:$C$161,2,0),0) -> 923.86036 | S2: =IFERROR(VLOOKUP($B2,'MS8'!$A$1:$B$160,2,0),"0") -> 60 | T2: =IFERROR(VLOOKUP(S2,'MS8'!$B$1:$C$161,2,0),0) -> 108.05823 | U2: =IFERROR(VLOOKUP($B2,'MS9'!$A$1:$B$160,2,0),"0") -> 24 | V2: =IFERROR(VLOOKUP(U2,'MS9'!$B$1:$C$161,2,0),0) -> 655.58426 | W2: =IFERROR(VLOOKUP($B2,'MS10'!$A$1:$B$160,2,0),"0") -> 20 | X2: =IFERROR(VLOOKUP(W2,'MS10'!$B$1:$C$161,2,0),0) -> 743.63528 | Y2: =IFERROR(VLOOKUP($B2,'MS11'!$A$1:$B$160,2,0),"0") -> 38 | Z2: =IFERROR(VLOOKUP(Y2,'MS11'!$B$1:$C$161,2,0),0) -> 360.22901 | AA2: =IFERROR(VLOOKUP($B2,'MS12'!$A$1:$B$160,2,0),"0") -> 10 | AB2: =IFERROR(VLOOKUP(AA2,'MS12'!$B$1:$C$161,2,0),0) -> 872.57547 | AC2: =IFERROR(VLOOKUP($B2,'MS13'!$A$1:$B$160,2,0),"0") -> 0 | AD2: =IFERROR(VLOOKUP(AC2,'MS13'!$B$1:$C$161,2,0),0) -> 0 | AE2: =IFERROR(__xludf.DUMMYFUNCTION("UNIQUE(FLATTEN({'MS1'!A2:A1000;'MS2'!A2:A1000;'MS3'!A2:A1000;'MS4'!A2:A1000;'MS5'!A2:A1000;'MS6'!A2:A1000;'MS7'!A2:A1000;'MS8'!A2:A1000;'MS9'!A2:A1000;'MS10'!A2:A1000;'MS11'!A2:A1000;'MS12'!A2:A1000;'MS13'!A2:A1000 }))"),"Pitt86700") -> Pitt86700 | AF2: =SUM(AG2:AR2)-small((AG2:AR2),1)-small((AG2:AR2),2) -> 5381.2535 | AG2: =IFERROR(VLOOKUP($AE2,'MS1'!$A$1:$C$161,3,0),0) -> 2280.9489 | AH2: =IFERROR(VLOOKUP($AE2,'MS2'!$A$1:$C$161,3,0),0) -> 892.5452 | AI2: =IFERROR(VLOOKUP($AE2,'MS3'!$A$1:$C$161,3,0),0) -> 187.98927 | AJ2: =IFERROR(VLOOKUP($AE2,'MS4'!$A$1:$C$161,3,0),0) -> 290.17062 | AK2: =IFERROR(VLOOKUP($AE2,'MS5'!$A$1:$C$161,3,0),0) -> 160.64724 | AL2: =IFERROR(VLOOKUP($AE2,'MS6'!$A$1:$C$161,3,0),0) -> 0 | AM2: =IFERROR(VLOOKUP($AE2,'MS7'!$A$1:$C$161,3,0),0) -> 442.31327 | AN2: =IFERROR(VLOOKUP($AE2,'MS8'!$A$1:$C$161,3,0),0) -> 450.18548 | AO2: =IFERROR(VLOOKUP($AE2,'MS9'!$A$1:$C$161,3,0),0) -> 457.83847 | AP2: =IFERROR(VLOOKUP($AE2,'MS10'!$A$1:$C$161,3,0),0) -> 0 | AQ2: =IFERROR(VLOOKUP($AE2,'MS11'!$A$1:$C$161,3,0),0) -> 218.61507 | AR2: =IFERROR(VLOOKUP($AE2,'MS12'!$A$1:$C$161,3,0),0) -> 0 | AS2: =IFERROR(VLOOKUP($AE2,'MS13'!$A$1:$C$161,3,0),0) -> 0
A3: =ROW()-1 -> 2 | B3: Xenocq79 | C3: 10036.336 | E3: =IFERROR(VLOOKUP($B3,'MS1'!$A$1:$B$160,2,0),"0") -> 0 | F3: =IFERROR(VLOOKUP(E3,'MS1'!$B$1:$C$161,2,0),0) -> 0 | G3: =IFERROR(VLOOKUP($B3,'MS2'!$A$1:$B$160,2,0),"0") -> 13 | H3: =IFERROR(VLOOKUP(G3,'MS2'!$B$1:$C$161,2,0),0) -> 992.32852 | I3: =IFERROR(VLOOKUP($B3,'MS3'!$A$1:$B$161,2,0),0) -> 3 | J3: =IFERROR(VLOOKUP(I3,'MS3'!$B$1:$C$161,2,0),0) -> 1730.507 | K3: =IFERROR(VLOOKUP($B3,'MS4'!$A$1:$B$160,2,0),"0") -> 8 | L3: =IFERROR(VLOOKUP(K3,'MS4'!$B$1:$C$161,2,0),0) -> 1198.432 | M3: =IFERROR(VLOOKUP($B3,'MS5'!$A$1:$B$160,2,0),"0") -> 42 | N3: =IFERROR(VLOOKUP(M3,'MS5'!$B$1:$C$161,2,0),0) -> 295.11518 | O3: =IFERROR(VLOOKUP($B3,'MS6'!$A$1:$B$160,2,0),"0") -> 19 | P3: =IFERROR(VLOOKUP(O3,'MS6'!$B$1:$C$161,2,0),0) -> 800.26675 | Q3: =IFERROR(VLOOKUP($B3,'MS7'!$A$1:$B$160,2,0),"0") -> 0 | R3: =IFERROR(VLOOKUP(Q3,'MS7'!$B$1:$C$161,2,0),0) -> 0 | S3: =IFERROR(VLOOKUP($B3,'MS8'!$A$1:$B$160,2,0),"0") -> 7 | T3: =IFERROR(VLOOKUP(S3,'MS8'!$B$1:$C$161,2,0),0) -> 1273.7094 | U3: =IFERROR(VLOOKUP($B3,'MS9'!$A$1:$B$160,2,0),"0") -> 28 | V3: =IFERROR(VLOOKUP(U3,'MS9'!$B$1:$C$161,2,0),0) -> 570.72398 | W3: =IFERROR(VLOOKUP($B3,'MS10'!$A$1:$B$160,2,0),"0") -> 12 | X3: =IFERROR(VLOOKUP(W3,'MS10'!$B$1:$C$161,2,0),0) -> 995.14308 | Y3: =IFERROR(VLOOKUP($B3,'MS11'!$A$1:$B$160,2,0),"0") -> 12 | Z3: =IFERROR(VLOOKUP(Y3,'MS11'!$B$1:$C$161,2,0),0) -> 980.30099 | AA3: =IFERROR(VLOOKUP($B3,'MS12'!$A$1:$B$160,2,0),"0") -> 5 | AB3: =IFERROR(VLOOKUP(AA3,'MS12'!$B$1:$C$161,2,0),0) -> 1199.8093 | AC3: =IFERROR(VLOOKUP($B3,'MS13'!$A$1:$B$160,2,0),"0") -> 0 | AD3: =IFERROR(VLOOKUP(AC3,'MS13'!$B$1:$C$161,2,0),0) -> 0 | AE3: =IFERROR(__xludf.DUMMYFUNCTION("""COMPUTED_VALUE"""),"Le_Pictavien") -> Le_Pictavien | AF3: =SUM(AG3:AR3)-small((AG3:AR3),1)-small((AG3:AR3),2) -> 2354.1564 | AG3: =IFERROR(VLOOKUP($AE3,'MS1'!$A$1:$C$161,3,0),0) -> 1890.244 | AH3: =IFERROR(VLOOKUP($AE3,'MS2'!$A$1:$C$161,3,0),0) -> 143.74432 | AI3: =IFERROR(VLOOKUP($AE3,'MS3'!$A$1:$C$161,3,0),0) -> 0 | AJ3: =IFERROR(VLOOKUP($AE3,'MS4'!$A$1:$C$161,3,0),0) -> 320.16807 | AK3: =IFERROR(VLOOKUP($AE3,'MS5'!$A$1:$C$161,3,0),0) -> 0 | AL3: =IFERROR(VLOOKUP($AE3,'MS6'!$A$1:$C$161,3,0),0) -> 0 | AM3: =IFERROR(VLOOKUP($AE3,'MS7'!$A$1:$C$161,3,0),0) -> 0 | AN3: =IFERROR(VLOOKUP($AE3,'MS8'!$A$1:$C$161,3,0),0) -> 0 | AO3: =IFERROR(VLOOKUP($AE3,'MS9'!$A$1:$C$161,3,0),0) -> 0 | AP3: =IFERROR(VLOOKUP($AE3,'MS10'!$A$1:$C$161,3,0),0) -> 0 | AQ3: =IFERROR(VLOOKUP($AE3,'MS11'!$A$1:$C$161,3,0),0) -> 0 | AR3: =IFERROR(VLOOKUP($AE3,'MS12'!$A$1:$C$161,3,0),0) -> 0 | AS3: =IFERROR(VLOOKUP($AE3,'MS13'!$A$1:$C$161,3,0),0) -> 0
A4: =ROW()-1 -> 3 | B4: Mako Lemore | C4: 9523.2264 | E4: =IFERROR(VLOOKUP($B4,'MS1'!$A$1:$B$160,2,0),"0") -> 19 | F4: =IFERROR(VLOOKUP(E4,'MS1'!$B$1:$C$161,2,0),0) -> 807.5106 | G4: =IFERROR(VLOOKUP($B4,'MS2'!$A$1:$B$160,2,0),"0") -> 38 | H4: =IFERROR(VLOOKUP(G4,'MS2'!$B$1:$C$161,2,0),0) -> 426.05978 | I4: =IFERROR(VLOOKUP($B4,'MS3'!$A$1:$B$161,2,0),0) -> 2 | J4: =IFERROR(VLOOKUP(I4,'MS3'!$B$1:$C$161,2,0),0) -> 1941.0008 | K4: =IFERROR(VLOOKUP($B4,'MS4'!$A$1:$B$160,2,0),"0") -> 47 | L4: =IFERROR(VLOOKUP(K4,'MS4'!$B$1:$C$161,2,0),0) -> 260.93925 | M4: =IFERROR(VLOOKUP($B4,'MS5'!$A$1:$B$160,2,0),"0") -> 8 | N4: =IFERROR(VLOOKUP(M4,'MS5'!$B$1:$C$161,2,0),0) -> 1169.9701 | O4: =IFERROR(VLOOKUP($B4,'MS6'!$A$1:$B$160,2,0),"0") -> 45 | P4: =IFERROR(VLOOKUP(O4,'MS6'!$B$1:$C$161,2,0),0) -> 309.64301 | Q4: =IFERROR(VLOOKUP($B4,'MS7'!$A$1:$B$160,2,0),"0") -> 27 | R4: =IFERROR(VLOOKUP(Q4,'MS7'!$B$1:$C$161,2,0),0) -> 623.58258 | S4: =IFERROR(VLOOKUP($B4,'MS8'!$A$1:$B$160,2,0),"0") -> 45 | T4: =IFERROR(VLOOKUP(S4,'MS8'!$B$1:$C$161,2,0),0) -> 309.64301 | U4: =IFERROR(VLOOKUP($B4,'MS9'!$A$1:$B$160,2,0),"0") -> 19 | V4: =IFERROR(VLOOKUP(U4,'MS9'!$B$1:$C$161,2,0),0) -> 777.75264 | W4: =IFERROR(VLOOKUP($B4,'MS10'!$A$1:$B$160,2,0),"0") -> 46 | X4: =IFERROR(VLOOKUP(W4,'MS10'!$B$1:$C$161,2,0),0) -> 254.95828 | Y4: =IFERROR(VLOOKUP($B4,'MS11'!$A$1:$B$160,2,0),"0") -> 8 | Z4: =IFERROR(VLOOKUP(Y4,'MS11'!$B$1:$C$161,2,0),0) -> 1169.9701 | AA4: =IFERROR(VLOOKUP($B4,'MS12'!$A$1:$B$160,2,0),"0") -> 1 | AB4: =IFERROR(VLOOKUP(AA4,'MS12'!$B$1:$C$161,2,0),0) -> 1988.0938 | AC4: =IFERROR(VLOOKUP($B4,'MS13'!$A$1:$B$160,2,0),"0") -> 0 | AD4: =IFERROR(VLOOKUP(AC4,'MS13'!$B$1:$C$161,2,0),0) -> 0 | AE4: =IFERROR(__xludf.DUMMYFUNCTION("""COMPUTED_VALUE"""),"Rod_John_VI") -> Rod_John_VI | AF4: =SUM(AG4:AR4)-small((AG4:AR4),1)-small((AG4:AR4),2) -> 6660.0564 | AG4: =IFERROR(VLOOKUP($AE4,'MS1'!$A$1:$C$161,3,0),0) -> 1682.9102 | AH4: =IFERROR(VLOOKUP($AE4,'MS2'!$A$1:$C$161,3,0),0) -> 546.37477 | AI4: =IFERROR(VLOOKUP($AE4,'MS3'!$A$1:$C$161,3,0),0) -> 636.59567 | AJ4: =IFERROR(VLOOKUP($AE4,'MS4'!$A$1:$C$161,3,0),0) -> 812.66553 | AK4: =IFERROR(VLOOKUP($AE4,'MS5'!$A$1:$C$161,3,0),0) -> 653.45037 | AL4: =IFERROR(VLOOKUP($AE4,'MS6'!$A$1:$C$161,3,0),0) -> 324.36203 | AM4: =IFERROR(VLOOKUP($AE4,'MS7'!$A$1:$C$161,3,0),0) -> 584.05106 | AN4: =IFERROR(VLOOKUP($AE4,'MS8'!$A$1:$C$161,3,0),0) -> 885.52136 | AO4: =IFERROR(VLOOKUP($AE4,'MS9'!$A$1:$C$161,3,0),0) -> 49.248624 | AP4: =IFERROR(VLOOKUP($AE4,'MS10'!$A$1:$C$161,3,0),0) -> 484.87681 | AQ4: =IFERROR(VLOOKUP($AE4,'MS11'!$A$1:$C$161,3,0),0) -> 0 | AR4: =IFERROR(VLOOKUP($AE4,'MS12'!$A$1:$C$161,3,0),0) -> 0 | AS4: =IFERROR(VLOOKUP($AE4,'MS13'!$A$1:$C$161,3,0),0) -> 0
A5: =ROW()-1 -> 4 | B5: 8kinder6 | C5: 9401.2846 | E5: =IFERROR(VLOOKUP($B5,'MS1'!$A$1:$B$160,2,0),"0") -> 46 | F5: =IFERROR(VLOOKUP(E5,'MS1'!$B$1:$C$161,2,0),0) -> 304.64092 | G5: =IFERROR(VLOOKUP($B5,'MS2'!$A$1:$B$160,2,0),"0") -> 50 | H5: =IFERROR(VLOOKUP(G5,'MS2'!$B$1:$C$161,2,0),0) -> 248.63024 | I5: =IFERROR(VLOOKUP($B5,'MS3'!$A$1:$B$161,2,0),0) -> 47 | J5: =IFERROR(VLOOKUP(I5,'MS3'!$B$1:$C$161,2,0),0) -> 352.62957 | K5: =IFERROR(VLOOKUP($B5,'MS4'!$A$1:$B$160,2,0),"0") -> 10 | L5: =IFERROR(VLOOKUP(K5,'MS4'!$B$1:$C$161,2,0),0) -> 1094.9864 | M5: =IFERROR(VLOOKUP($B5,'MS5'!$A$1:$B$160,2,0),"0") -> 14 | N5: =IFERROR(VLOOKUP(M5,'MS5'!$B$1:$C$161,2,0),0) -> 906.25131 | O5: =IFERROR(VLOOKUP($B5,'MS6'!$A$1:$B$160,2,0),"0") -> 4 | P5: =IFERROR(VLOOKUP(O5,'MS6'!$B$1:$C$161,2,0),0) -> 1535.8596 | Q5: =IFERROR(VLOOKUP($B5,'MS7'!$A$1:$B$160,2,0),"0") -> 28 | R5: =IFERROR(VLOOKUP(Q5,'MS7'!$B$1:$C$161,2,0),0) -> 603.56805 | S5: =IFERROR(VLOOKUP($B5,'MS8'!$A$1:$B$160,2,0),"0") -> 50 | T5: =IFERROR(VLOOKUP(S5,'MS8'!$B$1:$C$161,2,0),0) -> 238.76148 | U5: =IFERROR(VLOOKUP($B5,'MS9'!$A$1:$B$160,2,0),"0") -> 17 | V5: =IFERROR(VLOOKUP(U5,'MS9'!$B$1:$C$161,2,0),0) -> 833.71168 | W5: =IFERROR(VLOOKUP($B5,'MS10'!$A$1:$B$160,2,0),"0") -> 50 | X5: =IFERROR(VLOOKUP(W5,'MS10'!$B$1:$C$161,2,0),0) -> 197.13046 | Y5: =IFERROR(VLOOKUP($B5,'MS11'!$A$1:$B$160,2,0),"0") -> 1 | Z5: =IFERROR(VLOOKUP(Y5,'MS11'!$B$1:$C$161,2,0),0) -> 2218.0752 | AA5: =IFERROR(VLOOKUP($B5,'MS12'!$A$1:$B$160,2,0),"0") -> 4 | AB5: =IFERROR(VLOOKUP(AA5,'MS12'!$B$1:$C$161,2,0),0) -> 1302.9316 | AC5: =IFERROR(VLOOKUP($B5,'MS13'!$A$1:$B$160,2,0),"0") -> 0 | AD5: =IFERROR(VLOOKUP(AC5,'MS13'!$B$1:$C$161,2,0),0) -> 0 | AE5: =IFERROR(__xludf.DUMMYFUNCTION("""COMPUTED_VALUE"""),"POMB1664") -> POMB1664 | AF5: =SUM(AG5:AR5)-small((AG5:AR5),1)-small((AG5:AR5),2) -> 5560.2121 | AG5: =IFERROR(VLOOKUP($AE5,'MS1'!$A$1:$C$161,3,0),0) -> 1542.7494 | AH5: =IFERROR(VLOOKUP($AE5,'MS2'!$A$1:$C$161,3,0),0) -> 363.5902 | AI5: =IFERROR(VLOOKUP($AE5,'MS3'!$A$1:$C$161,3,0),0) -> 582.30023 | AJ5: =IFERROR(VLOOKUP($AE5,'MS4'!$A$1:$C$161,3,0),0) -> 0 | AK5: =IFERROR(VLOOKUP($AE5,'MS5'!$A$1:$C$161,3,0),0) -> 394.34171 | AL5: =IFERROR(VLOOKUP($AE5,'MS6'!$A$1:$C$161,3,0),0) -> 0 | AM5: =IFERROR(VLOOKUP($AE5,'MS7'!$A$1:$C$161,3,0),0) -> 82.135208 | AN5: =IFERROR(VLOOKUP($AE5,'MS8'!$A$1:$C$161,3,0),0) -> 985.49712 | AO5: =IFERROR(VLOOKUP($AE5,'MS9'!$A$1:$C$161,3,0),0) -> 389.62262 | AP5: =IFERROR(VLOOKUP($AE5,'MS10'!$A$1:$C$161,3,0),0) -> 347.40013 | AQ5: =IFERROR(VLOOKUP($AE5,'MS11'!$A$1:$C$161,3,0),0) -> 872.57547 | AR5: =IFERROR(VLOOKUP($AE5,'MS12'!$A$1:$C$161,3,0),0) -> 0 | AS5: =IFERROR(VLOOKUP($AE5,'MS13'!$A$1:$C$161,3,0),0) -> 0
A6: =ROW()-1 -> 5 | B6: titounio | C6: 9367.9583 | E6: =IFERROR(VLOOKUP($B6,'MS1'!$A$1:$B$160,2,0),"0") -> 43 | F6: =IFERROR(VLOOKUP(E6,'MS1'!$B$1:$C$161,2,0),0) -> 348.54841 | G6: =IFERROR(VLOOKUP($B6,'MS2'!$A$1:$B$160,2,0),"0") -> 0 | H6: =IFERROR(VLOOKUP(G6,'MS2'!$B$1:$C$161,2,0),0) -> 0 | I6: =IFERROR(VLOOKUP($B6,'MS3'!$A$1:$B$161,2,0),0) -> 14 | J6: =IFERROR(VLOOKUP(I6,'MS3'!$B$1:$C$161,2,0),0) -> 1002.3756 | K6: =IFERROR(VLOOKUP($B6,'MS4'!$A$1:$B$160,2,0),"0") -> 21 | L6: =IFERROR(VLOOKUP(K6,'MS4'!$B$1:$C$161,2,0),0) -> 734.06902 | M6: =IFERROR(VLOOKUP($B6,'MS5'!$A$1:$B$160,2,0),"0") -> 20 | N6: =IFERROR(VLOOKUP(M6,'MS5'!$B$1:$C$161,2,0),0) -> 727.43724 | O6: =IFERROR(VLOOKUP($B6,'MS6'!$A$1:$B$160,2,0),"0") -> 1 | P6: =IFERROR(VLOOKUP(O6,'MS6'!$B$1:$C$161,2,0),0) -> 2272.2812 | Q6: =IFERROR(VLOOKUP($B6,'MS7'!$A$1:$B$160,2,0),"0") -> 25 | R6: =IFERROR(VLOOKUP(Q6,'MS7'!$B$1:$C$161,2,0),0) -> 665.26392 | S6: =IFERROR(VLOOKUP($B6,'MS8'!$A$1:$B$160,2,0),"0") -> 4 | T6: =IFERROR(VLOOKUP(S6,'MS8'!$B$1:$C$161,2,0),0) -> 1535.8596 | U6: =IFERROR(VLOOKUP($B6,'MS9'!$A$1:$B$160,2,0),"0") -> 48 | V6: =IFERROR(VLOOKUP(U6,'MS9'!$B$1:$C$161,2,0),0) -> 236.26219 | W6: =IFERROR(VLOOKUP($B6,'MS10'!$A$1:$B$160,2,0),"0") -> 9 | X6: =IFERROR(VLOOKUP(W6,'MS10'!$B$1:$C$161,2,0),0) -> 1129.8801 | Y6: =IFERROR(VLOOKUP($B6,'MS11'!$A$1:$B$160,2,0),"0") -> 30 | Z6: =IFERROR(VLOOKUP(Y6,'MS11'!$B$1:$C$161,2,0),0) -> 504.45009 | AA6: =IFERROR(VLOOKUP($B6,'MS12'!$A$1:$B$160,2,0),"0") -> 22 | AB6: =IFERROR(VLOOKUP(AA6,'MS12'!$B$1:$C$161,2,0),0) -> 447.79305 | AC6: =IFERROR(VLOOKUP($B6,'MS13'!$A$1:$B$160,2,0),"0") -> 0 | AD6: =IFERROR(VLOOKUP(AC6,'MS13'!$B$1:$C$161,2,0),0) -> 0 | AE6: =IFERROR(__xludf.DUMMYFUNCTION("""COMPUTED_VALUE"""),"jejehehe") -> jejehehe | AF6: =SUM(AG6:AR6)-small((AG6:AR6),1)-small((AG6:AR6),2) -> 8037.8864 | AG6: =IFERROR(VLOOKUP($AE6,'MS1'!$A$1:$C$161,3,0),0) -> 1436.9356 | AH6: =IFERROR(VLOOKUP($AE6,'MS2'!$A$1:$C$161,3,0),0) -> 94.245044 | AI6: =IFERROR(VLOOKUP($AE6,'MS3'!$A$1:$C$161,3,0),0) -> 805.10986 | AJ6: =IFERROR(VLOOKUP($AE6,'MS4'!$A$1:$C$161,3,0),0) -> 1050.446 | AK6: =IFERROR(VLOOKUP($AE6,'MS5'!$A$1:$C$161,3,0),0) -> 1115.3668 | AL6: =IFERROR(VLOOKUP($AE6,'MS6'!$A$1:$C$161,3,0),0) -> 354.40889 | AM6: =IFERROR(VLOOKUP($AE6,'MS7'!$A$1:$C$161,3,0),0) -> 862.83965 | AN6: =IFERROR(VLOOKUP($AE6,'MS8'!$A$1:$C$161,3,0),0) -> 484.34128 | AO6: =IFERROR(VLOOKUP($AE6,'MS9'!$A$1:$C$161,3,0),0) -> 678.37297 | AP6: =IFERROR(VLOOKUP($AE6,'MS10'!$A$1:$C$161,3,0),0) -> 522.62803 | AQ6: =IFERROR(VLOOKUP($AE6,'MS11'!$A$1:$C$161,3,0),0) -> 727.43724 | AR6: =IFERROR(VLOOKUP($AE6,'MS12'!$A$1:$C$161,3,0),0) -> 226.0504 | AS6: =IFERROR(VLOOKUP($AE6,'MS13'!$A$1:$C$161,3,0),0) -> 0
A7: =ROW()-1 -> 6 | B7: alexinzaghi | C7: 9284.116 | E7: =IFERROR(VLOOKUP($B7,'MS1'!$A$1:$B$160,2,0),"0") -> 29 | F7: =IFERROR(VLOOKUP(E7,'MS1'!$B$1:$C$161,2,0),0) -> 584.05106 | G7: =IFERROR(VLOOKUP($B7,'MS2'!$A$1:$B$160,2,0),"0") -> 5 | H7: =IFERROR(VLOOKUP(G7,'MS2'!$B$1:$C$161,2,0),0) -> 1436.9356 | I7: =IFERROR(VLOOKUP($B7,'MS3'!$A$1:$B$161,2,0),0) -> 58 | J7: =IFERROR(VLOOKUP(I7,'MS3'!$B$1:$C$161,2,0),0) -> 211.89394 | K7: =IFERROR(VLOOKUP($B7,'MS4'!$A$1:$B$160,2,0),"0") -> 41 | L7: =IFERROR(VLOOKUP(K7,'MS4'!$B$1:$C$161,2,0),0) -> 351.00336 | M7: =IFERROR(VLOOKUP($B7,'MS5'!$A$1:$B$160,2,0),"0") -> 5 | N7: =IFERROR(VLOOKUP(M7,'MS5'!$B$1:$C$161,2,0),0) -> 1387.6185 | O7: =IFERROR(VLOOKUP($B7,'MS6'!$A$1:$B$160,2,0),"0") -> 21 | P7: =IFERROR(VLOOKUP(O7,'MS6'!$B$1:$C$161,2,0),0) -> 749.27214 | Q7: =IFERROR(VLOOKUP($B7,'MS7'!$A$1:$B$160,2,0),"0") -> 5 | R7: =IFERROR(VLOOKUP(Q7,'MS7'!$B$1:$C$161,2,0),0) -> 1436.9356 | S7: =IFERROR(VLOOKUP($B7,'MS8'!$A$1:$B$160,2,0),"0") -> 24 | T7: =IFERROR(VLOOKUP(S7,'MS8'!$B$1:$C$161,2,0),0) -> 679.38018 | U7: =IFERROR(VLOOKUP($B7,'MS9'!$A$1:$B$160,2,0),"0") -> 7 | V7: =IFERROR(VLOOKUP(U7,'MS9'!$B$1:$C$161,2,0),0) -> 1253.1687 | W7: =IFERROR(VLOOKUP($B7,'MS10'!$A$1:$B$160,2,0),"0") -> 18 | X7: =IFERROR(VLOOKUP(W7,'MS10'!$B$1:$C$161,2,0),0) -> 797.41555 | Y7: =IFERROR(VLOOKUP($B7,'MS11'!$A$1:$B$160,2,0),"0") -> 27 | Z7: =IFERROR(VLOOKUP(Y7,'MS11'!$B$1:$C$161,2,0),0) -> 564.99699 | AA7: =IFERROR(VLOOKUP($B7,'MS12'!$A$1:$B$160,2,0),"0") -> 24 | AB7: =IFERROR(VLOOKUP(AA7,'MS12'!$B$1:$C$161,2,0),0) -> 394.34171 | AC7: =IFERROR(VLOOKUP($B7,'MS13'!$A$1:$B$160,2,0),"0") -> 0 | AD7: =IFERROR(VLOOKUP(AC7,'MS13'!$B$1:$C$161,2,0),0) -> 0 | AE7: =IFERROR(__xludf.DUMMYFUNCTION("""COMPUTED_VALUE"""),"Fishtipanda") -> Fishtipanda | AF7: =SUM(AG7:AR7)-small((AG7:AR7),1)-small((AG7:AR7),2) -> 6903.0522 | AG7: =IFERROR(VLOOKUP($AE7,'MS1'!$A$1:$C$161,3,0),0) -> 1351.7881 | AH7: =IFERROR(VLOOKUP($AE7,'MS2'!$A$1:$C$161,3,0),0) -> 807.5106 | AI7: =IFERROR(VLOOKUP($AE7,'MS3'!$A$1:$C$161,3,0),0) -> 437.85315 | AJ7: =IFERROR(VLOOKUP($AE7,'MS4'!$A$1:$C$161,3,0),0) -> 246.59097 | AK7: =IFERROR(VLOOKUP($AE7,'MS5'!$A$1:$C$161,3,0),0) -> 360.22901 | AL7: =IFERROR(VLOOKUP($AE7,'MS6'!$A$1:$C$161,3,0),0) -> 1675.7792 | AM7: =IFERROR(VLOOKUP($AE7,'MS7'!$A$1:$C$161,3,0),0) -> 410.07378 | AN7: =IFERROR(VLOOKUP($AE7,'MS8'!$A$1:$C$161,3,0),0) -> 0 | AO7: =IFERROR(VLOOKUP($AE7,'MS9'!$A$1:$C$161,3,0),0) -> 1409.3517 | AP7: =IFERROR(VLOOKUP($AE7,'MS10'!$A$1:$C$161,3,0),0) -> 0 | AQ7: =IFERROR(VLOOKUP($AE7,'MS11'!$A$1:$C$161,3,0),0) -> 203.87573 | AR7: =IFERROR(VLOOKUP($AE7,'MS12'!$A$1:$C$161,3,0),0) -> 0 | AS7: =IFERROR(VLOOKUP($AE7,'MS13'!$A$1:$C$161,3,0),0) -> 0
A8: =ROW()-1 -> 7 | B8: TontonZgueg | C8: 9180.7183 | E8: =IFERROR(VLOOKUP($B8,'MS1'!$A$1:$B$160,2,0),"0") -> 40 | F8: =IFERROR(VLOOKUP(E8,'MS1'!$B$1:$C$161,2,0),0) -> 394.34171 | G8: =IFERROR(VLOOKUP($B8,'MS2'!$A$1:$B$160,2,0),"0") -> 17 | H8: =IFERROR(VLOOKUP(G8,'MS2'!$B$1:$C$161,2,0),0) -> 862.83965 | I8: =IFERROR(VLOOKUP($B8,'MS3'!$A$1:$B$161,2,0),0) -> 69 | J8: =IFERROR(VLOOKUP(I8,'MS3'!$B$1:$C$161,2,0),0) -> 85.427886 | K8: =IFERROR(VLOOKUP($B8,'MS4'!$A$1:$B$160,2,0),"0") -> 27 | L8: =IFERROR(VLOOKUP(K8,'MS4'!$B$1:$C$161,2,0),0) -> 599.44996 | M8: =IFERROR(VLOOKUP($B8,'MS5'!$A$1:$B$160,2,0),"0") -> 22 | N8: =IFERROR(VLOOKUP(M8,'MS5'!$B$1:$C$161,2,0),0) -> 677.27144 | O8: =IFERROR(VLOOKUP($B8,'MS6'!$A$1:$B$160,2,0),"0") -> 14 | P8: =IFERROR(VLOOKUP(O8,'MS6'!$B$1:$C$161,2,0),0) -> 950.13179 | Q8: =IFERROR(VLOOKUP($B8,'MS7'!$A$1:$B$160,2,0),"0") -> 13 | R8: =IFERROR(VLOOKUP(Q8,'MS7'!$B$1:$C$161,2,0),0) -> 992.32852 | S8: =IFERROR(VLOOKUP($B8,'MS8'!$A$1:$B$160,2,0),"0") -> 0 | T8: =IFERROR(VLOOKUP(S8,'MS8'!$B$1:$C$161,2,0),0) -> 0 | U8: =IFERROR(VLOOKUP($B8,'MS9'!$A$1:$B$160,2,0),"0") -> 22 | V8: =IFERROR(VLOOKUP(U8,'MS9'!$B$1:$C$161,2,0),0) -> 701.90614 | W8: =IFERROR(VLOOKUP($B8,'MS10'!$A$1:$B$160,2,0),"0") -> 1 | X8: =IFERROR(VLOOKUP(W8,'MS10'!$B$1:$C$161,2,0),0) -> 2236.5826 | Y8: =IFERROR(VLOOKUP($B8,'MS11'!$A$1:$B$160,2,0),"0") -> 7 | Z8: =IFERROR(VLOOKUP(Y8,'MS11'!$B$1:$C$161,2,0),0) -> 1231.6806 | AA8: =IFERROR(VLOOKUP($B8,'MS12'!$A$1:$B$160,2,0),"0") -> 19 | AB8: =IFERROR(VLOOKUP(AA8,'MS12'!$B$1:$C$161,2,0),0) -> 534.18594 | AC8: =IFERROR(VLOOKUP($B8,'MS13'!$A$1:$B$160,2,0),"0") -> 0 | AD8: =IFERROR(VLOOKUP(AC8,'MS13'!$B$1:$C$161,2,0),0) -> 0 | AE8: =IFERROR(__xludf.DUMMYFUNCTION("""COMPUTED_VALUE"""),"_VisMaVie_") -> _VisMaVie_ | AF8: =SUM(AG8:AR8)-small((AG8:AR8),1)-small((AG8:AR8),2) -> 10234.559 | AG8: =IFERROR(VLOOKUP($AE8,'MS1'!$A$1:$C$161,3,0),0) -> 1280.3612 | AH8: =IFERROR(VLOOKUP($AE8,'MS2'!$A$1:$C$161,3,0),0) -> 235.03228 | AI8: =IFERROR(VLOOKUP($AE8,'MS3'!$A$1:$C$161,3,0),0) -> 2339.0286 | AJ8: =IFERROR(VLOOKUP($AE8,'MS4'!$A$1:$C$161,3,0),0) -> 1143.9347 | AK8: =IFERROR(VLOOKUP($AE8,'MS5'!$A$1:$C$161,3,0),0) -> 485.17021 | AL8: =IFERROR(VLOOKUP($AE8,'MS6'!$A$1:$C$161,3,0),0) -> 1430.1798 | AM8: =IFERROR(VLOOKUP($AE8,'MS7'!$A$1:$C$161,3,0),0) -> 923.86036 | AN8: =IFERROR(VLOOKUP($AE8,'MS8'!$A$1:$C$161,3,0),0) -> 108.05823 | AO8: =IFERROR(VLOOKUP($AE8,'MS9'!$A$1:$C$161,3,0),0) -> 655.58426 | AP8: =IFERROR(VLOOKUP($AE8,'MS10'!$A$1:$C$161,3,0),0) -> 743.63528 | AQ8: =IFERROR(VLOOKUP($AE8,'MS11'!$A$1:$C$161,3,0),0) -> 360.22901 | AR8: =IFERROR(VLOOKUP($AE8,'MS12'!$A$1:$C$161,3,0),0) -> 872.57547 | AS8: =IFERROR(VLOOKUP($AE8,'MS13'!$A$1:$C$161,3,0),0) -> 0
A9: =ROW()-1 -> 8 | B9: Phil1308 | C9: 8505.4229 | E9: =IFERROR(VLOOKUP($B9,'MS1'!$A$1:$B$160,2,0),"0") -> 55 | F9: =IFERROR(VLOOKUP(E9,'MS1'!$B$1:$C$161,2,0),0) -> 182.08201 | G9: =IFERROR(VLOOKUP($B9,'MS2'!$A$1:$B$160,2,0),"0") -> 3 | H9: =IFERROR(VLOOKUP(G9,'MS2'!$B$1:$C$161,2,0),0) -> 1682.9102 | I9: =IFERROR(VLOOKUP($B9,'MS3'!$A$1:$B$161,2,0),0) -> 4 | J9: =IFERROR(VLOOKUP(I9,'MS3'!$B$1:$C$161,2,0),0) -> 1588.6558 | K9: =IFERROR(VLOOKUP($B9,'MS4'!$A$1:$B$160,2,0),"0") -> 63 | L9: =IFERROR(VLOOKUP(K9,'MS4'!$B$1:$C$161,2,0),0) -> 48.501899 | M9: =IFERROR(VLOOKUP($B9,'MS5'!$A$1:$B$160,2,0),"0") -> 41 | N9: =IFERROR(VLOOKUP(M9,'MS5'!$B$1:$C$161,2,0),0) -> 311.03645 | O9: =IFERROR(VLOOKUP($B9,'MS6'!$A$1:$B$160,2,0),"0") -> 50 | P9: =IFERROR(VLOOKUP(O9,'MS6'!$B$1:$C$161,2,0),0) -> 238.76148 | Q9: =IFERROR(VLOOKUP($B9,'MS7'!$A$1:$B$160,2,0),"0") -> 0 | R9: =IFERROR(VLOOKUP(Q9,'MS7'!$B$1:$C$161,2,0),0) -> 0 | S9: =IFERROR(VLOOKUP($B9,'MS8'!$A$1:$B$160,2,0),"0") -> 35 | T9: =IFERROR(VLOOKUP(S9,'MS8'!$B$1:$C$161,2,0),0) -> 467.1056 | U9: =IFERROR(VLOOKUP($B9,'MS9'!$A$1:$B$160,2,0),"0") -> 4 | V9: =IFERROR(VLOOKUP(U9,'MS9'!$B$1:$C$161,2,0),0) -> 1514.6376 | W9: =IFERROR(VLOOKUP($B9,'MS10'!$A$1:$B$160,2,0),"0") -> 3 | X9: =IFERROR(VLOOKUP(W9,'MS10'!$B$1:$C$161,2,0),0) -> 1646.3279 | Y9: =IFERROR(VLOOKUP($B9,'MS11'!$A$1:$B$160,2,0),"0") -> 0 | Z9: =IFERROR(VLOOKUP(Y9,'MS11'!$B$1:$C$161,2,0),0) -> 0 | AA9: =IFERROR(VLOOKUP($B9,'MS12'!$A$1:$B$160,2,0),"0") -> 11 | AB9: =IFERROR(VLOOKUP(AA9,'MS12'!$B$1:$C$161,2,0),0) -> 825.40395 | AC9: =IFERROR(VLOOKUP($B9,'MS13'!$A$1:$B$160,2,0),"0") -> 0 | AD9: =IFERROR(VLOOKUP(AC9,'MS13'!$B$1:$C$161,2,0),0) -> 0 | AE9: =IFERROR(__xludf.DUMMYFUNCTION("""COMPUTED_VALUE"""),"Blochedu86") -> Blochedu86 | AF9: =SUM(AG9:AR9)-small((AG9:AR9),1)-small((AG9:AR9),2) -> 3737.1525 | AG9: =IFERROR(VLOOKUP($AE9,'MS1'!$A$1:$C$161,3,0),0) -> 1218.6687 | AH9: =IFERROR(VLOOKUP($AE9,'MS2'!$A$1:$C$161,3,0),0) -> 442.31327 | AI9: =IFERROR(VLOOKUP($AE9,'MS3'!$A$1:$C$161,3,0),0) -> 938.68912 | AJ9: =IFERROR(VLOOKUP($AE9,'MS4'!$A$1:$C$161,3,0),0) -> 0 | AK9: =IFERROR(VLOOKUP($AE9,'MS5'!$A$1:$C$161,3,0),0) -> 411.83722 | AL9: =IFERROR(VLOOKUP($AE9,'MS6'!$A$1:$C$161,3,0),0) -> 0 | AM9: =IFERROR(VLOOKUP($AE9,'MS7'!$A$1:$C$161,3,0),0) -> 564.99699 | AN9: =IFERROR(VLOOKUP($AE9,'MS8'!$A$1:$C$161,3,0),0) -> 0 | AO9: =IFERROR(VLOOKUP($AE9,'MS9'!$A$1:$C$161,3,0),0) -> 0 | AP9: =IFERROR(VLOOKUP($AE9,'MS10'!$A$1:$C$161,3,0),0) -> 0 | AQ9: =IFERROR(VLOOKUP($AE9,'MS11'!$A$1:$C$161,3,0),0) -> 0 | AR9: =IFERROR(VLOOKUP($AE9,'MS12'!$A$1:$C$161,3,0),0) -> 160.64724 | AS9: =IFERROR(VLOOKUP($AE9,'MS13'!$A$1:$C$161,3,0),0) -> 0
A10: =ROW()-1 -> 9 | B10: Immond | C10: 8150.0787 | E10: =IFERROR(VLOOKUP($B10,'MS1'!$A$1:$B$160,2,0),"0") -> 57 | F10: =IFERROR(VLOOKUP(E10,'MS1'!$B$1:$C$161,2,0),0) -> 156.40157 | G10: =IFERROR(VLOOKUP($B10,'MS2'!$A$1:$B$160,2,0),"0") -> 61 | H10: =IFERROR(VLOOKUP(G10,'MS2'!$B$1:$C$161,2,0),0) -> 106.45756 | I10: =IFERROR(VLOOKUP($B10,'MS3'!$A$1:$B$161,2,0),0) -> 53 | J10: =IFERROR(VLOOKUP(I10,'MS3'!$B$1:$C$161,2,0),0) -> 273.75636 | K10: =IFERROR(VLOOKUP($B10,'MS4'!$A$1:$B$160,2,0),"0") -> 25 | L10: =IFERROR(VLOOKUP(K10,'MS4'!$B$1:$C$161,2,0),0) -> 641.64996 | M10: =IFERROR(VLOOKUP($B10,'MS5'!$A$1:$B$160,2,0),"0") -> 7 | N10: =IFERROR(VLOOKUP(M10,'MS5'!$B$1:$C$161,2,0),0) -> 1231.6806 | O10: =IFERROR(VLOOKUP($B10,'MS6'!$A$1:$B$160,2,0),"0") -> 28 | P10: =IFERROR(VLOOKUP(O10,'MS6'!$B$1:$C$161,2,0),0) -> 595.59017 | Q10: =IFERROR(VLOOKUP($B10,'MS7'!$A$1:$B$160,2,0),"0") -> 4 | R10: =IFERROR(VLOOKUP(Q10,'MS7'!$B$1:$C$161,2,0),0) -> 1542.7494 | S10: =IFERROR(VLOOKUP($B10,'MS8'!$A$1:$B$160,2,0),"0") -> 1 | T10: =IFERROR(VLOOKUP(S10,'MS8'!$B$1:$C$161,2,0),0) -> 2272.2812 | U10: =IFERROR(VLOOKUP($B10,'MS9'!$A$1:$B$160,2,0),"0") -> 44 | V10: =IFERROR(VLOOKUP(U10,'MS9'!$B$1:$C$161,2,0),0) -> 295.11518 | W10: =IFERROR(VLOOKUP($B10,'MS10'!$A$1:$B$160,2,0),"0") -> 43 | X10: =IFERROR(VLOOKUP(W10,'MS10'!$B$1:$C$161,2,0),0) -> 300.23446 | Y10: =IFERROR(VLOOKUP($B10,'MS11'!$A$1:$B$160,2,0),"0") -> 42 | Z10: =IFERROR(VLOOKUP(Y10,'MS11'!$B$1:$C$161,2,0),0) -> 295.11518 | AA10: =IFERROR(VLOOKUP($B10,'MS12'!$A$1:$B$160,2,0),"0") -> 14 | AB10: =IFERROR(VLOOKUP(AA10,'MS12'!$B$1:$C$161,2,0),0) -> 701.90614 | AC10: =IFERROR(VLOOKUP($B10,'MS13'!$A$1:$B$160,2,0),"0") -> 0 | AD10: =IFERROR(VLOOKUP(AC10,'MS13'!$B$1:$C$161,2,0),0) -> 0 | AE10: =IFERROR(__xludf.DUMMYFUNCTION("""COMPUTED_VALUE"""),"chatouill86") -> chatouill86 | AF10: =SUM(AG10:AR10)-small((AG10:AR10),1)-small((AG10:AR10),2) -> 3301.282 | AG10: =IFERROR(VLOOKUP($AE10,'MS1'!$A$1:$C$161,3,0),0) -> 1164.2216 | AH10: =IFERROR(VLOOKUP($AE10,'MS2'!$A$1:$C$161,3,0),0) -> 1070.9527 | AI10: =IFERROR(VLOOKUP($AE10,'MS3'!$A$1:$C$161,3,0),0) -> 63.614864 | AJ10: =IFERROR(VLOOKUP($AE10,'MS4'!$A$1:$C$161,3,0),0) -> 24.062212 | AK10: =IFERROR(VLOOKUP($AE10,'MS5'!$A$1:$C$161,3,0),0) -> 203.87573 | AL10: =IFERROR(VLOOKUP($AE10,'MS6'!$A$1:$C$161,3,0),0) -> 47.074403 | AM10: =IFERROR(VLOOKUP($AE10,'MS7'!$A$1:$C$161,3,0),0) -> 70.124974 | AN10: =IFERROR(VLOOKUP($AE10,'MS8'!$A$1:$C$161,3,0),0) -> 133.19529 | AO10: =IFERROR(VLOOKUP($AE10,'MS9'!$A$1:$C$161,3,0),0) -> 0 | AP10: =IFERROR(VLOOKUP($AE10,'MS10'!$A$1:$C$161,3,0),0) -> 0 | AQ10: =IFERROR(VLOOKUP($AE10,'MS11'!$A$1:$C$161,3,0),0) -> 524.16014 | AR10: =IFERROR(VLOOKUP($AE10,'MS12'!$A$1:$C$161,3,0),0) -> 0 | AS10: =IFERROR(VLOOKUP($AE10,'MS13'!$A$1:$C$161,3,0),0) -> 0
A11: =ROW()-1 -> 10 | B11: jejehehe | C11: 8037.8864 | E11: =IFERROR(VLOOKUP($B11,'MS1'!$A$1:$B$160,2,0),"0") -> 5 | F11: =IFERROR(VLOOKUP(E11,'MS1'!$B$1:$C$161,2,0),0) -> 1436.9356 | G11: =IFERROR(VLOOKUP($B11,'MS2'!$A$1:$B$160,2,0),"0") -> 62 | H11: =IFERROR(VLOOKUP(G11,'MS2'!$B$1:$C$161,2,0),0) -> 94.245044 | I11: =IFERROR(VLOOKUP($B11,'MS3'!$A$1:$B$161,2,0),0) -> 21 | J11: =IFERROR(VLOOKUP(I11,'MS3'!$B$1:$C$161,2,0),0) -> 805.10986 | K11: =IFERROR(VLOOKUP($B11,'MS4'!$A$1:$B$160,2,0),"0") -> 11 | L11: =IFERROR(VLOOKUP(K11,'MS4'!$B$1:$C$161,2,0),0) -> 1050.446 | M11: =IFERROR(VLOOKUP($B11,'MS5'!$A$1:$B$160,2,0),"0") -> 9 | N11: =IFERROR(VLOOKUP(M11,'MS5'!$B$1:$C$161,2,0),0) -> 1115.3668 | O11: =IFERROR(VLOOKUP($B11,'MS6'!$A$1:$B$160,2,0),"0") -> 42 | P11: =IFERROR(VLOOKUP(O11,'MS6'!$B$1:$C$161,2,0),0) -> 354.40889 | Q11: =IFERROR(VLOOKUP($B11,'MS7'!$A$1:$B$160,2,0),"0") -> 17 | R11: =IFERROR(VLOOKUP(Q11,'MS7'!$B$1:$C$161,2,0),0) -> 862.83965 | S11: =IFERROR(VLOOKUP($B11,'MS8'!$A$1:$B$160,2,0),"0") -> 34 | T11: =IFERROR(VLOOKUP(S11,'MS8'!$B$1:$C$161,2,0),0) -> 484.34128 | U11: =IFERROR(VLOOKUP($B11,'MS9'!$A$1:$B$160,2,0),"0") -> 23 | V11: =IFERROR(VLOOKUP(U11,'MS9'!$B$1:$C$161,2,0),0) -> 678.37297 | W11: =IFERROR(VLOOKUP($B11,'MS10'!$A$1:$B$160,2,0),"0") -> 30 | X11: =IFERROR(VLOOKUP(W11,'MS10'!$B$1:$C$161,2,0),0) -> 522.62803 | Y11: =IFERROR(VLOOKUP($B11,'MS11'!$A$1:$B$160,2,0),"0") -> 20 | Z11: =IFERROR(VLOOKUP(Y11,'MS11'!$B$1:$C$161,2,0),0) -> 727.43724 | AA11: =IFERROR(VLOOKUP($B11,'MS12'!$A$1:$B$160,2,0),"0") -> 31 | AB11: =IFERROR(VLOOKUP(AA11,'MS12'!$B$1:$C$161,2,0),0) -> 226.0504 | AC11: =IFERROR(VLOOKUP($B11,'MS13'!$A$1:$B$160,2,0),"0") -> 0 | AD11: =IFERROR(VLOOKUP(AC11,'MS13'!$B$1:$C$161,2,0),0) -> 0 | AE11: =IFERROR(__xludf.DUMMYFUNCTION("""COMPUTED_VALUE"""),"Multiversus") -> Multiversus | AF11: =SUM(AG11:AR11)-small((AG11:AR11),1)-small((AG11:AR11),2) -> 1494.2178 | AG11: =IFERROR(VLOOKUP($AE11,'MS1'!$A$1:$C$161,3,0),0) -> 1115.3668 | AH11: =IFERROR(VLOOKUP($AE11,'MS2'!$A$1:$C$161,3,0),0) -> 378.85105 | AI11: =IFERROR(VLOOKUP($AE11,'MS3'!$A$1:$C$161,3,0),0) -> 0 | AJ11: =IFERROR(VLOOKUP($AE11,'MS4'!$A$1:$C$161,3,0),0) -> 0 | AK11: =IFERROR(VLOOKUP($AE11,'MS5'!$A$1:$C$161,3,0),0) -> 0 | AL11: =IFERROR(VLOOKUP($AE11,'MS6'!$A$1:$C$161,3,0),0) -> 0 | AM11: =IFERROR(VLOOKUP($AE11,'MS7'!$A$1:$C$161,3,0),0) -> 0 | AN11: =IFERROR(VLOOKUP($AE11,'MS8'!$A$1:$C$161,3,0),0) -> 0 | AO11: =IFERROR(VLOOKUP($AE11,'MS9'!$A$1:$C$161,3,0),0) -> 0 | AP11: =IFERROR(VLOOKUP($AE11,'MS10'!$A$1:$C$161,3,0),0) -> 0 | AQ11: =IFERROR(VLOOKUP($AE11,'MS11'!$A$1:$C$161,3,0),0) -> 0 | AR11: =IFERROR(VLOOKUP($AE11,'MS12'!$A$1:$C$161,3,0),0) -> 0 | AS11: =IFERROR(VLOOKUP($AE11,'MS13'!$A$1:$C$161,3,0),0) -> 0
A12: =ROW()-1 -> 11 | B12: JM-Chatte | C12: 7950.0643 | E12: =IFERROR(VLOOKUP($B12,'MS1'!$A$1:$B$160,2,0),"0") -> 56 | F12: =IFERROR(VLOOKUP(E12,'MS1'!$B$1:$C$161,2,0),0) -> 169.1794 | G12: =IFERROR(VLOOKUP($B12,'MS2'!$A$1:$B$160,2,0),"0") -> 54 | H12: =IFERROR(VLOOKUP(G12,'MS2'!$B$1:$C$161,2,0),0) -> 195.11381 | I12: =IFERROR(VLOOKUP($B12,'MS3'!$A$1:$B$161,2,0),0) -> 5 | J12: =IFERROR(VLOOKUP(I12,'MS3'!$B$1:$C$161,2,0),0) -> 1481.8763 | K12: =IFERROR(VLOOKUP($B12,'MS4'!$A$1:$B$160,2,0),"0") -> 16 | L12: =IFERROR(VLOOKUP(K12,'MS4'!$B$1:$C$161,2,0),0) -> 871.11214 | M12: =IFERROR(VLOOKUP($B12,'MS5'!$A$1:$B$160,2,0),"0") -> 33 | N12: =IFERROR(VLOOKUP(M12,'MS5'!$B$1:$C$161,2,0),0) -> 447.79305 | O12: =IFERROR(VLOOKUP($B12,'MS6'!$A$1:$B$160,2,0),"0") -> 20 | P12: =IFERROR(VLOOKUP(O12,'MS6'!$B$1:$C$161,2,0),0) -> 774.26878 | Q12: =IFERROR(VLOOKUP($B12,'MS7'!$A$1:$B$160,2,0),"0") -> 1 | R12: =IFERROR(VLOOKUP(Q12,'MS7'!$B$1:$C$161,2,0),0) -> 2280.9489 | S12: =IFERROR(VLOOKUP($B12,'MS8'!$A$1:$B$160,2,0),"0") -> 28 | T12: =IFERROR(VLOOKUP(S12,'MS8'!$B$1:$C$161,2,0),0) -> 595.59017 | U12: =IFERROR(VLOOKUP($B12,'MS9'!$A$1:$B$160,2,0),"0") -> 35 | V12: =IFERROR(VLOOKUP(U12,'MS9'!$B$1:$C$161,2,0),0) -> 440.32842 | W12: =IFERROR(VLOOKUP($B12,'MS10'!$A$1:$B$160,2,0),"0") -> 22 | X12: =IFERROR(VLOOKUP(W12,'MS10'!$B$1:$C$161,2,0),0) -> 693.85345 | Y12: =IFERROR(VLOOKUP($B12,'MS11'!$A$1:$B$160,2,0),"0") -> 51 | Z12: =IFERROR(VLOOKUP(Y12,'MS11'!$B$1:$C$161,2,0),0) -> 160.64724 | AA12: =IFERROR(VLOOKUP($B12,'MS12'!$A$1:$B$160,2,0),"0") -> 35 | AB12: =IFERROR(VLOOKUP(AA12,'MS12'!$B$1:$C$161,2,0),0) -> 139.55135 | AC12: =IFERROR(VLOOKUP($B12,'MS13'!$A$1:$B$160,2,0),"0") -> 0 | AD12: =IFERROR(VLOOKUP(AC12,'MS13'!$B$1:$C$161,2,0),0) -> 0 | AE12: =IFERROR(__xludf.DUMMYFUNCTION("""COMPUTED_VALUE"""),"kiki86 x") -> kiki86 x | AF12: =SUM(AG12:AR12)-small((AG12:AR12),1)-small((AG12:AR12),2) -> 5726.6178 | AG12: =IFERROR(VLOOKUP($AE12,'MS1'!$A$1:$C$161,3,0),0) -> 1070.9527 | AH12: =IFERROR(VLOOKUP($AE12,'MS2'!$A$1:$C$161,3,0),0) -> 333.7157 | AI12: =IFERROR(VLOOKUP($AE12,'MS3'!$A$1:$C$161,3,0),0) -> 423.13375 | AJ12: =IFERROR(VLOOKUP($AE12,'MS4'!$A$1:$C$161,3,0),0) -> 484.60101 | AK12: =IFERROR(VLOOKUP($AE12,'MS5'!$A$1:$C$161,3,0),0) -> 1021.5032 | AL12: =IFERROR(VLOOKUP($AE12,'MS6'!$A$1:$C$161,3,0),0) -> 133.19529 | AM12: =IFERROR(VLOOKUP($AE12,'MS7'!$A$1:$C$161,3,0),0) -> 1218.6687 | AN12: =IFERROR(VLOOKUP($AE12,'MS8'!$A$1:$C$161,3,0),0) -> 556.84902 | AO12: =IFERROR(VLOOKUP($AE12,'MS9'!$A$1:$C$161,3,0),0) -> 280.12263 | AP12: =IFERROR(VLOOKUP($AE12,'MS10'!$A$1:$C$161,3,0),0) -> 0 | AQ12: =IFERROR(VLOOKUP($AE12,'MS11'!$A$1:$C$161,3,0),0) -> 0 | AR12: =IFERROR(VLOOKUP($AE12,'MS12'!$A$1:$C$161,3,0),0) -> 203.87573 | AS12: =IFERROR(VLOOKUP($AE12,'MS13'!$A$1:$C$161,3,0),0) -> 0
A13: =ROW()-1 -> 12 | B13: Le MARVEL | C13: 7797.2178 | E13: =IFERROR(VLOOKUP($B13,'MS1'!$A$1:$B$160,2,0),"0") -> 20 | F13: =IFERROR(VLOOKUP(E13,'MS1'!$B$1:$C$161,2,0),0) -> 781.58994 | G13: =IFERROR(VLOOKUP($B13,'MS2'!$A$1:$B$160,2,0),"0") -> 33 | H13: =IFERROR(VLOOKUP(G13,'MS2'!$B$1:$C$161,2,0),0) -> 510.3166 | I13: =IFERROR(VLOOKUP($B13,'MS3'!$A$1:$B$161,2,0),0) -> 24 | J13: =IFERROR(VLOOKUP(I13,'MS3'!$B$1:$C$161,2,0),0) -> 736.96184 | K13: =IFERROR(VLOOKUP($B13,'MS4'!$A$1:$B$160,2,0),"0") -> 46 | L13: =IFERROR(VLOOKUP(K13,'MS4'!$B$1:$C$161,2,0),0) -> 275.46328 | M13: =IFERROR(VLOOKUP($B13,'MS5'!$A$1:$B$160,2,0),"0") -> 53 | N13: =IFERROR(VLOOKUP(M13,'MS5'!$B$1:$C$161,2,0),0) -> 132.59148 | O13: =IFERROR(VLOOKUP($B13,'MS6'!$A$1:$B$160,2,0),"0") -> 52 | P13: =IFERROR(VLOOKUP(O13,'MS6'!$B$1:$C$161,2,0),0) -> 211.54426 | Q13: =IFERROR(VLOOKUP($B13,'MS7'!$A$1:$B$160,2,0),"0") -> 12 | R13: =IFERROR(VLOOKUP(Q13,'MS7'!$B$1:$C$161,2,0),0) -> 1030.1469 | S13: =IFERROR(VLOOKUP($B13,'MS8'!$A$1:$B$160,2,0),"0") -> 3 | T13: =IFERROR(VLOOKUP(S13,'MS8'!$B$1:$C$161,2,0),0) -> 1675.7792 | U13: =IFERROR(VLOOKUP($B13,'MS9'!$A$1:$B$160,2,0),"0") -> 42 | V13: =IFERROR(VLOOKUP(U13,'MS9'!$B$1:$C$161,2,0),0) -> 325.7099 | W13: =IFERROR(VLOOKUP($B13,'MS10'!$A$1:$B$160,2,0),"0") -> 25 | X13: =IFERROR(VLOOKUP(W13,'MS10'!$B$1:$C$161,2,0),0) -> 625.14384 | Y13: =IFERROR(VLOOKUP($B13,'MS11'!$A$1:$B$160,2,0),"0") -> 4 | Z13: =IFERROR(VLOOKUP(Y13,'MS11'!$B$1:$C$161,2,0),0) -> 1492.5249 | AA13: =IFERROR(VLOOKUP($B13,'MS12'!$A$1:$B$160,2,0),"0") -> 26 | AB13: =IFERROR(VLOOKUP(AA13,'MS12'!$B$1:$C$161,2,0),0) -> 343.58142 | AC13: =IFERROR(VLOOKUP($B13,'MS13'!$A$1:$B$160,2,0),"0") -> 0 | AD13: =IFERROR(VLOOKUP(AC13,'MS13'!$B$1:$C$161,2,0),0) -> 0 | AE13: =IFERROR(__xludf.DUMMYFUNCTION("""COMPUTED_VALUE"""),"Gus enScene") -> Gus enScene | AF13: =SUM(AG13:AR13)-small((AG13:AR13),1)-small((AG13:AR13),2) -> 4530.5684 | AG13: =IFERROR(VLOOKUP($AE13,'MS1'!$A$1:$C$161,3,0),0) -> 1030.1469 | AH13: =IFERROR(VLOOKUP($AE13,'MS2'!$A$1:$C$161,3,0),0) -> 1542.7494 | AI13: =IFERROR(VLOOKUP($AE13,'MS3'!$A$1:$C$161,3,0),0) -> 394.34171 | AJ13: =IFERROR(VLOOKUP($AE13,'MS4'!$A$1:$C$161,3,0),0) -> 190.82018 | AK13: =IFERROR(VLOOKUP($AE13,'MS5'!$A$1:$C$161,3,0),0) -> 0 | AL13: =IFERROR(VLOOKUP($AE13,'MS6'!$A$1:$C$161,3,0),0) -> 184.90386 | AM13: =IFERROR(VLOOKUP($AE13,'MS7'!$A$1:$C$161,3,0),0) -> 94.245044 | AN13: =IFERROR(VLOOKUP($AE13,'MS8'!$A$1:$C$161,3,0),0) -> 0 | AO13: =IFERROR(VLOOKUP($AE13,'MS9'!$A$1:$C$161,3,0),0) -> 423.13375 | AP13: =IFERROR(VLOOKUP($AE13,'MS10'!$A$1:$C$161,3,0),0) -> 670.22759 | AQ13: =IFERROR(VLOOKUP($AE13,'MS11'!$A$1:$C$161,3,0),0) -> 0 | AR13: =IFERROR(VLOOKUP($AE13,'MS12'!$A$1:$C$161,3,0),0) -> 0 | AS13: =IFERROR(VLOOKUP($AE13,'MS13'!$A$1:$C$161,3,0),0) -> 0
