Workbook

Sheet Classement Général
A1: Classement | B1: PSEUDO | C1: Total | E1: Monster Stack | F1: Roller Coaster | G1: Kill The PPCien | H1: PSEUDO 2 | I1: Total 2 | J1: 2 | K1: Monster Stack 2 | L1: Roller Coaster 2 | M1: Kill The PPCien 2
A2: =ROW()-1 -> 1 | B2: {=SORT(H2:M251,2,FALSE)} -> _VisMaVie_ | C2: 17391.504 | E2: 10234.559 | F2: 5252.0653 | G2: 1904.8794 | H2: =IFERROR(__xludf.DUMMYFUNCTION("UNIQUE(FLATTEN({'Classement MS'!B2:B248;'Classement RoC'!B2:B248;'Classement Kill'!B2:B248}))"),"_VisMaVie_") -> _VisMaVie_ | I2: =SUM(K2:M2) -> 17391.504 | K2: =IFERROR(VLOOKUP(H2,'Classement MS'!$B$2:$C$200,2,0),"0") -> 10234.559 | L2: =IFERROR(VLOOKUP(H2,'Classement RoC'!$B$2:$C$199,2,0),"0") -> 5252.0653 | M2: =IFERROR(VLOOKUP(H2,'Classement Kill'!$B$2:$C$199,2,0),"0") -> 1904.8794
A3: =ROW()-1 -> 2 | B3: Mako Lemore | C3: 17390.139 | E3: 9523.2264 | F3: 5695.5094 | G3: 2171.4034 | H3: =IFERROR(__xludf.DUMMYFUNCTION("""COMPUTED_VALUE"""),"Xenocq79") -> Xenocq79 | I3: =SUM(K3:M3) -> 12474.915 | K3: =IFERROR(VLOOKUP(H3,'Classement MS'!$B$2:$C$200,2,0),"0") -> 10036.336 | L3: =IFERROR(VLOOKUP(H3,'Classement RoC'!$B$2:$C$199,2,0),"0") -> 1108.1846 | M3: =IFERROR(VLOOKUP(H3,'Classement Kill'!$B$2:$C$199,2,0),"0") -> 1330.3939
A4: =ROW()-1 -> 3 | B4: 8kinder6 | C4: 17141.841 | E4: 9401.2846 | F4: 6081.4046 | G4: 1659.1522 | H4: =IFERROR(__xludf.DUMMYFUNCTION("""COMPUTED_VALUE"""),"Mako Lemore") -> Mako Lemore | I4: =SUM(K4:M4) -> 17390.139 | K4: =IFERROR(VLOOKUP(H4,'Classement MS'!$B$2:$C$200,2,0),"0") -> 9523.2264 | L4: =IFERROR(VLOOKUP(H4,'Classement RoC'!$B$2:$C$199,2,0),"0") -> 5695.5094 | M4: =IFERROR(VLOOKUP(H4,'Classement Kill'!$B$2:$C$199,2,0),"0") -> 2171.4034
A5: =ROW()-1 -> 4 | B5: alexinzaghi | C5: 17100.658 | E5: 9284.116 | F5: 4819.8821 | G5: 2996.6597 | H5: =IFERROR(__xludf.DUMMYFUNCTION("""COMPUTED_VALUE"""),"8kinder6") -> 8kinder6 | I5: =SUM(K5:M5) -> 17141.841 | K5: =IFERROR(VLOOKUP(H5,'Classement MS'!$B$2:$C$200,2,0),"0") -> 9401.2846 | L5: =IFERROR(VLOOKUP(H5,'Classement RoC'!$B$2:$C$199,2,0),"0") -> 6081.4046 | M5: =IFERROR(VLOOKUP(H5,'Classement Kill'!$B$2:$C$199,2,0),"0") -> 1659.1522
A6: =ROW()-1 -> 5 | B6: Nanny on pe | C6: 15553.73 | E6: 7601.9701 | F6: 7055.1947 | G6: 896.56524 | H6: =IFERROR(__xludf.DUMMYFUNCTION("""COMPUTED_VALUE"""),"titounio") -> titounio | I6: =SUM(K6:M6) -> 12872.409 | K6: =IFERROR(VLOOKUP(H6,'Classement MS'!$B$2:$C$200,2,0),"0") -> 9367.9583 | L6: =IFERROR(VLOOKUP(H6,'Classement RoC'!$B$2:$C$199,2,0),"0") -> 1546.3446 | M6: =IFERROR(VLOOKUP(H6,'Classement Kill'!$B$2:$C$199,2,0),"0") -> 1958.1058
A7: =ROW()-1 -> 6 | B7: TontonZgueg | C7: 14808.116 | E7: 9180.7183 | F7: 3190.6851 | G7: 2436.7123 | H7: =IFERROR(__xludf.DUMMYFUNCTION("""COMPUTED_VALUE"""),"alexinzaghi") -> alexinzaghi | I7: =SUM(K7:M7) -> 17100.658 | K7: =IFERROR(VLOOKUP(H7,'Classement MS'!$B$2:$C$200,2,0),"0") -> 9284.116 | L7: =IFERROR(VLOOKUP(H7,'Classement RoC'!$B$2:$C$199,2,0),"0") -> 4819.8821 | M7: =IFERROR(VLOOKUP(H7,'Classement Kill'!$B$2:$C$199,2,0),"0") -> 2996.6597
A8: =ROW()-1 -> 7 | B8: JM-Chatte | C8: 14792.354 | E8: 7950.0643 | F8: 5914.8303 | G8: 927.45918 | H8: =IFERROR(__xludf.DUMMYFUNCTION("""COMPUTED_VALUE"""),"TontonZgueg") -> TontonZgueg | I8: =SUM(K8:M8) -> 14808.116 | K8: =IFERROR(VLOOKUP(H8,'Classement MS'!$B$2:$C$200,2,0),"0") -> 9180.7183 | L8: =IFERROR(VLOOKUP(H8,'Classement RoC'!$B$2:$C$199,2,0),"0") -> 3190.6851 | M8: =IFERROR(VLOOKUP(H8,'Classement Kill'!$B$2:$C$199,2,0),"0") -> 2436.7123
A9: =ROW()-1 -> 8 | B9: jejehehe | C9: 14691.311 | E9: 8037.8864 | F9: 4193.5244 | G9: 2459.9007 | H9: =IFERROR(__xludf.DUMMYFUNCTION("""COMPUTED_VALUE"""),"Phil1308") -> Phil1308 | I9: =SUM(K9:M9) -> 13927.921 | K9: =IFERROR(VLOOKUP(H9,'Classement MS'!$B$2:$C$200,2,0),"0") -> 8505.4229 | L9: =IFERROR(VLOOKUP(H9,'Classement RoC'!$B$2:$C$199,2,0),"0") -> 4134.781 | M9: =IFERROR(VLOOKUP(H9,'Classement Kill'!$B$2:$C$199,2,0),"0") -> 1287.717
A10: =ROW()-1 -> 9 | B10: Kevfurious | C10: 14438.516 | E10: 6828.5958 | F10: 5988.0097 | G10: 1621.91 | H10: =IFERROR(__xludf.DUMMYFUNCTION("""COMPUTED_VALUE"""),"Immond") -> Immond | I10: =SUM(K10:M10) -> 14437.421 | K10: =IFERROR(VLOOKUP(H10,'Classement MS'!$B$2:$C$200,2,0),"0") -> 8150.0787 | L10: =IFERROR(VLOOKUP(H10,'Classement RoC'!$B$2:$C$199,2,0),"0") -> 4324.1577 | M10: =IFERROR(VLOOKUP(H10,'Classement Kill'!$B$2:$C$199,2,0),"0") -> 1963.1849
A11: =ROW()-1 -> 10 | B11: Immond | C11: 14437.421 | E11: 8150.0787 | F11: 4324.1577 | G11: 1963.1849 | H11: =IFERROR(__xludf.DUMMYFUNCTION("""COMPUTED_VALUE"""),"jejehehe") -> jejehehe | I11: =SUM(K11:M11) -> 14691.311 | K11: =IFERROR(VLOOKUP(H11,'Classement MS'!$B$2:$C$200,2,0),"0") -> 8037.8864 | L11: =IFERROR(VLOOKUP(H11,'Classement RoC'!$B$2:$C$199,2,0),"0") -> 4193.5244 | M11: =IFERROR(VLOOKUP(H11,'Classement Kill'!$B$2:$C$199,2,0),"0") -> 2459.9007
A12: =ROW()-1 -> 11 | B12: Phil1308 | C12: 13927.921 | E12: 8505.4229 | F12: 4134.781 | G12: 1287.717 | H12: =IFERROR(__xludf.DUMMYFUNCTION("""COMPUTED_VALUE"""),"JM-Chatte") -> JM-Chatte | I12: =SUM(K12:M12) -> 14792.354 | K12: =IFERROR(VLOOKUP(H12,'Classement MS'!$B$2:$C$200,2,0),"0") -> 7950.0643 | L12: =IFERROR(VLOOKUP(H12,'Classement RoC'!$B$2:$C$199,2,0),"0") -> 5914.8303 | M12: =IFERROR(VLOOKUP(H12,'Classement Kill'!$B$2:$C$199,2,0),"0") -> 927.45918
A13: =ROW()-1 -> 12 | B13: Foldzilla | C13: 13611.521 | E13: 7468.504 | F13: 4136.1132 | G13: 2006.9035 | H13: =IFERROR(__xludf.DUMMYFUNCTION("""COMPUTED_VALUE"""),"Le MARVEL") -> Le MARVEL | I13: =SUM(K13:M13) -> 10583.706 | K13: =IFERROR(VLOOKUP(H13,'Classement MS'!$B$2:$C$200,2,0),"0") -> 7797.2178 | L13: =IFERROR(VLOOKUP(H13,'Classement RoC'!$B$2:$C$199,2,0),"0") -> 2013.0317 | M13: =IFERROR(VLOOKUP(H13,'Classement Kill'!$B$2:$C$199,2,0),"0") -> 773.45678
A14: =ROW()-1 -> 13 | B14: _Sale-Bet_ | C14: 13407.017 | E14: 7051.586 | F14: 3602.2587 | G14: 2753.1718 | H14: =IFERROR(__xludf.DUMMYFUNCTION("""COMPUTED_VALUE"""),"Nanny on pe") -> Nanny on pe | I14: =SUM(K14:M14) -> 15553.73 | K14: =IFERROR(VLOOKUP(H14,'Classement MS'!$B$2:$C$200,2,0),"0") -> 7601.9701 | L14: =IFERROR(VLOOKUP(H14,'Classement RoC'!$B$2:$C$199,2,0),"0") -> 7055.1947 | M14: =IFERROR(VLOOKUP(H14,'Classement Kill'!$B$2:$C$199,2,0),"0") -> 896.56524
A15: =ROW()-1 -> 14 | B15: christ86000 | C15: 13176.434 | E15: 5316.6281 | F15: 5223.6866 | G15: 2636.1197 | H15: =IFERROR(__xludf.DUMMYFUNCTION("""COMPUTED_VALUE"""),"Redblood92") -> Redblood92 | I15: =SUM(K15:M15) -> 12326.198 | K15: =IFERROR(VLOOKUP(H15,'Classement MS'!$B$2:$C$200,2,0),"0") -> 7530.8107 | L15: =IFERROR(VLOOKUP(H15,'Classement RoC'!$B$2:$C$199,2,0),"0") -> 3493.3775 | M15: =IFERROR(VLOOKUP(H15,'Classement Kill'!$B$2:$C$199,2,0),"0") -> 1302.0102
A16: =ROW()-1 -> 15 | B16: titounio | C16: 12872.409 | E16: 9367.9583 | F16: 1546.3446 | G16: 1958.1058 | H16: =IFERROR(__xludf.DUMMYFUNCTION("""COMPUTED_VALUE"""),"Foldzilla") -> Foldzilla | I16: =SUM(K16:M16) -> 13611.521 | K16: =IFERROR(VLOOKUP(H16,'Classement MS'!$B$2:$C$200,2,0),"0") -> 7468.504 | L16: =IFERROR(VLOOKUP(H16,'Classement RoC'!$B$2:$C$199,2,0),"0") -> 4136.1132 | M16: =IFERROR(VLOOKUP(H16,'Classement Kill'!$B$2:$C$199,2,0),"0") -> 2006.9035
A17: =ROW()-1 -> 16 | B17: Chuckandier | C17: 12770.156 | E17: 6548.7104 | F17: 4953.7342 | G17: 1267.7109 | H17: =IFERROR(__xludf.DUMMYFUNCTION("""COMPUTED_VALUE"""),"Scherkan86") -> Scherkan86 | I17: =SUM(K17:M17) -> 11518.601 | K17: =IFERROR(VLOOKUP(H17,'Classement MS'!$B$2:$C$200,2,0),"0") -> 7435.0964 | L17: =IFERROR(VLOOKUP(H17,'Classement RoC'!$B$2:$C$199,2,0),"0") -> 2988.3656 | M17: =IFERROR(VLOOKUP(H17,'Classement Kill'!$B$2:$C$199,2,0),"0") -> 1095.1392
A18: =ROW()-1 -> 17 | B18: Xenocq79 | C18: 12474.915 | E18: 10036.336 | F18: 1108.1846 | G18: 1330.3939 | H18: =IFERROR(__xludf.DUMMYFUNCTION("""COMPUTED_VALUE"""),"BBH 75") -> BBH 75 | I18: =SUM(K18:M18) -> 11066.322 | K18: =IFERROR(VLOOKUP(H18,'Classement MS'!$B$2:$C$200,2,0),"0") -> 7211.0765 | L18: =IFERROR(VLOOKUP(H18,'Classement RoC'!$B$2:$C$199,2,0),"0") -> 3075.6865 | M18: =IFERROR(VLOOKUP(H18,'Classement Kill'!$B$2:$C$199,2,0),"0") -> 779.55919
A19: =ROW()-1 -> 18 | B19: Redblood92 | C19: 12326.198 | E19: 7530.8107 | F19: 3493.3775 | G19: 1302.0102 | H19: =IFERROR(__xludf.DUMMYFUNCTION("""COMPUTED_VALUE"""),"_Sale-Bet_") -> _Sale-Bet_ | I19: =SUM(K19:M19) -> 13407.017 | K19: =IFERROR(VLOOKUP(H19,'Classement MS'!$B$2:$C$200,2,0),"0") -> 7051.586 | L19: =IFERROR(VLOOKUP(H19,'Classement RoC'!$B$2:$C$199,2,0),"0") -> 3602.2587 | M19: =IFERROR(VLOOKUP(H19,'Classement Kill'!$B$2:$C$199,2,0),"0") -> 2753.1718
A20: =ROW()-1 -> 19 | B20: .BARBAPAPA66 | C20: 12262.252 | E20: 5105.1835 | F20: 5382.8454 | G20: 1774.2233 | H20: =IFERROR(__xludf.DUMMYFUNCTION("""COMPUTED_VALUE"""),"Fishtipanda") -> Fishtipanda | I20: =SUM(K20:M20) -> 11105.356 | K20: =IFERROR(VLOOKUP(H20,'Classement MS'!$B$2:$C$200,2,0),"0") -> 6903.0522 | L20: =IFERROR(VLOOKUP(H20,'Classement RoC'!$B$2:$C$199,2,0),"0") -> 2272.3474 | M20: =IFERROR(VLOOKUP(H20,'Classement Kill'!$B$2:$C$199,2,0),"0") -> 1929.9564
A21: =ROW()-1 -> 20 | B21: Dirty Bazaar | C21: 12223.775 | E21: 6272.1461 | F21: 4917.5651 | G21: 1034.0635 | H21: =IFERROR(__xludf.DUMMYFUNCTION("""COMPUTED_VALUE"""),"Kevfurious") -> Kevfurious | I21: =SUM(K21:M21) -> 14438.516 | K21: =IFERROR(VLOOKUP(H21,'Classement MS'!$B$2:$C$200,2,0),"0") -> 6828.5958 | L21: =IFERROR(VLOOKUP(H21,'Classement RoC'!$B$2:$C$199,2,0),"0") -> 5988.0097 | M21: =IFERROR(VLOOKUP(H21,'Classement Kill'!$B$2:$C$199,2,0),"0") -> 1621.91
A22: =ROW()-1 -> 21 | B22: rastamokett | C22: 11812.317 | E22: 4880.0036 | F22: 5302.7597 | G22: 1629.5538 | H22: =IFERROR(__xludf.DUMMYFUNCTION("""COMPUTED_VALUE"""),"Rod_John_VI") -> Rod_John_VI | I22: =SUM(K22:M22) -> 11390.32 | K22: =IFERROR(VLOOKUP(H22,'Classement MS'!$B$2:$C$200,2,0),"0") -> 6660.0564 | L22: =IFERROR(VLOOKUP(H22,'Classement RoC'!$B$2:$C$199,2,0),"0") -> 3137.9776 | M22: =IFERROR(VLOOKUP(H22,'Classement Kill'!$B$2:$C$199,2,0),"0") -> 1592.2857
A23: =ROW()-1 -> 22 | B23: Legabodu86 | C23: 11677.087 | E23: 5576.9766 | F23: 4962.3248 | G23: 1137.786 | H23: =IFERROR(__xludf.DUMMYFUNCTION("""COMPUTED_VALUE"""),"Chuckandier") -> Chuckandier | I23: =SUM(K23:M23) -> 12770.156 | K23: =IFERROR(VLOOKUP(H23,'Classement MS'!$B$2:$C$200,2,0),"0") -> 6548.7104 | L23: =IFERROR(VLOOKUP(H23,'Classement RoC'!$B$2:$C$199,2,0),"0") -> 4953.7342 | M23: =IFERROR(VLOOKUP(H23,'Classement Kill'!$B$2:$C$199,2,0),"0") -> 1267.7109
A24: =ROW()-1 -> 23 | B24: shokooo | C24: 11544.15 | E24: 5920.7359 | F24: 4440.8721 | G24: 1182.5417 | H24: =IFERROR(__xludf.DUMMYFUNCTION("""COMPUTED_VALUE"""),"Dirty Bazaar") -> Dirty Bazaar | I24: =SUM(K24:M24) -> 12223.775 | K24: =IFERROR(VLOOKUP(H24,'Classement MS'!$B$2:$C$200,2,0),"0") -> 6272.1461 | L24: =IFERROR(VLOOKUP(H24,'Classement RoC'!$B$2:$C$199,2,0),"0") -> 4917.5651 | M24: =IFERROR(VLOOKUP(H24,'Classement Kill'!$B$2:$C$199,2,0),"0") -> 1034.0635
A25: =ROW()-1 -> 24 | B25: Scherkan86 | C25: 11518.601 | E25: 7435.0964 | F25: 2988.3656 | G25: 1095.1392 | H25: =IFERROR(__xludf.DUMMYFUNCTION("""COMPUTED_VALUE"""),"--WondeR--") -> --WondeR-- | I25: =SUM(K25:M25) -> 8243.1281 | K25: =IFERROR(VLOOKUP(H25,'Classement MS'!$B$2:$C$200,2,0),"0") -> 6182.6092 | L25: =IFERROR(VLOOKUP(H25,'Classement RoC'!$B$2:$C$199,2,0),"0") -> 641.12761 | M25: =IFERROR(VLOOKUP(H25,'Classement Kill'!$B$2:$C$199,2,0),"0") -> 1419.3913
A26: =ROW()-1 -> 25 | B26: Patgaret | C26: 11446.137 | E26: 5348.9743 | F26: 3938.5849 | G26: 2158.5774 | H26: =IFERROR(__xludf.DUMMYFUNCTION("""COMPUTED_VALUE"""),"FisherPrice.") -> FisherPrice. | I26: =SUM(K26:M26) -> 6679.9256 | K26: =IFERROR(VLOOKUP(H26,'Classement MS'!$B$2:$C$200,2,0),"0") -> 6173.2741 | L26: =IFERROR(VLOOKUP(H26,'Classement RoC'!$B$2:$C$199,2,0),"0") -> 375.93549 | M26: =IFERROR(VLOOKUP(H26,'Classement Kill'!$B$2:$C$199,2,0),"0") -> 130.716
A27: =ROW()-1 -> 26 | B27: Rod_John_VI | C27: 11390.32 | E27: 6660.0564 | F27: 3137.9776 | G27: 1592.2857 | H27: =IFERROR(__xludf.DUMMYFUNCTION("""COMPUTED_VALUE"""),"shokooo") -> shokooo | I27: =SUM(K27:M27) -> 11544.15 | K27: =IFERROR(VLOOKUP(H27,'Classement MS'!$B$2:$C$200,2,0),"0") -> 5920.7359 | L27: =IFERROR(VLOOKUP(H27,'Classement RoC'!$B$2:$C$199,2,0),"0") -> 4440.8721 | M27: =IFERROR(VLOOKUP(H27,'Classement Kill'!$B$2:$C$199,2,0),"0") -> 1182.5417
A28: =ROW()-1 -> 27 | B28: FridAKahlo | C28: 11191.365 | E28: 5406.664 | F28: 3866.8152 | G28: 1917.8856 | H28: =IFERROR(__xludf.DUMMYFUNCTION("""COMPUTED_VALUE"""),"kiki86 x") -> kiki86 x | I28: =SUM(K28:M28) -> 9098.3115 | K28: =IFERROR(VLOOKUP(H28,'Classement MS'!$B$2:$C$200,2,0),"0") -> 5726.6178 | L28: =IFERROR(VLOOKUP(H28,'Classement RoC'!$B$2:$C$199,2,0),"0") -> 2703.4904 | M28: =IFERROR(VLOOKUP(H28,'Classement Kill'!$B$2:$C$199,2,0),"0") -> 668.20328
A29: =ROW()-1 -> 28 | B29: COMBERS | C29: 11124.164 | E29: 2322.9019 | F29: 6483.6826 | G29: 2317.5795 | H29: =IFERROR(__xludf.DUMMYFUNCTION("""COMPUTED_VALUE"""),"gregmoore") -> gregmoore | I29: =SUM(K29:M29) -> 10701.825 | K29: =IFERROR(VLOOKUP(H29,'Classement MS'!$B$2:$C$200,2,0),"0") -> 5703.6228 | L29: =IFERROR(VLOOKUP(H29,'Classement RoC'!$B$2:$C$199,2,0),"0") -> 3575.9696 | M29: =IFERROR(VLOOKUP(H29,'Classement Kill'!$B$2:$C$199,2,0),"0") -> 1422.2326
A30: =ROW()-1 -> 29 | B30: Fishtipanda | C30: 11105.356 | E30: 6903.0522 | F30: 2272.3474 | G30: 1929.9564 | H30: =IFERROR(__xludf.DUMMYFUNCTION("""COMPUTED_VALUE"""),"StephBoss05") -> StephBoss05 | I30: =SUM(K30:M30) -> 6369.7661 | K30: =IFERROR(VLOOKUP(H30,'Classement MS'!$B$2:$C$200,2,0),"0") -> 5611.2993 | L30: =IFERROR(VLOOKUP(H30,'Classement RoC'!$B$2:$C$199,2,0),"0") -> 577.32225 | M30: =IFERROR(VLOOKUP(H30,'Classement Kill'!$B$2:$C$199,2,0),"0") -> 181.14463
A31: =ROW()-1 -> 30 | B31: BBH 75 | C31: 11066.322 | E31: 7211.0765 | F31: 3075.6865 | G31: 779.55919 | H31: =IFERROR(__xludf.DUMMYFUNCTION("""COMPUTED_VALUE"""),"S.coco") -> S.coco | I31: =SUM(K31:M31) -> 10212.526 | K31: =IFERROR(VLOOKUP(H31,'Classement MS'!$B$2:$C$200,2,0),"0") -> 5588.1747 | L31: =IFERROR(VLOOKUP(H31,'Classement RoC'!$B$2:$C$199,2,0),"0") -> 2881.5703 | M31: =IFERROR(VLOOKUP(H31,'Classement Kill'!$B$2:$C$199,2,0),"0") -> 1742.781
A32: =ROW()-1 -> 31 | B32: gregmoore | C32: 10701.825 | E32: 5703.6228 | F32: 3575.9696 | G32: 1422.2326 | H32: =IFERROR(__xludf.DUMMYFUNCTION("""COMPUTED_VALUE"""),"Legabodu86") -> Legabodu86 | I32: =SUM(K32:M32) -> 11677.087 | K32: =IFERROR(VLOOKUP(H32,'Classement MS'!$B$2:$C$200,2,0),"0") -> 5576.9766 | L32: =IFERROR(VLOOKUP(H32,'Classement RoC'!$B$2:$C$199,2,0),"0") -> 4962.3248 | M32: =IFERROR(VLOOKUP(H32,'Classement Kill'!$B$2:$C$199,2,0),"0") -> 1137.786
A33: =ROW()-1 -> 32 | B33: Vaillant 86 | C33: 10586.858 | E33: 4075.9996 | F33: 3589.4363 | G33: 2921.4216 | H33: =IFERROR(__xludf.DUMMYFUNCTION("""COMPUTED_VALUE"""),"POMB1664") -> POMB1664 | I33: =SUM(K33:M33) -> 8206.5622 | K33: =IFERROR(VLOOKUP(H33,'Classement MS'!$B$2:$C$200,2,0),"0") -> 5560.2121 | L33: =IFERROR(VLOOKUP(H33,'Classement RoC'!$B$2:$C$199,2,0),"0") -> 1256.9122 | M33: =IFERROR(VLOOKUP(H33,'Classement Kill'!$B$2:$C$199,2,0),"0") -> 1389.4378
A34: =ROW()-1 -> 33 | B34: Le MARVEL | C34: 10583.706 | E34: 7797.2178 | F34: 2013.0317 | G34: 773.45678 | H34: =IFERROR(__xludf.DUMMYFUNCTION("""COMPUTED_VALUE"""),"A_iniesta") -> A_iniesta | I34: =SUM(K34:M34) -> 9991.6876 | K34: =IFERROR(VLOOKUP(H34,'Classement MS'!$B$2:$C$200,2,0),"0") -> 5443.2018 | L34: =IFERROR(VLOOKUP(H34,'Classement RoC'!$B$2:$C$199,2,0),"0") -> 3016.4541 | M34: =IFERROR(VLOOKUP(H34,'Classement Kill'!$B$2:$C$199,2,0),"0") -> 1532.0318
A35: =ROW()-1 -> 34 | B35: Sharky | C35: 10376.944 | E35: 4764.2254 | F35: 4336.6149 | G35: 1276.1033 | H35: =IFERROR(__xludf.DUMMYFUNCTION("""COMPUTED_VALUE"""),"FridAKahlo") -> FridAKahlo | I35: =SUM(K35:M35) -> 11191.365 | K35: =IFERROR(VLOOKUP(H35,'Classement MS'!$B$2:$C$200,2,0),"0") -> 5406.664 | L35: =IFERROR(VLOOKUP(H35,'Classement RoC'!$B$2:$C$199,2,0),"0") -> 3866.8152 | M35: =IFERROR(VLOOKUP(H35,'Classement Kill'!$B$2:$C$199,2,0),"0") -> 1917.8856
A36: =ROW()-1 -> 35 | B36: S.coco | C36: 10212.526 | E36: 5588.1747 | F36: 2881.5703 | G36: 1742.781 | H36: =IFERROR(__xludf.DUMMYFUNCTION("""COMPUTED_VALUE"""),"Pitt86700") -> Pitt86700 | I36: =SUM(K36:M36) -> 10210.446 | K36: =IFERROR(VLOOKUP(H36,'Classement MS'!$B$2:$C$200,2,0),"0") -> 5381.2535 | L36: =IFERROR(VLOOKUP(H36,'Classement RoC'!$B$2:$C$199,2,0),"0") -> 2369.3626 | M36: =IFERROR(VLOOKUP(H36,'Classement Kill'!$B$2:$C$199,2,0),"0") -> 2459.8301
A37: =ROW()-1 -> 36 | B37: Pitt86700 | C37: 10210.446 | E37: 5381.2535 | F37: 2369.3626 | G37: 2459.8301 | H37: =IFERROR(__xludf.DUMMYFUNCTION("""COMPUTED_VALUE"""),"Patgaret") -> Patgaret | I37: =SUM(K37:M37) -> 11446.137 | K37: =IFERROR(VLOOKUP(H37,'Classement MS'!$B$2:$C$200,2,0),"0") -> 5348.9743 | L37: =IFERROR(VLOOKUP(H37,'Classement RoC'!$B$2:$C$199,2,0),"0") -> 3938.5849 | M37: =IFERROR(VLOOKUP(H37,'Classement Kill'!$B$2:$C$199,2,0),"0") -> 2158.5774
A38: =ROW()-1 -> 37 | B38: cassius-86 | C38: 10020.381 | E38: 3431.2137 | F38: 4592.0952 | G38: 1997.0723 | H38: =IFERROR(__xludf.DUMMYFUNCTION("""COMPUTED_VALUE"""),"christ86000") -> christ86000 | I38: =SUM(K38:M38) -> 13176.434 | K38: =IFERROR(VLOOKUP(H38,'Classement MS'!$B$2:$C$200,2,0),"0") -> 5316.6281 | L38: =IFERROR(VLOOKUP(H38,'Classement RoC'!$B$2:$C$199,2,0),"0") -> 5223.6866 | M38: =IFERROR(VLOOKUP(H38,'Classement Kill'!$B$2:$C$199,2,0),"0") -> 2636.1197
A39: =ROW()-1 -> 38 | B39: A_iniesta | C39: 9991.6876 | E39: 5443.2018 | F39: 3016.4541 | G39: 1532.0318 | H39: =IFERROR(__xludf.DUMMYFUNCTION("""COMPUTED_VALUE"""),"ElDail") -> ElDail | I39: =SUM(K39:M39) -> 7831.8239 | K39: =IFERROR(VLOOKUP(H39,'Classement MS'!$B$2:$C$200,2,0),"0") -> 5310.603 | L39: =IFERROR(VLOOKUP(H39,'Classement RoC'!$B$2:$C$199,2,0),"0") -> 2137.9235 | M39: =IFERROR(VLOOKUP(H39,'Classement Kill'!$B$2:$C$199,2,0),"0") -> 383.29743
A40: =ROW()-1 -> 39 | B40: KamehamehAS | C40: 9908.8545 | E40: 4584.5276 | F40: 3971.5118 | G40: 1352.8151 | H40: =IFERROR(__xludf.DUMMYFUNCTION("""COMPUTED_VALUE"""),"BRUNOWINNER") -> BRUNOWINNER | I40: =SUM(K40:M40) -> 8203.0518 | K40: =IFERROR(VLOOKUP(H40,'Classement MS'!$B$2:$C$200,2,0),"0") -> 5153.6602 | L40: =IFERROR(VLOOKUP(H40,'Classement RoC'!$B$2:$C$199,2,0),"0") -> 1447.5087 | M40: =IFERROR(VLOOKUP(H40,'Classement Kill'!$B$2:$C$199,2,0),"0") -> 1601.8828
A41: =ROW()-1 -> 40 | B41: elvasco | C41: 9847.9089 | E41: 4672.7347 | F41: 3727.5584 | G41: 1447.6158 | H41: =IFERROR(__xludf.DUMMYFUNCTION("""COMPUTED_VALUE"""),".BARBAPAPA66") -> .BARBAPAPA66 | I41: =SUM(K41:M41) -> 12262.252 | K41: =IFERROR(VLOOKUP(H41,'Classement MS'!$B$2:$C$200,2,0),"0") -> 5105.1835 | L41: =IFERROR(VLOOKUP(H41,'Classement RoC'!$B$2:$C$199,2,0),"0") -> 5382.8454 | M41: =IFERROR(VLOOKUP(H41,'Classement Kill'!$B$2:$C$199,2,0),"0") -> 1774.2233
A42: =ROW()-1 -> 41 | B42: Agouty79 | C42: 9807.9252 | E42: 3428.4039 | F42: 5415.0782 | G42: 964.44315 | H42: =IFERROR(__xludf.DUMMYFUNCTION("""COMPUTED_VALUE"""),"fiodor86") -> fiodor86 | I42: =SUM(K42:M42) -> 8713.939 | K42: =IFERROR(VLOOKUP(H42,'Classement MS'!$B$2:$C$200,2,0),"0") -> 4944.991 | L42: =IFERROR(VLOOKUP(H42,'Classement RoC'!$B$2:$C$199,2,0),"0") -> 2147.5502 | M42: =IFERROR(VLOOKUP(H42,'Classement Kill'!$B$2:$C$199,2,0),"0") -> 1621.3978
A43: =ROW()-1 -> 42 | B43: RicDeckard | C43: 9583.0617 | E43: 3725.6242 | F43: 4348.1688 | G43: 1509.2687 | H43: =IFERROR(__xludf.DUMMYFUNCTION("""COMPUTED_VALUE"""),"Spyke 22") -> Spyke 22 | I43: =SUM(K43:M43) -> 9020.4259 | K43: =IFERROR(VLOOKUP(H43,'Classement MS'!$B$2:$C$200,2,0),"0") -> 4888.0553 | L43: =IFERROR(VLOOKUP(H43,'Classement RoC'!$B$2:$C$199,2,0),"0") -> 2542.0606 | M43: =IFERROR(VLOOKUP(H43,'Classement Kill'!$B$2:$C$199,2,0),"0") -> 1590.31
A44: =ROW()-1 -> 43 | B44: Gus enScene | C44: 9455.8273 | E44: 4530.5684 | F44: 3972.6533 | G44: 952.60564 | H44: =IFERROR(__xludf.DUMMYFUNCTION("""COMPUTED_VALUE"""),"rastamokett") -> rastamokett | I44: =SUM(K44:M44) -> 11812.317 | K44: =IFERROR(VLOOKUP(H44,'Classement MS'!$B$2:$C$200,2,0),"0") -> 4880.0036 | L44: =IFERROR(VLOOKUP(H44,'Classement RoC'!$B$2:$C$199,2,0),"0") -> 5302.7597 | M44: =IFERROR(VLOOKUP(H44,'Classement Kill'!$B$2:$C$199,2,0),"0") -> 1629.5538
A45: =ROW()-1 -> 44 | B45: sonic86 | C45: 9359.7056 | E45: 4459.2575 | F45: 2557.4626 | G45: 2342.9854 | H45: =IFERROR(__xludf.DUMMYFUNCTION("""COMPUTED_VALUE"""),"_Macash_") -> _Macash_ | I45: =SUM(K45:M45) -> 8130.1207 | K45: =IFERROR(VLOOKUP(H45,'Classement MS'!$B$2:$C$200,2,0),"0") -> 4878.6899 | L45: =IFERROR(VLOOKUP(H45,'Classement RoC'!$B$2:$C$199,2,0),"0") -> 2301.0127 | M45: =IFERROR(VLOOKUP(H45,'Classement Kill'!$B$2:$C$199,2,0),"0") -> 950.41809
A46: =ROW()-1 -> 45 | B46: Baykoku | C46: 9184.6086 | E46: 4061.3221 | F46: 3720.6522 | G46: 1402.6343 | H46: =IFERROR(__xludf.DUMMYFUNCTION("""COMPUTED_VALUE"""),"Sharky") -> Sharky | I46: =SUM(K46:M46) -> 10376.944 | K46: =IFERROR(VLOOKUP(H46,'Classement MS'!$B$2:$C$200,2,0),"0") -> 4764.2254 | L46: =IFERROR(VLOOKUP(H46,'Classement RoC'!$B$2:$C$199,2,0),"0") -> 4336.6149 | M46: =IFERROR(VLOOKUP(H46,'Classement Kill'!$B$2:$C$199,2,0),"0") -> 1276.1033
A47: =ROW()-1 -> 46 | B47: SINGE7 | C47: 9146.8836 | E47: 3637.9357 | F47: 4208.6786 | G47: 1300.2692 | H47: =IFERROR(__xludf.DUMMYFUNCTION("""COMPUTED_VALUE"""),"Mikalack") -> Mikalack | I47: =SUM(K47:M47) -> 7243.3753 | K47: =IFERROR(VLOOKUP(H47,'Classement MS'!$B$2:$C$200,2,0),"0") -> 4705.3111 | L47: =IFERROR(VLOOKUP(H47,'Classement RoC'!$B$2:$C$199,2,0),"0") -> 1326.1851 | M47: =IFERROR(VLOOKUP(H47,'Classement Kill'!$B$2:$C$199,2,0),"0") -> 1211.8791
A48: =ROW()-1 -> 47 | B48: kiki86 x | C48: 9098.3115 | E48: 5726.6178 | F48: 2703.4904 | G48: 668.20328 | H48: =IFERROR(__xludf.DUMMYFUNCTION("""COMPUTED_VALUE"""),"elvasco") -> elvasco | I48: =SUM(K48:M48) -> 9847.9089 | K48: =IFERROR(VLOOKUP(H48,'Classement MS'!$B$2:$C$200,2,0),"0") -> 4672.7347 | L48: =IFERROR(VLOOKUP(H48,'Classement RoC'!$B$2:$C$199,2,0),"0") -> 3727.5584 | M48: =IFERROR(VLOOKUP(H48,'Classement Kill'!$B$2:$C$199,2,0),"0") -> 1447.6158
A49: =ROW()-1 -> 48 | B49: Spyke 22 | C49: 9020.4259 | E49: 4888.0553 | F49: 2542.0606 | G49: 1590.31 | H49: =IFERROR(__xludf.DUMMYFUNCTION("""COMPUTED_VALUE"""),"..mamat86..") -> ..mamat86.. | I49: =SUM(K49:M49) -> 8652.5037 | K49: =IFERROR(VLOOKUP(H49,'Classement MS'!$B$2:$C$200,2,0),"0") -> 4617.2724 | L49: =IFERROR(VLOOKUP(H49,'Classement RoC'!$B$2:$C$199,2,0),"0") -> 3185.218 | M49: =IFERROR(VLOOKUP(H49,'Classement Kill'!$B$2:$C$199,2,0),"0") -> 850.01326
A50: =ROW()-1 -> 49 | B50: fiodor86 | C50: 8713.939 | E50: 4944.991 | F50: 2147.5502 | G50: 1621.3978 | H50: =IFERROR(__xludf.DUMMYFUNCTION("""COMPUTED_VALUE"""),"KamehamehAS") -> KamehamehAS | I50: =SUM(K50:M50) -> 9908.8545 | K50: =IFERROR(VLOOKUP(H50,'Classement MS'!$B$2:$C$200,2,0),"0") -> 4584.5276 | L50: =IFERROR(VLOOKUP(H50,'Classement RoC'!$B$2:$C$199,2,0),"0") -> 3971.5118 | M50: =IFERROR(VLOOKUP(H50,'Classement Kill'!$B$2:$C$199,2,0),"0") -> 1352.8151
A51: =ROW()-1 -> 50 | B51: ..mamat86.. | C51: 8652.5037 | E51: 4617.2724 | F51: 3185.218 | G51: 850.01326 | H51: =IFERROR(__xludf.DUMMYFUNCTION("""COMPUTED_VALUE"""),"Gus enScene") -> Gus enScene | I51: =SUM(K51:M51) -> 9455.8273 | K51: =IFERROR(VLOOKUP(H51,'Classement MS'!$B$2:$C$200,2,0),"0") -> 4530.5684 | L51: =IFERROR(VLOOKUP(H51,'Classement RoC'!$B$2:$C$199,2,0),"0") -> 3972.6533 | M51: =IFERROR(VLOOKUP(H51,'Classement Kill'!$B$2:$C$199,2,0),"0") -> 952.60564
A52: =ROW()-1 -> 51 | B52: Kiki Bazaar | C52: 8567.7696 | E52: 3802.0754 | F52: 3320.6886 | G52: 1445.0056 | H52: =IFERROR(__xludf.DUMMYFUNCTION("""COMPUTED_VALUE"""),"sonic86") -> sonic86 | I52: =SUM(K52:M52) -> 9359.7056 | K52: =IFERROR(VLOOKUP(H52,'Classement MS'!$B$2:$C$200,2,0),"0") -> 4459.2575 | L52: =IFERROR(VLOOKUP(H52,'Classement RoC'!$B$2:$C$199,2,0),"0") -> 2557.4626 | M52: =IFERROR(VLOOKUP(H52,'Classement Kill'!$B$2:$C$199,2,0),"0") -> 2342.9854
A53: =ROW()-1 -> 52 | B53: emmanuel.g | C53: 8321.0204 | E53: 3359.6191 | F53: 2618.0997 | G53: 2343.3016 | H53: =IFERROR(__xludf.DUMMYFUNCTION("""COMPUTED_VALUE"""),"erniedog56x") -> erniedog56x | I53: =SUM(K53:M53) -> 7994.5747 | K53: =IFERROR(VLOOKUP(H53,'Classement MS'!$B$2:$C$200,2,0),"0") -> 4361.8015 | L53: =IFERROR(VLOOKUP(H53,'Classement RoC'!$B$2:$C$199,2,0),"0") -> 2199.9408 | M53: =IFERROR(VLOOKUP(H53,'Classement Kill'!$B$2:$C$199,2,0),"0") -> 1432.8324
A54: =ROW()-1 -> 53 | B54: --WondeR-- | C54: 8243.1281 | E54: 6182.6092 | F54: 641.12761 | G54: 1419.3913 | H54: =IFERROR(__xludf.DUMMYFUNCTION("""COMPUTED_VALUE"""),"Vaillant 86") -> Vaillant 86 | I54: =SUM(K54:M54) -> 10586.858 | K54: =IFERROR(VLOOKUP(H54,'Classement MS'!$B$2:$C$200,2,0),"0") -> 4075.9996 | L54: =IFERROR(VLOOKUP(H54,'Classement RoC'!$B$2:$C$199,2,0),"0") -> 3589.4363 | M54: =IFERROR(VLOOKUP(H54,'Classement Kill'!$B$2:$C$199,2,0),"0") -> 2921.4216
A55: =ROW()-1 -> 54 | B55: POMB1664 | C55: 8206.5622 | E55: 5560.2121 | F55: 1256.9122 | G55: 1389.4378 | H55: =IFERROR(__xludf.DUMMYFUNCTION("""COMPUTED_VALUE"""),"Baykoku") -> Baykoku | I55: =SUM(K55:M55) -> 9184.6086 | K55: =IFERROR(VLOOKUP(H55,'Classement MS'!$B$2:$C$200,2,0),"0") -> 4061.3221 | L55: =IFERROR(VLOOKUP(H55,'Classement RoC'!$B$2:$C$199,2,0),"0") -> 3720.6522 | M55: =IFERROR(VLOOKUP(H55,'Classement Kill'!$B$2:$C$199,2,0),"0") -> 1402.6343
A56: =ROW()-1 -> 55 | B56: BRUNOWINNER | C56: 8203.0518 | E56: 5153.6602 | F56: 1447.5087 | G56: 1601.8828 | H56: =IFERROR(__xludf.DUMMYFUNCTION("""COMPUTED_VALUE"""),"Mitch") -> Mitch | I56: =SUM(K56:M56) -> 8021.3249 | K56: =IFERROR(VLOOKUP(H56,'Classement MS'!$B$2:$C$200,2,0),"0") -> 3856.7173 | L56: =IFERROR(VLOOKUP(H56,'Classement RoC'!$B$2:$C$199,2,0),"0") -> 1952.3855 | M56: =IFERROR(VLOOKUP(H56,'Classement Kill'!$B$2:$C$199,2,0),"0") -> 2212.2222
A57: =ROW()-1 -> 56 | B57: _Macash_ | C57: 8130.1207 | E57: 4878.6899 | F57: 2301.0127 | G57: 950.41808 | H57: =IFERROR(__xludf.DUMMYFUNCTION("""COMPUTED_VALUE"""),"cataleya86") -> cataleya86 | I57: =SUM(K57:M57) -> 6271.0302 | K57: =IFERROR(VLOOKUP(H57,'Classement MS'!$B$2:$C$200,2,0),"0") -> 3832.9409 | L57: =IFERROR(VLOOKUP(H57,'Classement RoC'!$B$2:$C$199,2,0),"0") -> 1458.2178 | M57: =IFERROR(VLOOKUP(H57,'Classement Kill'!$B$2:$C$199,2,0),"0") -> 979.87153
A58: =ROW()-1 -> 57 | B58: Mitch | C58: 8021.3249 | E58: 3856.7173 | F58: 1952.3855 | G58: 2212.2222 | H58: =IFERROR(__xludf.DUMMYFUNCTION("""COMPUTED_VALUE"""),"Kiki Bazaar") -> Kiki Bazaar | I58: =SUM(K58:M58) -> 8567.7696 | K58: =IFERROR(VLOOKUP(H58,'Classement MS'!$B$2:$C$200,2,0),"0") -> 3802.0754 | L58: =IFERROR(VLOOKUP(H58,'Classement RoC'!$B$2:$C$199,2,0),"0") -> 3320.6886 | M58: =IFERROR(VLOOKUP(H58,'Classement Kill'!$B$2:$C$199,2,0),"0") -> 1445.0056
A59: =ROW()-1 -> 58 | B59: erniedog56x | C59: 7994.5747 | E59: 4361.8015 | F59: 2199.9408 | G59: 1432.8324 | H59: =IFERROR(__xludf.DUMMYFUNCTION("""COMPUTED_VALUE"""),"Blochedu86") -> Blochedu86 | I59: =SUM(K59:M59) -> 6864.105 | K59: =IFERROR(VLOOKUP(H59,'Classement MS'!$B$2:$C$200,2,0),"0") -> 3737.1525 | L59: =IFERROR(VLOOKUP(H59,'Classement RoC'!$B$2:$C$199,2,0),"0") -> 1924.6917 | M59: =IFERROR(VLOOKUP(H59,'Classement Kill'!$B$2:$C$199,2,0),"0") -> 1202.2607
A60: =ROW()-1 -> 59 | B60: ElDail | C60: 7831.8239 | E60: 5310.603 | F60: 2137.9235 | G60: 383.29743 | H60: =IFERROR(__xludf.DUMMYFUNCTION("""COMPUTED_VALUE"""),"RicDeckard") -> RicDeckard | I60: =SUM(K60:M60) -> 9583.0617 | K60: =IFERROR(VLOOKUP(H60,'Classement MS'!$B$2:$C$200,2,0),"0") -> 3725.6242 | L60: =IFERROR(VLOOKUP(H60,'Classement RoC'!$B$2:$C$199,2,0),"0") -> 4348.1688 | M60: =IFERROR(VLOOKUP(H60,'Classement Kill'!$B$2:$C$199,2,0),"0") -> 1509.2687
A61: =ROW()-1 -> 60 | B61: REDSQUIRREL | C61: 7420.1756 | E61: 3561.6292 | F61: 3032.8464 | G61: 825.69996 | H61: =IFERROR(__xludf.DUMMYFUNCTION("""COMPUTED_VALUE"""),"SINGE7") -> SINGE7 | I61: =SUM(K61:M61) -> 9146.8836 | K61: =IFERROR(VLOOKUP(H61,'Classement MS'!$B$2:$C$200,2,0),"0") -> 3637.9357 | L61: =IFERROR(VLOOKUP(H61,'Classement RoC'!$B$2:$C$199,2,0),"0") -> 4208.6786 | M61: =IFERROR(VLOOKUP(H61,'Classement Kill'!$B$2:$C$199,2,0),"0") -> 1300.2692
A62: =ROW()-1 -> 61 | B62: Mikalack | C62: 7243.3753 | E62: 4705.3111 | F62: 1326.1851 | G62: 1211.8791 | H62: =IFERROR(__xludf.DUMMYFUNCTION("""COMPUTED_VALUE"""),"REDSQUIRREL") -> REDSQUIRREL | I62: =SUM(K62:M62) -> 7420.1756 | K62: =IFERROR(VLOOKUP(H62,'Classement MS'!$B$2:$C$200,2,0),"0") -> 3561.6292 | L62: =IFERROR(VLOOKUP(H62,'Classement RoC'!$B$2:$C$199,2,0),"0") -> 3032.8464 | M62: =IFERROR(VLOOKUP(H62,'Classement Kill'!$B$2:$C$199,2,0),"0") -> 825.69996
A63: =ROW()-1 -> 62 | B63: Blochedu86 | C63: 6864.105 | E63: 3737.1525 | F63: 1924.6917 | G63: 1202.2607 | H63: =IFERROR(__xludf.DUMMYFUNCTION("""COMPUTED_VALUE"""),"cassius-86") -> cassius-86 | I63: =SUM(K63:M63) -> 10020.381 | K63: =IFERROR(VLOOKUP(H63,'Classement MS'!$B$2:$C$200,2,0),"0") -> 3431.2137 | L63: =IFERROR(VLOOKUP(H63,'Classement RoC'!$B$2:$C$199,2,0),"0") -> 4592.0952 | M63: =IFERROR(VLOOKUP(H63,'Classement Kill'!$B$2:$C$199,2,0),"0") -> 1997.0723
A64: =ROW()-1 -> 63 | B64: M2TH___off | C64: 6765.4025 | E64: 2449.7173 | F64: 2566.2088 | G64: 1749.4764 | H64: =IFERROR(__xludf.DUMMYFUNCTION("""COMPUTED_VALUE"""),"Agouty79") -> Agouty79 | I64: =SUM(K64:M64) -> 9807.9252 | K64: =IFERROR(VLOOKUP(H64,'Classement MS'!$B$2:$C$200,2,0),"0") -> 3428.4039 | L64: =IFERROR(VLOOKUP(H64,'Classement RoC'!$B$2:$C$199,2,0),"0") -> 5415.0782 | M64: =IFERROR(VLOOKUP(H64,'Classement Kill'!$B$2:$C$199,2,0),"0") -> 964.44315
A65: =ROW()-1 -> 64 | B65: kinchuck | C65: 6753.8986 | E65: 1489.3157 | F65: 2172.62 | G65: 3091.9629 | H65: =IFERROR(__xludf.DUMMYFUNCTION("""COMPUTED_VALUE"""),"emmanuel.g") -> emmanuel.g | I65: =SUM(K65:M65) -> 8321.0204 | K65: =IFERROR(VLOOKUP(H65,'Classement MS'!$B$2:$C$200,2,0),"0") -> 3359.6191 | L65: =IFERROR(VLOOKUP(H65,'Classement RoC'!$B$2:$C$199,2,0),"0") -> 2618.0997 | M65: =IFERROR(VLOOKUP(H65,'Classement Kill'!$B$2:$C$199,2,0),"0") -> 2343.3016
A66: =ROW()-1 -> 65 | B66: FisherPrice. | C66: 6679.9256 | E66: 6173.2741 | F66: 375.93549 | G66: 130.716 | H66: =IFERROR(__xludf.DUMMYFUNCTION("""COMPUTED_VALUE"""),"chatouill86") -> chatouill86 | I66: =SUM(K66:M66) -> 5734.9354 | K66: =IFERROR(VLOOKUP(H66,'Classement MS'!$B$2:$C$200,2,0),"0") -> 3301.282 | L66: =IFERROR(VLOOKUP(H66,'Classement RoC'!$B$2:$C$199,2,0),"0") -> 2055.8976 | M66: =IFERROR(VLOOKUP(H66,'Classement Kill'!$B$2:$C$199,2,0),"0") -> 377.75576
A67: =ROW()-1 -> 66 | B67: StephBoss05 | C67: 6369.7661 | E67: 5611.2993 | F67: 577.32225 | G67: 181.14463 | H67: =IFERROR(__xludf.DUMMYFUNCTION("""COMPUTED_VALUE"""),"_RDpik_") -> _RDpik_ | I67: =SUM(K67:M67) -> 5933.7242 | K67: =IFERROR(VLOOKUP(H67,'Classement MS'!$B$2:$C$200,2,0),"0") -> 3289.5779 | L67: =IFERROR(VLOOKUP(H67,'Classement RoC'!$B$2:$C$199,2,0),"0") -> 1463.5246 | M67: =IFERROR(VLOOKUP(H67,'Classement Kill'!$B$2:$C$199,2,0),"0") -> 1180.6218
A68: =ROW()-1 -> 67 | B68: UnPetitJaune | C68: 6335.7966 | E68: 3130.9066 | F68: 3069.5423 | G68: 135.34778 | H68: =IFERROR(__xludf.DUMMYFUNCTION("""COMPUTED_VALUE"""),"UnPetitJaune") -> UnPetitJaune | I68: =SUM(K68:M68) -> 6335.7966 | K68: =IFERROR(VLOOKUP(H68,'Classement MS'!$B$2:$C$200,2,0),"0") -> 3130.9066 | L68: =IFERROR(VLOOKUP(H68,'Classement RoC'!$B$2:$C$199,2,0),"0") -> 3069.5423 | M68: =IFERROR(VLOOKUP(H68,'Classement Kill'!$B$2:$C$199,2,0),"0") -> 135.34778
A69: =ROW()-1 -> 68 | B69: cataleya86 | C69: 6271.0302 | E69: 3832.9409 | F69: 1458.2178 | G69: 979.87153 | H69: =IFERROR(__xludf.DUMMYFUNCTION("""COMPUTED_VALUE"""),"Adrinhooo") -> Adrinhooo | I69: =SUM(K69:M69) -> 3593.0452 | K69: =IFERROR(VLOOKUP(H69,'Classement MS'!$B$2:$C$200,2,0),"0") -> 3119.9349 | L69: =IFERROR(VLOOKUP(H69,'Classement RoC'!$B$2:$C$199,2,0),"0") -> 444.18655 | M69: =IFERROR(VLOOKUP(H69,'Classement Kill'!$B$2:$C$199,2,0),"0") -> 28.923681
A70: =ROW()-1 -> 69 | B70: iOneGeek | C70: 6135.8369 | E70: 2544.9393 | F70: 2655.2904 | G70: 935.60719 | H70: =IFERROR(__xludf.DUMMYFUNCTION("""COMPUTED_VALUE"""),"PSGJM") -> PSGJM | I70: =SUM(K70:M70) -> 4026.5727 | K70: =IFERROR(VLOOKUP(H70,'Classement MS'!$B$2:$C$200,2,0),"0") -> 2950.259 | L70: =IFERROR(VLOOKUP(H70,'Classement RoC'!$B$2:$C$199,2,0),"0") -> 861.57045 | M70: =IFERROR(VLOOKUP(H70,'Classement Kill'!$B$2:$C$199,2,0),"0") -> 214.74333
A71: =ROW()-1 -> 70 | B71: belussac | C71: 6065.6426 | E71: 1709.5932 | F71: 2729.7471 | G71: 1626.3023 | H71: =IFERROR(__xludf.DUMMYFUNCTION("""COMPUTED_VALUE"""),"Dr Linebourg") -> Dr Linebourg | I71: =SUM(K71:M71) -> 5069.6907 | K71: =IFERROR(VLOOKUP(H71,'Classement MS'!$B$2:$C$200,2,0),"0") -> 2650.0856 | L71: =IFERROR(VLOOKUP(H71,'Classement RoC'!$B$2:$C$199,2,0),"0") -> 1755.4092 | M71: =IFERROR(VLOOKUP(H71,'Classement Kill'!$B$2:$C$199,2,0),"0") -> 664.19583
A72: =ROW()-1 -> 71 | B72: marypops64 | C72: 5966.2417 | E72: 2225.9699 | F72: 2464.5109 | G72: 1275.7608 | H72: =IFERROR(__xludf.DUMMYFUNCTION("""COMPUTED_VALUE"""),"Mistral86") -> Mistral86 | I72: =SUM(K72:M72) -> 5021.9748 | K72: =IFERROR(VLOOKUP(H72,'Classement MS'!$B$2:$C$200,2,0),"0") -> 2597.3795 | L72: =IFERROR(VLOOKUP(H72,'Classement RoC'!$B$2:$C$199,2,0),"0") -> 931.67621 | M72: =IFERROR(VLOOKUP(H72,'Classement Kill'!$B$2:$C$199,2,0),"0") -> 1492.9191
A73: =ROW()-1 -> 72 | B73: _RDpik_ | C73: 5933.7242 | E73: 3289.5779 | F73: 1463.5245 | G73: 1180.6218 | H73: =IFERROR(__xludf.DUMMYFUNCTION("""COMPUTED_VALUE"""),"SCOTT16") -> SCOTT16 | I73: =SUM(K73:M73) -> 3754.0101 | K73: =IFERROR(VLOOKUP(H73,'Classement MS'!$B$2:$C$200,2,0),"0") -> 2555.3708 | L73: =IFERROR(VLOOKUP(H73,'Classement RoC'!$B$2:$C$199,2,0),"0") -> 1097.7892 | M73: =IFERROR(VLOOKUP(H73,'Classement Kill'!$B$2:$C$199,2,0),"0") -> 100.85005
A74: =ROW()-1 -> 73 | B74: chatouill86 | C74: 5734.9354 | E74: 3301.282 | F74: 2055.8976 | G74: 377.75576 | H74: =IFERROR(__xludf.DUMMYFUNCTION("""COMPUTED_VALUE"""),"iOneGeek") -> iOneGeek | I74: =SUM(K74:M74) -> 6135.8369 | K74: =IFERROR(VLOOKUP(H74,'Classement MS'!$B$2:$C$200,2,0),"0") -> 2544.9393 | L74: =IFERROR(VLOOKUP(H74,'Classement RoC'!$B$2:$C$199,2,0),"0") -> 2655.2904 | M74: =IFERROR(VLOOKUP(H74,'Classement Kill'!$B$2:$C$199,2,0),"0") -> 935.60719
A75: =ROW()-1 -> 74 | B75: Baloo-R | C75: 5486.3083 | E75: 1862.6652 | F75: 2440.1531 | G75: 1183.49 | H75: =IFERROR(__xludf.DUMMYFUNCTION("""COMPUTED_VALUE"""),"HIPPO777") -> HIPPO777 | I75: =SUM(K75:M75) -> 4625.1049 | K75: =IFERROR(VLOOKUP(H75,'Classement MS'!$B$2:$C$200,2,0),"0") -> 2520.6093 | L75: =IFERROR(VLOOKUP(H75,'Classement RoC'!$B$2:$C$199,2,0),"0") -> 1544.3546 | M75: =IFERROR(VLOOKUP(H75,'Classement Kill'!$B$2:$C$199,2,0),"0") -> 560.14109
A76: =ROW()-1 -> 75 | B76: Dr Linebourg | C76: 5069.6907 | E76: 2650.0856 | F76: 1755.4092 | G76: 664.19583 | H76: =IFERROR(__xludf.DUMMYFUNCTION("""COMPUTED_VALUE"""),"M2TH___off") -> M2TH___off | I76: =SUM(K76:M76) -> 6765.4025 | K76: =IFERROR(VLOOKUP(H76,'Classement MS'!$B$2:$C$200,2,0),"0") -> 2449.7173 | L76: =IFERROR(VLOOKUP(H76,'Classement RoC'!$B$2:$C$199,2,0),"0") -> 2566.2088 | M76: =IFERROR(VLOOKUP(H76,'Classement Kill'!$B$2:$C$199,2,0),"0") -> 1749.4764
A77: =ROW()-1 -> 76 | B77: Mistral86 | C77: 5021.9748 | E77: 2597.3795 | F77: 931.67621 | G77: 1492.9191 | H77: =IFERROR(__xludf.DUMMYFUNCTION("""COMPUTED_VALUE"""),"kkaicharlie") -> kkaicharlie | I77: =SUM(K77:M77) -> 3311.5365 | K77: =IFERROR(VLOOKUP(H77,'Classement MS'!$B$2:$C$200,2,0),"0") -> 2405.7529 | L77: =IFERROR(VLOOKUP(H77,'Classement RoC'!$B$2:$C$199,2,0),"0") -> 403.56892 | M77: =IFERROR(VLOOKUP(H77,'Classement Kill'!$B$2:$C$199,2,0),"0") -> 502.21466
A78: =ROW()-1 -> 77 | B78: HIPPO777 | C78: 4625.1049 | E78: 2520.6093 | F78: 1544.3546 | G78: 560.14109 | H78: =IFERROR(__xludf.DUMMYFUNCTION("""COMPUTED_VALUE"""),"Le_Pictavien") -> Le_Pictavien | I78: =SUM(K78:M78) -> 3334.4269 | K78: =IFERROR(VLOOKUP(H78,'Classement MS'!$B$2:$C$200,2,0),"0") -> 2354.1564 | L78: =IFERROR(VLOOKUP(H78,'Classement RoC'!$B$2:$C$199,2,0),"0") -> 319.35552 | M78: =IFERROR(VLOOKUP(H78,'Classement Kill'!$B$2:$C$199,2,0),"0") -> 660.91498
A79: =ROW()-1 -> 78 | B79: Senfou | C79: 4481.8992 | E79: 1606.5491 | F79: 1531.5807 | G79: 1343.7694 | H79: =IFERROR(__xludf.DUMMYFUNCTION("""COMPUTED_VALUE"""),"COMBERS") -> COMBERS | I79: =SUM(K79:M79) -> 11124.164 | K79: =IFERROR(VLOOKUP(H79,'Classement MS'!$B$2:$C$200,2,0),"0") -> 2322.9019 | L79: =IFERROR(VLOOKUP(H79,'Classement RoC'!$B$2:$C$199,2,0),"0") -> 6483.6826 | M79: =IFERROR(VLOOKUP(H79,'Classement Kill'!$B$2:$C$199,2,0),"0") -> 2317.5795
A80: =ROW()-1 -> 79 | B80: NIKOGIGI86 | C80: 4370.8759 | E80: 1612.7692 | F80: 1794.9405 | G80: 963.16623 | H80: =IFERROR(__xludf.DUMMYFUNCTION("""COMPUTED_VALUE"""),"marypops64") -> marypops64 | I80: =SUM(K80:M80) -> 5966.2417 | K80: =IFERROR(VLOOKUP(H80,'Classement MS'!$B$2:$C$200,2,0),"0") -> 2225.9699 | L80: =IFERROR(VLOOKUP(H80,'Classement RoC'!$B$2:$C$199,2,0),"0") -> 2464.5109 | M80: =IFERROR(VLOOKUP(H80,'Classement Kill'!$B$2:$C$199,2,0),"0") -> 1275.7608
A81: =ROW()-1 -> 80 | B81: vicmackey86 | C81: 4125.6621 | E81: 1921.88 | F81: 1187.463 | G81: 1016.319 | H81: =IFERROR(__xludf.DUMMYFUNCTION("""COMPUTED_VALUE"""),"Wallace") -> Wallace | I81: =SUM(K81:M81) -> 3063.2484 | K81: =IFERROR(VLOOKUP(H81,'Classement MS'!$B$2:$C$200,2,0),"0") -> 1953.8416 | L81: =IFERROR(VLOOKUP(H81,'Classement RoC'!$B$2:$C$199,2,0),"0") -> 689.81416 | M81: =IFERROR(VLOOKUP(H81,'Classement Kill'!$B$2:$C$199,2,0),"0") -> 419.59265
A82: =ROW()-1 -> 81 | B82: PSGJM | C82: 4026.5727 | E82: 2950.259 | F82: 861.57045 | G82: 214.74333 | H82: =IFERROR(__xludf.DUMMYFUNCTION("""COMPUTED_VALUE"""),"vicmackey86") -> vicmackey86 | I82: =SUM(K82:M82) -> 4125.6621 | K82: =IFERROR(VLOOKUP(H82,'Classement MS'!$B$2:$C$200,2,0),"0") -> 1921.88 | L82: =IFERROR(VLOOKUP(H82,'Classement RoC'!$B$2:$C$199,2,0),"0") -> 1187.463 | M82: =IFERROR(VLOOKUP(H82,'Classement Kill'!$B$2:$C$199,2,0),"0") -> 1016.319
A83: =ROW()-1 -> 82 | B83: TexasDolly | C83: 3859.8868 | E83: 964.32198 | F83: 2304.8924 | G83: 590.67237 | H83: =IFERROR(__xludf.DUMMYFUNCTION("""COMPUTED_VALUE"""),"Baloo-R") -> Baloo-R | I83: =SUM(K83:M83) -> 5486.3083 | K83: =IFERROR(VLOOKUP(H83,'Classement MS'!$B$2:$C$200,2,0),"0") -> 1862.6652 | L83: =IFERROR(VLOOKUP(H83,'Classement RoC'!$B$2:$C$199,2,0),"0") -> 2440.1531 | M83: =IFERROR(VLOOKUP(H83,'Classement Kill'!$B$2:$C$199,2,0),"0") -> 1183.49
A84: =ROW()-1 -> 83 | B84: SCOTT16 | C84: 3754.0101 | E84: 2555.3708 | F84: 1097.7892 | G84: 100.85005 | H84: =IFERROR(__xludf.DUMMYFUNCTION("""COMPUTED_VALUE"""),"pablo") -> pablo | I84: =SUM(K84:M84) -> 3316.2836 | K84: =IFERROR(VLOOKUP(H84,'Classement MS'!$B$2:$C$200,2,0),"0") -> 1745.4016 | L84: =IFERROR(VLOOKUP(H84,'Classement RoC'!$B$2:$C$199,2,0),"0") -> 1283.356 | M84: =IFERROR(VLOOKUP(H84,'Classement Kill'!$B$2:$C$199,2,0),"0") -> 287.52612
A85: =ROW()-1 -> 84 | B85: Adrinhooo | C85: 3593.0452 | E85: 3119.9349 | F85: 444.18655 | G85: 28.923681 | H85: =IFERROR(__xludf.DUMMYFUNCTION("""COMPUTED_VALUE"""),"belussac") -> belussac | I85: =SUM(K85:M85) -> 6065.6426 | K85: =IFERROR(VLOOKUP(H85,'Classement MS'!$B$2:$C$200,2,0),"0") -> 1709.5932 | L85: =IFERROR(VLOOKUP(H85,'Classement RoC'!$B$2:$C$199,2,0),"0") -> 2729.7471 | M85: =IFERROR(VLOOKUP(H85,'Classement Kill'!$B$2:$C$199,2,0),"0") -> 1626.3023
A86: =ROW()-1 -> 85 | B86: Le_Pictavien | C86: 3334.4269 | E86: 2354.1564 | F86: 319.35552 | G86: 660.91498 | H86: =IFERROR(__xludf.DUMMYFUNCTION("""COMPUTED_VALUE"""),"pinobis") -> pinobis | I86: =SUM(K86:M86) -> 1747.0296 | K86: =IFERROR(VLOOKUP(H86,'Classement MS'!$B$2:$C$200,2,0),"0") -> 1704.0249 | L86: =IFERROR(VLOOKUP(H86,'Classement RoC'!$B$2:$C$199,2,0),"0") -> 0 | M86: =IFERROR(VLOOKUP(H86,'Classement Kill'!$B$2:$C$199,2,0),"0") -> 43.004651
A87: =ROW()-1 -> 86 | B87: pablo | C87: 3316.2836 | E87: 1745.4016 | F87: 1283.356 | G87: 287.52612 | H87: =IFERROR(__xludf.DUMMYFUNCTION("""COMPUTED_VALUE"""),"Pachavi") -> Pachavi | I87: =SUM(K87:M87) -> 2943.4559 | K87: =IFERROR(VLOOKUP(H87,'Classement MS'!$B$2:$C$200,2,0),"0") -> 1653.9166 | L87: =IFERROR(VLOOKUP(H87,'Classement RoC'!$B$2:$C$199,2,0),"0") -> 1260.4536 | M87: =IFERROR(VLOOKUP(H87,'Classement Kill'!$B$2:$C$199,2,0),"0") -> 29.085666
A88: =ROW()-1 -> 87 | B88: kkaicharlie | C88: 3311.5365 | E88: 2405.7529 | F88: 403.56892 | G88: 502.21466 | H88: =IFERROR(__xludf.DUMMYFUNCTION("""COMPUTED_VALUE"""),"NIKOGIGI86") -> NIKOGIGI86 | I88: =SUM(K88:M88) -> 4370.8759 | K88: =IFERROR(VLOOKUP(H88,'Classement MS'!$B$2:$C$200,2,0),"0") -> 1612.7692 | L88: =IFERROR(VLOOKUP(H88,'Classement RoC'!$B$2:$C$199,2,0),"0") -> 1794.9405 | M88: =IFERROR(VLOOKUP(H88,'Classement Kill'!$B$2:$C$199,2,0),"0") -> 963.16623
A89: =ROW()-1 -> 88 | B89: nono.1er | C89: 3133.2045 | E89: 1482.593 | F89: 1572.6036 | G89: 78.00794 | H89: =IFERROR(__xludf.DUMMYFUNCTION("""COMPUTED_VALUE"""),"Senfou") -> Senfou | I89: =SUM(K89:M89) -> 4481.8992 | K89: =IFERROR(VLOOKUP(H89,'Classement MS'!$B$2:$C$200,2,0),"0") -> 1606.5491 | L89: =IFERROR(VLOOKUP(H89,'Classement RoC'!$B$2:$C$199,2,0),"0") -> 1531.5807 | M89: =IFERROR(VLOOKUP(H89,'Classement Kill'!$B$2:$C$199,2,0),"0") -> 1343.7694
A90: =ROW()-1 -> 89 | B90: Wallace | C90: 3063.2484 | E90: 1953.8416 | F90: 689.81416 | G90: 419.59265 | H90: =IFERROR(__xludf.DUMMYFUNCTION("""COMPUTED_VALUE"""),"Pivanoxlia") -> Pivanoxlia | I90: =SUM(K90:M90) -> 2108.0732 | K90: =IFERROR(VLOOKUP(H90,'Classement MS'!$B$2:$C$200,2,0),"0") -> 1584.0525 | L90: =IFERROR(VLOOKUP(H90,'Classement RoC'!$B$2:$C$199,2,0),"0") -> 299.29774 | M90: =IFERROR(VLOOKUP(H90,'Classement Kill'!$B$2:$C$199,2,0),"0") -> 224.72302
A91: =ROW()-1 -> 90 | B91: ifig | C91: 2988.8728 | E91: 0 | F91: 2890.4999 | G91: 98.372928 | H91: =IFERROR(__xludf.DUMMYFUNCTION("""COMPUTED_VALUE"""),"Bratake") -> Bratake | I91: =SUM(K91:M91) -> 2295.1742 | K91: =IFERROR(VLOOKUP(H91,'Classement MS'!$B$2:$C$200,2,0),"0") -> 1543.2194 | L91: =IFERROR(VLOOKUP(H91,'Classement RoC'!$B$2:$C$199,2,0),"0") -> 613.48536 | M91: =IFERROR(VLOOKUP(H91,'Classement Kill'!$B$2:$C$199,2,0),"0") -> 138.46943
A92: =ROW()-1 -> 91 | B92: Pachavi | C92: 2943.4559 | E92: 1653.9166 | F92: 1260.4536 | G92: 29.085666 | H92: =IFERROR(__xludf.DUMMYFUNCTION("""COMPUTED_VALUE"""),"Multiversus") -> Multiversus | I92: =SUM(K92:M92) -> 2245.3072 | K92: =IFERROR(VLOOKUP(H92,'Classement MS'!$B$2:$C$200,2,0),"0") -> 1494.2178 | L92: =IFERROR(VLOOKUP(H92,'Classement RoC'!$B$2:$C$199,2,0),"0") -> 751.08937 | M92: =IFERROR(VLOOKUP(H92,'Classement Kill'!$B$2:$C$199,2,0),"0") -> 0
A93: =ROW()-1 -> 92 | B93: RRazeRR_ | C93: 2834.401 | E93: 0 | F93: 0 | G93: 2834.401 | H93: =IFERROR(__xludf.DUMMYFUNCTION("""COMPUTED_VALUE"""),"kinchuck") -> kinchuck | I93: =SUM(K93:M93) -> 6753.8986 | K93: =IFERROR(VLOOKUP(H93,'Classement MS'!$B$2:$C$200,2,0),"0") -> 1489.3157 | L93: =IFERROR(VLOOKUP(H93,'Classement RoC'!$B$2:$C$199,2,0),"0") -> 2172.62 | M93: =IFERROR(VLOOKUP(H93,'Classement Kill'!$B$2:$C$199,2,0),"0") -> 3091.9629
A94: =ROW()-1 -> 93 | B94: Jennyyy8 | C94: 2754.1475 | E94: 327.18803 | F94: 1433.764 | G94: 993.19545 | H94: =IFERROR(__xludf.DUMMYFUNCTION("""COMPUTED_VALUE"""),"nono.1er") -> nono.1er | I94: =SUM(K94:M94) -> 3133.2045 | K94: =IFERROR(VLOOKUP(H94,'Classement MS'!$B$2:$C$200,2,0),"0") -> 1482.593 | L94: =IFERROR(VLOOKUP(H94,'Classement RoC'!$B$2:$C$199,2,0),"0") -> 1572.6036 | M94: =IFERROR(VLOOKUP(H94,'Classement Kill'!$B$2:$C$199,2,0),"0") -> 78.00794
A95: =ROW()-1 -> 94 | B95: XFLOXANXGEX | C95: 2498.4545 | E95: 877.43677 | F95: 1065.1287 | G95: 555.88899 | H95: =IFERROR(__xludf.DUMMYFUNCTION("""COMPUTED_VALUE"""),"Piva") -> Piva | I95: =SUM(K95:M95) -> 1946.8966 | K95: =IFERROR(VLOOKUP(H95,'Classement MS'!$B$2:$C$200,2,0),"0") -> 1323.7256 | L95: =IFERROR(VLOOKUP(H95,'Classement RoC'!$B$2:$C$199,2,0),"0") -> 388.73419 | M95: =IFERROR(VLOOKUP(H95,'Classement Kill'!$B$2:$C$199,2,0),"0") -> 234.4368
A96: =ROW()-1 -> 95 | B96: Bratake | C96: 2295.1742 | E96: 1543.2194 | F96: 613.48536 | G96: 138.46943 | H96: =IFERROR(__xludf.DUMMYFUNCTION("""COMPUTED_VALUE"""),"Butterfly-as") -> Butterfly-as | I96: =SUM(K96:M96) -> 2274.8968 | K96: =IFERROR(VLOOKUP(H96,'Classement MS'!$B$2:$C$200,2,0),"0") -> 1038.9536 | L96: =IFERROR(VLOOKUP(H96,'Classement RoC'!$B$2:$C$199,2,0),"0") -> 680.00358 | M96: =IFERROR(VLOOKUP(H96,'Classement Kill'!$B$2:$C$199,2,0),"0") -> 555.93958
A97: =ROW()-1 -> 96 | B97: Butterfly-as | C97: 2274.8968 | E97: 1038.9536 | F97: 680.00358 | G97: 555.93958 | H97: =IFERROR(__xludf.DUMMYFUNCTION("""COMPUTED_VALUE"""),"Mr Steven") -> Mr Steven | I97: =SUM(K97:M97) -> 2014.3032 | K97: =IFERROR(VLOOKUP(H97,'Classement MS'!$B$2:$C$200,2,0),"0") -> 999.91283 | L97: =IFERROR(VLOOKUP(H97,'Classement RoC'!$B$2:$C$199,2,0),"0") -> 1014.3904 | M97: =IFERROR(VLOOKUP(H97,'Classement Kill'!$B$2:$C$199,2,0),"0") -> 0
A98: =ROW()-1 -> 97 | B98: Multiversus | C98: 2245.3072 | E98: 1494.2178 | F98: 751.08937 | G98: 0 | H98: =IFERROR(__xludf.DUMMYFUNCTION("""COMPUTED_VALUE"""),"TexasDolly") -> TexasDolly | I98: =SUM(K98:M98) -> 3859.8868 | K98: =IFERROR(VLOOKUP(H98,'Classement MS'!$B$2:$C$200,2,0),"0") -> 964.32198 | L98: =IFERROR(VLOOKUP(H98,'Classement RoC'!$B$2:$C$199,2,0),"0") -> 2304.8924 | M98: =IFERROR(VLOOKUP(H98,'Classement Kill'!$B$2:$C$199,2,0),"0") -> 590.67237
A99: =ROW()-1 -> 98 | B99: Pivanoxlia | C99: 2108.0732 | E99: 1584.0525 | F99: 299.29774 | G99: 224.72302 | H99: =IFERROR(__xludf.DUMMYFUNCTION("""COMPUTED_VALUE"""),"RousskoShark") -> RousskoShark | I99: =SUM(K99:M99) -> 1157.1849 | K99: =IFERROR(VLOOKUP(H99,'Classement MS'!$B$2:$C$200,2,0),"0") -> 934.5318 | L99: =IFERROR(VLOOKUP(H99,'Classement RoC'!$B$2:$C$199,2,0),"0") -> 222.65309 | M99: =IFERROR(VLOOKUP(H99,'Classement Kill'!$B$2:$C$199,2,0),"0") -> 0
A100: =ROW()-1 -> 99 | B100: roudoudou759 | C100: 2103.8338 | E100: 844.47435 | F100: 286.67443 | G100: 972.68507 | H100: =IFERROR(__xludf.DUMMYFUNCTION("""COMPUTED_VALUE"""),"Williamax86") -> Williamax86 | I100: =SUM(K100:M100) -> 1639.144 | K100: =IFERROR(VLOOKUP(H100,'Classement MS'!$B$2:$C$200,2,0),"0") -> 902.56253 | L100: =IFERROR(VLOOKUP(H100,'Classement RoC'!$B$2:$C$199,2,0),"0") -> 525.30124 | M100: =IFERROR(VLOOKUP(H100,'Classement Kill'!$B$2:$C$199,2,0),"0") -> 211.28019
...

Sheet TOP 10
A1: Monster Stack | D1: Roller Coaster | H1: Prochains rendez-vous
A2: 1 | B2: ='Classement MS'!B2 -> _VisMaVie_ | C2: ='Classement MS'!C2 -> 10234.559 | D2: 1 | E2: ='Classement RoC'!B2 -> Nanny on pe | F2: ='Classement RoC'!C2 -> 7055.1947 | H2: Online | J2: Live
A3: 2 | B3: ='Classement MS'!B3 -> Xenocq79 | C3: ='Classement MS'!C3 -> 10036.336 | D3: 2 | E3: ='Classement RoC'!B3 -> COMBERS | F3: ='Classement RoC'!C3 -> 6483.6826 | H3: =IFERROR(__xludf.DUMMYFUNCTION("IMPORTRANGE(""https://docs.google.com/spreadsheets/d/1UQyG8rlZnvrZ4fb0TQ41OOfL22HVu1NT6f2xC71LSps/edit?gid=0#gid=0"",""Winamax!A26:B26"")"),"") | J3: =IFERROR(__xludf.DUMMYFUNCTION("IMPORTRANGE(""https://docs.google.com/spreadsheets/d/1UQyG8rlZnvrZ4fb0TQ41OOfL22HVu1NT6f2xC71LSps/edit?gid=0#gid=0"",""Live!A32:B32"")"),46115.0) -> 46115 | K3: =IFERROR(__xludf.DUMMYFUNCTION("""COMPUTED_VALUE"""),"Roller Coaster 9") -> Roller Coaster 9
A4: 3 | B4: ='Classement MS'!B4 -> Mako Lemore | C4: ='Classement MS'!C4 -> 9523.2264 | D4: 3 | E4: ='Classement RoC'!B4 -> 8kinder6 | F4: ='Classement RoC'!C4 -> 6081.4046 | H4: =IFERROR(__xludf.DUMMYFUNCTION("IMPORTRANGE(""https://docs.google.com/spreadsheets/d/1UQyG8rlZnvrZ4fb0TQ41OOfL22HVu1NT6f2xC71LSps/edit?gid=0#gid=0"",""Winamax!A27:B27"")"),"") | J4: =IFERROR(__xludf.DUMMYFUNCTION("IMPORTRANGE(""https://docs.google.com/spreadsheets/d/1UQyG8rlZnvrZ4fb0TQ41OOfL22HVu1NT6f2xC71LSps/edit?gid=0#gid=0"",""Live!A33:B33"")"),46122.0) -> 46122 | K4: =IFERROR(__xludf.DUMMYFUNCTION("""COMPUTED_VALUE"""),"Monster Stack 9") -> Monster Stack 9
A5: 4 | B5: ='Classement MS'!B5 -> 8kinder6 | C5: ='Classement MS'!C5 -> 9401.2846 | D5: 4 | E5: ='Classement RoC'!B5 -> Kevfurious | F5: ='Classement RoC'!C5 -> 5988.0097 | H5: =IFERROR(__xludf.DUMMYFUNCTION("IMPORTRANGE(""https://docs.google.com/spreadsheets/d/1UQyG8rlZnvrZ4fb0TQ41OOfL22HVu1NT6f2xC71LSps/edit?gid=0#gid=0"",""Winamax!A28:B28"")"),"") | J5: =IFERROR(__xludf.DUMMYFUNCTION("IMPORTRANGE(""https://docs.google.com/spreadsheets/d/1UQyG8rlZnvrZ4fb0TQ41OOfL22HVu1NT6f2xC71LSps/edit?gid=0#gid=0"",""Live!A34:B34"")"),46129.0) -> 46129 | K5: =IFERROR(__xludf.DUMMYFUNCTION("""COMPUTED_VALUE"""),"Kill the PPCien 9") -> Kill the PPCien 9
A6: 5 | B6: ='Classement MS'!B6 -> titounio | C6: ='Classement MS'!C6 -> 9367.9583 | D6: 5 | E6: ='Classement RoC'!B6 -> JM-Chatte | F6: ='Classement RoC'!C6 -> 5914.8303 | H6: =IFERROR(__xludf.DUMMYFUNCTION("IMPORTRANGE(""https://docs.google.com/spreadsheets/d/1UQyG8rlZnvrZ4fb0TQ41OOfL22HVu1NT6f2xC71LSps/edit?gid=0#gid=0"",""Winamax!A29:B29"")"),"") | J6: =IFERROR(__xludf.DUMMYFUNCTION("IMPORTRANGE(""https://docs.google.com/spreadsheets/d/1UQyG8rlZnvrZ4fb0TQ41OOfL22HVu1NT6f2xC71LSps/edit?gid=0#gid=0"",""Live!A35:B35"")"),46136.0) -> 46136 | K6: =IFERROR(__xludf.DUMMYFUNCTION("""COMPUTED_VALUE"""),"Roller Coaster 10") -> Roller Coaster 10
A7: 6 | B7: ='Classement MS'!B7 -> alexinzaghi | C7: ='Classement MS'!C7 -> 9284.116 | D7: 6 | E7: ='Classement RoC'!B7 -> Mako Lemore | F7: ='Classement RoC'!C7 -> 5695.5094 | H7: =IFERROR(__xludf.DUMMYFUNCTION("IMPORTRANGE(""https://docs.google.com/spreadsheets/d/1UQyG8rlZnvrZ4fb0TQ41OOfL22HVu1NT6f2xC71LSps/edit?gid=0#gid=0"",""Winamax!A30:B30"")"),"") | J7: =IFERROR(__xludf.DUMMYFUNCTION("IMPORTRANGE(""https://docs.google.com/spreadsheets/d/1UQyG8rlZnvrZ4fb0TQ41OOfL22HVu1NT6f2xC71LSps/edit?gid=0#gid=0"",""Live!A36:B36"")"),46143.0) -> 46143 | K7: =IFERROR(__xludf.DUMMYFUNCTION("""COMPUTED_VALUE"""),"Open") -> Open
A8: 7 | B8: ='Classement MS'!B8 -> TontonZgueg | C8: ='Classement MS'!C8 -> 9180.7183 | D8: 7 | E8: ='Classement RoC'!B8 -> Agouty79 | F8: ='Classement RoC'!C8 -> 5415.0782 | H8: =IFERROR(__xludf.DUMMYFUNCTION("IMPORTRANGE(""https://docs.google.com/spreadsheets/d/1UQyG8rlZnvrZ4fb0TQ41OOfL22HVu1NT6f2xC71LSps/edit?gid=0#gid=0"",""Winamax!A31:B31"")"),"") | J8: =IFERROR(__xludf.DUMMYFUNCTION("IMPORTRANGE(""https://docs.google.com/spreadsheets/d/1UQyG8rlZnvrZ4fb0TQ41OOfL22HVu1NT6f2xC71LSps/edit?gid=0#gid=0"",""Live!A37:B37"")"),46144.0) -> 46144 | K8: =IFERROR(__xludf.DUMMYFUNCTION("""COMPUTED_VALUE"""),"Open") -> Open
A9: 8 | B9: ='Classement MS'!B9 -> Phil1308 | C9: ='Classement MS'!C9 -> 8505.4229 | D9: 8 | E9: ='Classement RoC'!B9 -> .BARBAPAPA66 | F9: ='Classement RoC'!C9 -> 5382.8454
A10: 9 | B10: ='Classement MS'!B10 -> Immond | C10: ='Classement MS'!C10 -> 8150.0787 | D10: 9 | E10: ='Classement RoC'!B10 -> rastamokett | F10: ='Classement RoC'!C10 -> 5302.7597
A11: 10 | B11: ='Classement MS'!B11 -> jejehehe | C11: ='Classement MS'!C11 -> 8037.8864 | D11: 10 | E11: ='Classement RoC'!B11 -> _VisMaVie_ | F11: ='Classement RoC'!C11 -> 5252.0653
A12: Kill the PPCien
A13: 1 | B13: ='Classement Kill'!B2 -> kinchuck | C13: ='Classement Kill'!C2 -> 3091.9629
A14: 2 | B14: ='Classement Kill'!B3 -> alexinzaghi | C14: ='Classement Kill'!C3 -> 2996.6597
A15: 3 | B15: ='Classement Kill'!B4 -> Vaillant 86 | C15: ='Classement Kill'!C4 -> 2921.4216
A16: 4 | B16: ='Classement Kill'!B5 -> RRazeRR_ | C16: ='Classement Kill'!C5 -> 2834.401
A17: 5 | B17: ='Classement Kill'!B6 -> _Sale-Bet_ | C17: ='Classement Kill'!C6 -> 2753.1718
A18: 6 | B18: ='Classement Kill'!B7 -> christ86000 | C18: ='Classement Kill'!C7 -> 2636.1197
A19: 7 | B19: ='Classement Kill'!B8 -> jejehehe | C19: ='Classement Kill'!C8 -> 2459.9007
A20: 8 | B20: ='Classement Kill'!B9 -> Pitt86700 | C20: ='Classement Kill'!C9 -> 2459.8301
A21: 9 | B21: ='Classement Kill'!B10 -> TontonZgueg | C21: ='Classement Kill'!C10 -> 2436.7123
A22: 10 | B22: ='Classement Kill'!B11 -> emmanuel.g | C22: ='Classement Kill'!C11 -> 2343.3016

Sheet Classement MS
A1: Classement | B1: PSEUDO | C1: Points | E1: MS1 | F1: pts1 | G1: MS2 | H1: pts2 | I1: MS3 | J1: pts3 | K1: MS4 | L1: pts4 | M1: MS5 | N1: pts5 | O1: MS6 | P1: pts6 | Q1: MS7 | R1: pts7 | S1: MS8 | T1: pts8 | U1: MS9 | V1: pts9 | W1: MS10 | X1: pts10 | Y1: MS11 | Z1: pts11 | AA1: MS12 | AB1: pts12 | AC1: MS13 | AD1: pts13 | AE1: PSEUDO | AF1: Points
A2: =ROW()-1 -> 1 | B2: {=SORT(AE2:AF251,2,FALSE)} -> _VisMaVie_ | C2: 10234.559 | E2: =IFERROR(VLOOKUP($B2,'MS1'!$A$1:$B$160,2,0),"0") -> 7 | F2: =IFERROR(VLOOKUP(E2,'MS1'!$B$1:$C$161,2,0),0) -> 1280.3612 | G2: =IFERROR(VLOOKUP($B2,'MS2'!$A$1:$B$160,2,0),"0") -> 51 | H2: =IFERROR(VLOOKUP(G2,'MS2'!$B$1:$C$161,2,0),0) -> 235.03228 | I2: =IFERROR(VLOOKUP($B2,'MS3'!$A$1:$B$161,2,0),0) -> 1 | J2: =IFERROR(VLOOKUP(I2,'MS3'!$B$1:$C$161,2,0),0) -> 2339.0286 | K2: =IFERROR(VLOOKUP($B2,'MS4'!$A$1:$B$160,2,0),"0") -> 9 | L2: =IFERROR(VLOOKUP(K2,'MS4'!$B$1:$C$161,2,0),0) -> 1143.9347 | M2: =IFERROR(VLOOKUP($B2,'MS5'!$A$1:$B$160,2,0),"0") -> 31 | N2: =IFERROR(VLOOKUP(M2,'MS5'!$B$1:$C$161,2,0),0) -> 485.17021 | O2: =IFERROR(VLOOKUP($B2,'MS6'!$A$1:$B$160,2,0),"0") -> 5 | P2: =IFERROR(VLOOKUP(O2,'MS6'!$B$1:$C$161,2,0),0) -> 1430.1798 | Q2: =IFERROR(VLOOKUP($B2,'MS7'!$A$1:$B$160,2,0),"0") -> 15 | R2: =IFERROR(VLOOKUP(Q2,'MS7'!$B$1:$C$161,2,0),0) -> 923.86036 | S2: =IFERROR(VLOOKUP($B2,'MS8'!$A$1:$B$160,2,0),"0") -> 60 | T2: =IFERROR(VLOOKUP(S2,'MS8'!$B$1:$C$161,2,0),0) -> 108.05823 | U2: =IFERROR(VLOOKUP($B2,'MS9'!$A$1:$B$160,2,0),"0") -> 24 | V2: =IFERROR(VLOOKUP(U2,'MS9'!$B$1:$C$161,2,0),0) -> 655.58426 | W2: =IFERROR(VLOOKUP($B2,'MS10'!$A$1:$B$160,2,0),"0") -> 20 | X2: =IFERROR(VLOOKUP(W2,'MS10'!$B$1:$C$161,2,0),0) -> 743.63528 | Y2: =IFERROR(VLOOKUP($B2,'MS11'!$A$1:$B$160,2,0),"0") -> 38 | Z2: =IFERROR(VLOOKUP(Y2,'MS11'!$B$1:$C$161,2,0),0) -> 360.22901 | AA2: =IFERROR(VLOOKUP($B2,'MS12'!$A$1:$B$160,2,0),"0") -> 10 | AB2: =IFERROR(VLOOKUP(AA2,'MS12'!$B$1:$C$161,2,0),0) -> 872.57547 | AC2: =IFERROR(VLOOKUP($B2,'MS13'!$A$1:$B$160,2,0),"0") -> 0 | AD2: =IFERROR(VLOOKUP(AC2,'MS13'!$B$1:$C$161,2,0),0) -> 0 | AE2: =IFERROR(__xludf.DUMMYFUNCTION("UNIQUE(FLATTEN({'MS1'!A2:A1000;'MS2'!A2:A1000;'MS3'!A2:A1000;'MS4'!A2:A1000;'MS5'!A2:A1000;'MS6'!A2:A1000;'MS7'!A2:A1000;'MS8'!A2:A1000;'MS9'!A2:A1000;'MS10'!A2:A1000;'MS11'!A2:A1000;'MS12'!A2:A1000;'MS13'!A2:A1000 }))"),"Pitt86700") -> Pitt86700 | AF2: =SUM(AG2:AR2)-small((AG2:AR2),1)-small((AG2:AR2),2) -> 5381.2535 | AG2: =IFERROR(VLOOKUP($AE2,'MS1'!$A$1:$C$161,3,0),0) -> 2280.9489 | AH2: =IFERROR(VLOOKUP($AE2,'MS2'!$A$1:$C$161,3,0),0) -> 892.5452 | AI2: =IFERROR(VLOOKUP($AE2,'MS3'!$A$1:$C$161,3,0),0) -> 187.98927 | AJ2: =IFERROR(VLOOKUP($AE2,'MS4'!$A$1:$C$161,3,0),0) -> 290.17062 | AK2: =IFERROR(VLOOKUP($AE2,'MS5'!$A$1:$C$161,3,0),0) -> 160.64724 | AL2: =IFERROR(VLOOKUP($AE2,'MS6'!$A$1:$C$161,3,0),0) -> 0 | AM2: =IFERROR(VLOOKUP($AE2,'MS7'!$A$1:$C$161,3,0),0) -> 442.31327 | AN2: =IFERROR(VLOOKUP($AE2,'MS8'!$A$1:$C$161,3,0),0) -> 450.18548 | AO2: =IFERROR(VLOOKUP($AE2,'MS9'!$A$1:$C$161,3,0),0) -> 457.83847 | AP2: =IFERROR(VLOOKUP($AE2,'MS10'!$A$1:$C$161,3,0),0) -> 0 | AQ2: =IFERROR(VLOOKUP($AE2,'MS11'!$A$1:$C$161,3,0),0) -> 218.61507 | AR2: =IFERROR(VLOOKUP($AE2,'MS12'!$A$1:$C$161,3,0),0) -> 0 | AS2: =IFERROR(VLOOKUP($AE2,'MS13'!$A$1:$C$161,3,0),0) -> 0
A3: =ROW()-1 -> 2 | B3: Xenocq79 | C3: 10036.336 | E3: =IFERROR(VLOOKUP($B3,'MS1'!$A$1:$B$160,2,0),"0") -> 0 | F3: =IFERROR(VLOOKUP(E3,'MS1'!$B$1:$C$161,2,0),0) -> 0 | G3: =IFERROR(VLOOKUP($B3,'MS2'!$A$1:$B$160,2,0),"0") -> 13 | H3: =IFERROR(VLOOKUP(G3,'MS2'!$B$1:$C$161,2,0),0) -> 992.32852 | I3: =IFERROR(VLOOKUP($B3,'MS3'!$A$1:$B$161,2,0),0) -> 3 | J3: =IFERROR(VLOOKUP(I3,'MS3'!$B$1:$C$161,2,0),0) -> 1730.507 | K3: =IFERROR(VLOOKUP($B3,'MS4'!$A$1:$B$160,2,0),"0") -> 8 | L3: =IFERROR(VLOOKUP(K3,'MS4'!$B$1:$C$161,2,0),0) -> 1198.432 | M3: =IFERROR(VLOOKUP($B3,'MS5'!$A$1:$B$160,2,0),"0") -> 42 | N3: =IFERROR(VLOOKUP(M3,'MS5'!$B$1:$C$161,2,0),0) -> 295.11518 | O3: =IFERROR(VLOOKUP($B3,'MS6'!$A$1:$B$160,2,0),"0") -> 19 | P3: =IFERROR(VLOOKUP(O3,'MS6'!$B$1:$C$161,2,0),0) -> 800.26675 | Q3: =IFERROR(VLOOKUP($B3,'MS7'!$A$1:$B$160,2,0),"0") -> 0 | R3: =IFERROR(VLOOKUP(Q3,'MS7'!$B$1:$C$161,2,0),0) -> 0 | S3: =IFERROR(VLOOKUP($B3,'MS8'!$A$1:$B$160,2,0),"0") -> 7 | T3: =IFERROR(VLOOKUP(S3,'MS8'!$B$1:$C$161,2,0),0) -> 1273.7094 | U3: =IFERROR(VLOOKUP($B3,'MS9'!$A$1:$B$160,2,0),"0") -> 28 | V3: =IFERROR(VLOOKUP(U3,'MS9'!$B$1:$C$161,2,0),0) -> 570.72398 | W3: =IFERROR(VLOOKUP($B3,'MS10'!$A$1:$B$160,2,0),"0") -> 12 | X3: =IFERROR(VLOOKUP(W3,'MS10'!$B$1:$C$161,2,0),0) -> 995.14308 | Y3: =IFERROR(VLOOKUP($B3,'MS11'!$A$1:$B$160,2,0),"0") -> 12 | Z3: =IFERROR(VLOOKUP(Y3,'MS11'!$B$1:$C$161,2,0),0) -> 980.30099 | AA3: =IFERROR(VLOOKUP($B3,'MS12'!$A$1:$B$160,2,0),"0") -> 5 | AB3: =IFERROR(VLOOKUP(AA3,'MS12'!$B$1:$C$161,2,0),0) -> 1199.8093 | AC3: =IFERROR(VLOOKUP($B3,'MS13'!$A$1:$B$160,2,0),"0") -> 0 | AD3: =IFERROR(VLOOKUP(AC3,'MS13'!$B$1:$C$161,2,0),0) -> 0 | AE3: =IFERROR(__xludf.DUMMYFUNCTION("""COMPUTED_VALUE"""),"Le_Pictavien") -> Le_Pictavien | AF3: =SUM(AG3:AR3)-small((AG3:AR3),1)-small((AG3:AR3),2) -> 2354.1564 | AG3: =IFERROR(VLOOKUP($AE3,'MS1'!$A$1:$C$161,3,0),0) -> 1890.244 | AH3: =IFERROR(VLOOKUP($AE3,'MS2'!$A$1:$C$161,3,0),0) -> 143.74432 | AI3: =IFERROR(VLOOKUP($AE3,'MS3'!$A$1:$C$161,3,0),0) -> 0 | AJ3: =IFERROR(VLOOKUP($AE3,'MS4'!$A$1:$C$161,3,0),0) -> 320.16807 | AK3: =IFERROR(VLOOKUP($AE3,'MS5'!$A$1:$C$161,3,0),0) -> 0 | AL3: =IFERROR(VLOOKUP($AE3,'MS6'!$A$1:$C$161,3,0),0) -> 0 | AM3: =IFERROR(VLOOKUP($AE3,'MS7'!$A$1:$C$161,3,0),0) -> 0 | AN3: =IFERROR(VLOOKUP($AE3,'MS8'!$A$1:$C$161,3,0),0) -> 0 | AO3: =IFERROR(VLOOKUP($AE3,'MS9'!$A$1:$C$161,3,0),0) -> 0 | AP3: =IFERROR(VLOOKUP($AE3,'MS10'!$A$1:$C$161,3,0),0) -> 0 | AQ3: =IFERROR(VLOOKUP($AE3,'MS11'!$A$1:$C$161,3,0),0) -> 0 | AR3: =IFERROR(VLOOKUP($AE3,'MS12'!$A$1:$C$161,3,0),0) -> 0 | AS3: =IFERROR(VLOOKUP($AE3,'MS13'!$A$1:$C$161,3,0),0) -> 0
A4: =ROW()-1 -> 3 | B4: Mako Lemore | C4: 9523.2264 | E4: =IFERROR(VLOOKUP($B4,'MS1'!$A$1:$B$160,2,0),"0") -> 19 | F4: =IFERROR(VLOOKUP(E4,'MS1'!$B$1:$C$161,2,0),0) -> 807.5106 | G4: =IFERROR(VLOOKUP($B4,'MS2'!$A$1:$B$160,2,0),"0") -> 38 | H4: =IFERROR(VLOOKUP(G4,'MS2'!$B$1:$C$161,2,0),0) -> 426.05978 | I4: =IFERROR(VLOOKUP($B4,'MS3'!$A$1:$B$161,2,0),0) -> 2 | J4: =IFERROR(VLOOKUP(I4,'MS3'!$B$1:$C$161,2,0),0) -> 1941.0008 | K4: =IFERROR(VLOOKUP($B4,'MS4'!$A$1:$B$160,2,0),"0") -> 47 | L4: =IFERROR(VLOOKUP(K4,'MS4'!$B$1:$C$161,2,0),0) -> 260.93925 | M4: =IFERROR(VLOOKUP($B4,'MS5'!$A$1:$B$160,2,0),"0") -> 8 | N4: =IFERROR(VLOOKUP(M4,'MS5'!$B$1:$C$161,2,0),0) -> 1169.9701 | O4: =IFERROR(VLOOKUP($B4,'MS6'!$A$1:$B$160,2,0),"0") -> 45 | P4: =IFERROR(VLOOKUP(O4,'MS6'!$B$1:$C$161,2,0),0) -> 309.64301 | Q4: =IFERROR(VLOOKUP($B4,'MS7'!$A$1:$B$160,2,0),"0") -> 27 | R4: =IFERROR(VLOOKUP(Q4,'MS7'!$B$1:$C$161,2,0),0) -> 623.58258 | S4: =IFERROR(VLOOKUP($B4,'MS8'!$A$1:$B$160,2,0),"0") -> 45 | T4: =IFERROR(VLOOKUP(S4,'MS8'!$B$1:$C$161,2,0),0) -> 309.64301 | U4: =IFERROR(VLOOKUP($B4,'MS9'!$A$1:$B$160,2,0),"0") -> 19 | V4: =IFERROR(VLOOKUP(U4,'MS9'!$B$1:$C$161,2,0),0) -> 777.75264 | W4: =IFERROR(VLOOKUP($B4,'MS10'!$A$1:$B$160,2,0),"0") -> 46 | X4: =IFERROR(VLOOKUP(W4,'MS10'!$B$1:$C$161,2,0),0) -> 254.95828 | Y4: =IFERROR(VLOOKUP($B4,'MS11'!$A$1:$B$160,2,0),"0") -> 8 | Z4: =IFERROR(VLOOKUP(Y4,'MS11'!$B$1:$C$161,2,0),0) -> 1169.9701 | AA4: =IFERROR(VLOOKUP($B4,'MS12'!$A$1:$B$160,2,0),"0") -> 1 | AB4: =IFERROR(VLOOKUP(AA4,'MS12'!$B$1:$C$161,2,0),0) -> 1988.0938 | AC4: =IFERROR(VLOOKUP($B4,'MS13'!$A$1:$B$160,2,0),"0") -> 0 | AD4: =IFERROR(VLOOKUP(AC4,'MS13'!$B$1:$C$161,2,0),0) -> 0 | AE4: =IFERROR(__xludf.DUMMYFUNCTION("""COMPUTED_VALUE"""),"Rod_John_VI") -> Rod_John_VI | AF4: =SUM(AG4:AR4)-small((AG4:AR4),1)-small((AG4:AR4),2) -> 6660.0564 | AG4: =IFERROR(VLOOKUP($AE4,'MS1'!$A$1:$C$161,3,0),0) -> 1682.9102 | AH4: =IFERROR(VLOOKUP($AE4,'MS2'!$A$1:$C$161,3,0),0) -> 546.37477 | AI4: =IFERROR(VLOOKUP($AE4,'MS3'!$A$1:$C$161,3,0),0) -> 636.59567 | AJ4: =IFERROR(VLOOKUP($AE4,'MS4'!$A$1:$C$161,3,0),0) -> 812.66553 | AK4: =IFERROR(VLOOKUP($AE4,'MS5'!$A$1:$C$161,3,0),0) -> 653.45037 | AL4: =IFERROR(VLOOKUP($AE4,'MS6'!$A$1:$C$161,3,0),0) -> 324.36203 | AM4: =IFERROR(VLOOKUP($AE4,'MS7'!$A$1:$C$161,3,0),0) -> 584.05106 | AN4: =IFERROR(VLOOKUP($AE4,'MS8'!$A$1:$C$161,3,0),0) -> 885.52136 | AO4: =IFERROR(VLOOKUP($AE4,'MS9'!$A$1:$C$161,3,0),0) -> 49.248624 | AP4: =IFERROR(VLOOKUP($AE4,'MS10'!$A$1:$C$161,3,0),0) -> 484.87681 | AQ4: =IFERROR(VLOOKUP($AE4,'MS11'!$A$1:$C$161,3,0),0) -> 0 | AR4: =IFERROR(VLOOKUP($AE4,'MS12'!$A$1:$C$161,3,0),0) -> 0 | AS4: =IFERROR(VLOOKUP($AE4,'MS13'!$A$1:$C$161,3,0),0) -> 0
A5: =ROW()-1 -> 4 | B5: 8kinder6 | C5: 9401.2846 | E5: =IFERROR(VLOOKUP($B5,'MS1'!$A$1:$B$160,2,0),"0") -> 46 | F5: =IFERROR(VLOOKUP(E5,'MS1'!$B$1:$C$161,2,0),0) -> 304.64092 | G5: =IFERROR(VLOOKUP($B5,'MS2'!$A$1:$B$160,2,0),"0") -> 50 | H5: =IFERROR(VLOOKUP(G5,'MS2'!$B$1:$C$161,2,0),0) -> 248.63024 | I5: =IFERROR(VLOOKUP($B5,'MS3'!$A$1:$B$161,2,0),0) -> 47 | J5: =IFERROR(VLOOKUP(I5,'MS3'!$B$1:$C$161,2,0),0) -> 352.62957 | K5: =IFERROR(VLOOKUP($B5,'MS4'!$A$1:$B$160,2,0),"0") -> 10 | L5: =IFERROR(VLOOKUP(K5,'MS4'!$B$1:$C$161,2,0),0) -> 1094.9864 | M5: =IFERROR(VLOOKUP($B5,'MS5'!$A$1:$B$160,2,0),"0") -> 14 | N5: =IFERROR(VLOOKUP(M5,'MS5'!$B$1:$C$161,2,0),0) -> 906.25131 | O5: =IFERROR(VLOOKUP($B5,'MS6'!$A$1:$B$160,2,0),"0") -> 4 | P5: =IFERROR(VLOOKUP(O5,'MS6'!$B$1:$C$161,2,0),0) -> 1535.8596 | Q5: =IFERROR(VLOOKUP($B5,'MS7'!$A$1:$B$160,2,0),"0") -> 28 | R5: =IFERROR(VLOOKUP(Q5,'MS7'!$B$1:$C$161,2,0),0) -> 603.56805 | S5: =IFERROR(VLOOKUP($B5,'MS8'!$A$1:$B$160,2,0),"0") -> 50 | T5: =IFERROR(VLOOKUP(S5,'MS8'!$B$1:$C$161,2,0),0) -> 238.76148 | U5: =IFERROR(VLOOKUP($B5,'MS9'!$A$1:$B$160,2,0),"0") -> 17 | V5: =IFERROR(VLOOKUP(U5,'MS9'!$B$1:$C$161,2,0),0) -> 833.71168 | W5: =IFERROR(VLOOKUP($B5,'MS10'!$A$1:$B$160,2,0),"0") -> 50 | X5: =IFERROR(VLOOKUP(W5,'MS10'!$B$1:$C$161,2,0),0) -> 197.13046 | Y5: =IFERROR(VLOOKUP($B5,'MS11'!$A$1:$B$160,2,0),"0") -> 1 | Z5: =IFERROR(VLOOKUP(Y5,'MS11'!$B$1:$C$161,2,0),0) -> 2218.0752 | AA5: =IFERROR(VLOOKUP($B5,'MS12'!$A$1:$B$160,2,0),"0") -> 4 | AB5: =IFERROR(VLOOKUP(AA5,'MS12'!$B$1:$C$161,2,0),0) -> 1302.9316 | AC5: =IFERROR(VLOOKUP($B5,'MS13'!$A$1:$B$160,2,0),"0") -> 0 | AD5: =IFERROR(VLOOKUP(AC5,'MS13'!$B$1:$C$161,2,0),0) -> 0 | AE5: =IFERROR(__xludf.DUMMYFUNCTION("""COMPUTED_VALUE"""),"POMB1664") -> POMB1664 | AF5: =SUM(AG5:AR5)-small((AG5:AR5),1)-small((AG5:AR5),2) -> 5560.2121 | AG5: =IFERROR(VLOOKUP($AE5,'MS1'!$A$1:$C$161,3,0),0) -> 1542.7494 | AH5: =IFERROR(VLOOKUP($AE5,'MS2'!$A$1:$C$161,3,0),0) -> 363.5902 | AI5: =IFERROR(VLOOKUP($AE5,'MS3'!$A$1:$C$161,3,0),0) -> 582.30023 | AJ5: =IFERROR(VLOOKUP($AE5,'MS4'!$A$1:$C$161,3,0),0) -> 0 | AK5: =IFERROR(VLOOKUP($AE5,'MS5'!$A$1:$C$161,3,0),0) -> 394.34171 | AL5: =IFERROR(VLOOKUP($AE5,'MS6'!$A$1:$C$161,3,0),0) -> 0 | AM5: =IFERROR(VLOOKUP($AE5,'MS7'!$A$1:$C$161,3,0),0) -> 82.135208 | AN5: =IFERROR(VLOOKUP($AE5,'MS8'!$A$1:$C$161,3,0),0) -> 985.49712 | AO5: =IFERROR(VLOOKUP($AE5,'MS9'!$A$1:$C$161,3,0),0) -> 389.62262 | AP5: =IFERROR(VLOOKUP($AE5,'MS10'!$A$1:$C$161,3,0),0) -> 347.40013 | AQ5: =IFERROR(VLOOKUP($AE5,'MS11'!$A$1:$C$161,3,0),0) -> 872.57547 | AR5: =IFERROR(VLOOKUP($AE5,'MS12'!$A$1:$C$161,3,0),0) -> 0 | AS5: =IFERROR(VLOOKUP($AE5,'MS13'!$A$1:$C$161,3,0),0) -> 0
A6: =ROW()-1 -> 5 | B6: titounio | C6: 9367.9583 | E6: =IFERROR(VLOOKUP($B6,'MS1'!$A$1:$B$160,2,0),"0") -> 43 | F6: =IFERROR(VLOOKUP(E6,'MS1'!$B$1:$C$161,2,0),0) -> 348.54841 | G6: =IFERROR(VLOOKUP($B6,'MS2'!$A$1:$B$160,2,0),"0") -> 0 | H6: =IFERROR(VLOOKUP(G6,'MS2'!$B$1:$C$161,2,0),0) -> 0 | I6: =IFERROR(VLOOKUP($B6,'MS3'!$A$1:$B$161,2,0),0) -> 14 | J6: =IFERROR(VLOOKUP(I6,'MS3'!$B$1:$C$161,2,0),0) -> 1002.3756 | K6: =IFERROR(VLOOKUP($B6,'MS4'!$A$1:$B$160,2,0),"0") -> 21 | L6: =IFERROR(VLOOKUP(K6,'MS4'!$B$1:$C$161,2,0),0) -> 734.06902 | M6: =IFERROR(VLOOKUP($B6,'MS5'!$A$1:$B$160,2,0),"0") -> 20 | N6: =IFERROR(VLOOKUP(M6,'MS5'!$B$1:$C$161,2,0),0) -> 727.43724 | O6: =IFERROR(VLOOKUP($B6,'MS6'!$A$1:$B$160,2,0),"0") -> 1 | P6: =IFERROR(VLOOKUP(O6,'MS6'!$B$1:$C$161,2,0),0) -> 2272.2812 | Q6: =IFERROR(VLOOKUP($B6,'MS7'!$A$1:$B$160,2,0),"0") -> 25 | R6: =IFERROR(VLOOKUP(Q6,'MS7'!$B$1:$C$161,2,0),0) -> 665.26392 | S6: =IFERROR(VLOOKUP($B6,'MS8'!$A$1:$B$160,2,0),"0") -> 4 | T6: =IFERROR(VLOOKUP(S6,'MS8'!$B$1:$C$161,2,0),0) -> 1535.8596 | U6: =IFERROR(VLOOKUP($B6,'MS9'!$A$1:$B$160,2,0),"0") -> 48 | V6: =IFERROR(VLOOKUP(U6,'MS9'!$B$1:$C$161,2,0),0) -> 236.26219 | W6: =IFERROR(VLOOKUP($B6,'MS10'!$A$1:$B$160,2,0),"0") -> 9 | X6: =IFERROR(VLOOKUP(W6,'MS10'!$B$1:$C$161,2,0),0) -> 1129.8801 | Y6: =IFERROR(VLOOKUP($B6,'MS11'!$A$1:$B$160,2,0),"0") -> 30 | Z6: =IFERROR(VLOOKUP(Y6,'MS11'!$B$1:$C$161,2,0),0) -> 504.45009 | AA6: =IFERROR(VLOOKUP($B6,'MS12'!$A$1:$B$160,2,0),"0") -> 22 | AB6: =IFERROR(VLOOKUP(AA6,'MS12'!$B$1:$C$161,2,0),0) -> 447.79305 | AC6: =IFERROR(VLOOKUP($B6,'MS13'!$A$1:$B$160,2,0),"0") -> 0 | AD6: =IFERROR(VLOOKUP(AC6,'MS13'!$B$1:$C$161,2,0),0) -> 0 | AE6: =IFERROR(__xludf.DUMMYFUNCTION("""COMPUTED_VALUE"""),"jejehehe") -> jejehehe | AF6: =SUM(AG6:AR6)-small((AG6:AR6),1)-small((AG6:AR6),2) -> 8037.8864 | AG6: =IFERROR(VLOOKUP($AE6,'MS1'!$A$1:$C$161,3,0),0) -> 1436.9356 | AH6: =IFERROR(VLOOKUP($AE6,'MS2'!$A$1:$C$161,3,0),0) -> 94.245044 | AI6: =IFERROR(VLOOKUP($AE6,'MS3'!$A$1:$C$161,3,0),0) -> 805.10986 | AJ6: =IFERROR(VLOOKUP($AE6,'MS4'!$A$1:$C$161,3,0),0) -> 1050.446 | AK6: =IFERROR(VLOOKUP($AE6,'MS5'!$A$1:$C$161,3,0),0) -> 1115.3668 | AL6: =IFERROR(VLOOKUP($AE6,'MS6'!$A$1:$C$161,3,0),0) -> 354.40889 | AM6: =IFERROR(VLOOKUP($AE6,'MS7'!$A$1:$C$161,3,0),0) -> 862.83965 | AN6: =IFERROR(VLOOKUP($AE6,'MS8'!$A$1:$C$161,3,0),0) -> 484.34128 | AO6: =IFERROR(VLOOKUP($AE6,'MS9'!$A$1:$C$161,3,0),0) -> 678.37297 | AP6: =IFERROR(VLOOKUP($AE6,'MS10'!$A$1:$C$161,3,0),0) -> 522.62803 | AQ6: =IFERROR(VLOOKUP($AE6,'MS11'!$A$1:$C$161,3,0),0) -> 727.43724 | AR6: =IFERROR(VLOOKUP($AE6,'MS12'!$A$1:$C$161,3,0),0) -> 226.0504 | AS6: =IFERROR(VLOOKUP($AE6,'MS13'!$A$1:$C$161,3,0),0) -> 0
A7: =ROW()-1 -> 6 | B7: alexinzaghi | C7: 9284.116 | E7: =IFERROR(VLOOKUP($B7,'MS1'!$A$1:$B$160,2,0),"0") -> 29 | F7: =IFERROR(VLOOKUP(E7,'MS1'!$B$1:$C$161,2,0),0) -> 584.05106 | G7: =IFERROR(VLOOKUP($B7,'MS2'!$A$1:$B$160,2,0),"0") -> 5 | H7: =IFERROR(VLOOKUP(G7,'MS2'!$B$1:$C$161,2,0),0) -> 1436.9356 | I7: =IFERROR(VLOOKUP($B7,'MS3'!$A$1:$B$161,2,0),0) -> 58 | J7: =IFERROR(VLOOKUP(I7,'MS3'!$B$1:$C$161,2,0),0) -> 211.89394 | K7: =IFERROR(VLOOKUP($B7,'MS4'!$A$1:$B$160,2,0),"0") -> 41 | L7: =IFERROR(VLOOKUP(K7,'MS4'!$B$1:$C$161,2,0),0) -> 351.00336 | M7: =IFERROR(VLOOKUP($B7,'MS5'!$A$1:$B$160,2,0),"0") -> 5 | N7: =IFERROR(VLOOKUP(M7,'MS5'!$B$1:$C$161,2,0),0) -> 1387.6185 | O7: =IFERROR(VLOOKUP($B7,'MS6'!$A$1:$B$160,2,0),"0") -> 21 | P7: =IFERROR(VLOOKUP(O7,'MS6'!$B$1:$C$161,2,0),0) -> 749.27214 | Q7: =IFERROR(VLOOKUP($B7,'MS7'!$A$1:$B$160,2,0),"0") -> 5 | R7: =IFERROR(VLOOKUP(Q7,'MS7'!$B$1:$C$161,2,0),0) -> 1436.9356 | S7: =IFERROR(VLOOKUP($B7,'MS8'!$A$1:$B$160,2,0),"0") -> 24 | T7: =IFERROR(VLOOKUP(S7,'MS8'!$B$1:$C$161,2,0),0) -> 679.38018 | U7: =IFERROR(VLOOKUP($B7,'MS9'!$A$1:$B$160,2,0),"0") -> 7 | V7: =IFERROR(VLOOKUP(U7,'MS9'!$B$1:$C$161,2,0),0) -> 1253.1687 | W7: =IFERROR(VLOOKUP($B7,'MS10'!$A$1:$B$160,2,0),"0") -> 18 | X7: =IFERROR(VLOOKUP(W7,'MS10'!$B$1:$C$161,2,0),0) -> 797.41555 | Y7: =IFERROR(VLOOKUP($B7,'MS11'!$A$1:$B$160,2,0),"0") -> 27 | Z7: =IFERROR(VLOOKUP(Y7,'MS11'!$B$1:$C$161,2,0),0) -> 564.99699 | AA7: =IFERROR(VLOOKUP($B7,'MS12'!$A$1:$B$160,2,0),"0") -> 24 | AB7: =IFERROR(VLOOKUP(AA7,'MS12'!$B$1:$C$161,2,0),0) -> 394.34171 | AC7: =IFERROR(VLOOKUP($B7,'MS13'!$A$1:$B$160,2,0),"0") -> 0 | AD7: =IFERROR(VLOOKUP(AC7,'MS13'!$B$1:$C$161,2,0),0) -> 0 | AE7: =IFERROR(__xludf.DUMMYFUNCTION("""COMPUTED_VALUE"""),"Fishtipanda") -> Fishtipanda | AF7: =SUM(AG7:AR7)-small((AG7:AR7),1)-small((AG7:AR7),2) -> 6903.0522 | AG7: =IFERROR(VLOOKUP($AE7,'MS1'!$A$1:$C$161,3,0),0) -> 1351.7881 | AH7: =IFERROR(VLOOKUP($AE7,'MS2'!$A$1:$C$161,3,0),0) -> 807.5106 | AI7: =IFERROR(VLOOKUP($AE7,'MS3'!$A$1:$C$161,3,0),0) -> 437.85315 | AJ7: =IFERROR(VLOOKUP($AE7,'MS4'!$A$1:$C$161,3,0),0) -> 246.59097 | AK7: =IFERROR(VLOOKUP($AE7,'MS5'!$A$1:$C$161,3,0),0) -> 360.22901 | AL7: =IFERROR(VLOOKUP($AE7,'MS6'!$A$1:$C$161,3,0),0) -> 1675.7792 | AM7: =IFERROR(VLOOKUP($AE7,'MS7'!$A$1:$C$161,3,0),0) -> 410.07378 | AN7: =IFERROR(VLOOKUP($AE7,'MS8'!$A$1:$C$161,3,0),0) -> 0 | AO7: =IFERROR(VLOOKUP($AE7,'MS9'!$A$1:$C$161,3,0),0) -> 1409.3517 | AP7: =IFERROR(VLOOKUP($AE7,'MS10'!$A$1:$C$161,3,0),0) -> 0 | AQ7: =IFERROR(VLOOKUP($AE7,'MS11'!$A$1:$C$161,3,0),0) -> 203.87573 | AR7: =IFERROR(VLOOKUP($AE7,'MS12'!$A$1:$C$161,3,0),0) -> 0 | AS7: =IFERROR(VLOOKUP($AE7,'MS13'!$A$1:$C$161,3,0),0) -> 0
A8: =ROW()-1 -> 7 | B8: TontonZgueg | C8: 9180.7183 | E8: =IFERROR(VLOOKUP($B8,'MS1'!$A$1:$B$160,2,0),"0") -> 40 | F8: =IFERROR(VLOOKUP(E8,'MS1'!$B$1:$C$161,2,0),0) -> 394.34171 | G8: =IFERROR(VLOOKUP($B8,'MS2'!$A$1:$B$160,2,0),"0") -> 17 | H8: =IFERROR(VLOOKUP(G8,'MS2'!$B$1:$C$161,2,0),0) -> 862.83965 | I8: =IFERROR(VLOOKUP($B8,'MS3'!$A$1:$B$161,2,0),0) -> 69 | J8: =IFERROR(VLOOKUP(I8,'MS3'!$B$1:$C$161,2,0),0) -> 85.427886 | K8: =IFERROR(VLOOKUP($B8,'MS4'!$A$1:$B$160,2,0),"0") -> 27 | L8: =IFERROR(VLOOKUP(K8,'MS4'!$B$1:$C$161,2,0),0) -> 599.44996 | M8: =IFERROR(VLOOKUP($B8,'MS5'!$A$1:$B$160,2,0),"0") -> 22 | N8: =IFERROR(VLOOKUP(M8,'MS5'!$B$1:$C$161,2,0),0) -> 677.27144 | O8: =IFERROR(VLOOKUP($B8,'MS6'!$A$1:$B$160,2,0),"0") -> 14 | P8: =IFERROR(VLOOKUP(O8,'MS6'!$B$1:$C$161,2,0),0) -> 950.13179 | Q8: =IFERROR(VLOOKUP($B8,'MS7'!$A$1:$B$160,2,0),"0") -> 13 | R8: =IFERROR(VLOOKUP(Q8,'MS7'!$B$1:$C$161,2,0),0) -> 992.32852 | S8: =IFERROR(VLOOKUP($B8,'MS8'!$A$1:$B$160,2,0),"0") -> 0 | T8: =IFERROR(VLOOKUP(S8,'MS8'!$B$1:$C$161,2,0),0) -> 0 | U8: =IFERROR(VLOOKUP($B8,'MS9'!$A$1:$B$160,2,0),"0") -> 22 | V8: =IFERROR(VLOOKUP(U8,'MS9'!$B$1:$C$161,2,0),0) -> 701.90614 | W8: =IFERROR(VLOOKUP($B8,'MS10'!$A$1:$B$160,2,0),"0") -> 1 | X8: =IFERROR(VLOOKUP(W8,'MS10'!$B$1:$C$161,2,0),0) -> 2236.5826 | Y8: =IFERROR(VLOOKUP($B8,'MS11'!$A$1:$B$160,2,0),"0") -> 7 | Z8: =IFERROR(VLOOKUP(Y8,'MS11'!$B$1:$C$161,2,0),0) -> 1231.6806 | AA8: =IFERROR(VLOOKUP($B8,'MS12'!$A$1:$B$160,2,0),"0") -> 19 | AB8: =IFERROR(VLOOKUP(AA8,'MS12'!$B$1:$C$161,2,0),0) -> 534.18594 | AC8: =IFERROR(VLOOKUP($B8,'MS13'!$A$1:$B$160,2,0),"0") -> 0 | AD8: =IFERROR(VLOOKUP(AC8,'MS13'!$B$1:$C$161,2,0),0) -> 0 | AE8: =IFERROR(__xludf.DUMMYFUNCTION("""COMPUTED_VALUE"""),"_VisMaVie_") -> _VisMaVie_ | AF8: =SUM(AG8:AR8)-small((AG8:AR8),1)-small((AG8:AR8),2) -> 10234.559 | AG8: =IFERROR(VLOOKUP($AE8,'MS1'!$A$1:$C$161,3,0),0) -> 1280.3612 | AH8: =IFERROR(VLOOKUP($AE8,'MS2'!$A$1:$C$161,3,0),0) -> 235.03228 | AI8: =IFERROR(VLOOKUP($AE8,'MS3'!$A$1:$C$161,3,0),0) -> 2339.0286 | AJ8: =IFERROR(VLOOKUP($AE8,'MS4'!$A$1:$C$161,3,0),0) -> 1143.9347 | AK8: =IFERROR(VLOOKUP($AE8,'MS5'!$A$1:$C$161,3,0),0) -> 485.17021 | AL8: =IFERROR(VLOOKUP($AE8,'MS6'!$A$1:$C$161,3,0),0) -> 1430.1798 | AM8: =IFERROR(VLOOKUP($AE8,'MS7'!$A$1:$C$161,3,0),0) -> 923.86036 | AN8: =IFERROR(VLOOKUP($AE8,'MS8'!$A$1:$C$161,3,0),0) -> 108.05823 | AO8: =IFERROR(VLOOKUP($AE8,'MS9'!$A$1:$C$161,3,0),0) -> 655.58426 | AP8: =IFERROR(VLOOKUP($AE8,'MS10'!$A$1:$C$161,3,0),0) -> 743.63528 | AQ8: =IFERROR(VLOOKUP($AE8,'MS11'!$A$1:$C$161,3,0),0) -> 360.22901 | AR8: =IFERROR(VLOOKUP($AE8,'MS12'!$A$1:$C$161,3,0),0) -> 872.57547 | AS8: =IFERROR(VLOOKUP($AE8,'MS13'!$A$1:$C$161,3,0),0) -> 0
A9: =ROW()-1 -> 8 | B9: Phil1308 | C9: 8505.4229 | E9: =IFERROR(VLOOKUP($B9,'MS1'!$A$1:$B$160,2,0),"0") -> 55 | F9: =IFERROR(VLOOKUP(E9,'MS1'!$B$1:$C$161,2,0),0) -> 182.08201 | G9: =IFERROR(VLOOKUP($B9,'MS2'!$A$1:$B$160,2,0),"0") -> 3 | H9: =IFERROR(VLOOKUP(G9,'MS2'!$B$1:$C$161,2,0),0) -> 1682.9102 | I9: =IFERROR(VLOOKUP($B9,'MS3'!$A$1:$B$161,2,0),0) -> 4 | J9: =IFERROR(VLOOKUP(I9,'MS3'!$B$1:$C$161,2,0),0) -> 1588.6558 | K9: =IFERROR(VLOOKUP($B9,'MS4'!$A$1:$B$160,2,0),"0") -> 63 | L9: =IFERROR(VLOOKUP(K9,'MS4'!$B$1:$C$161,2,0),0) -> 48.501899 | M9: =IFERROR(VLOOKUP($B9,'MS5'!$A$1:$B$160,2,0),"0") -> 41 | N9: =IFERROR(VLOOKUP(M9,'MS5'!$B$1:$C$161,2,0),0) -> 311.03645 | O9: =IFERROR(VLOOKUP($B9,'MS6'!$A$1:$B$160,2,0),"0") -> 50 | P9: =IFERROR(VLOOKUP(O9,'MS6'!$B$1:$C$161,2,0),0) -> 238.76148 | Q9: =IFERROR(VLOOKUP($B9,'MS7'!$A$1:$B$160,2,0),"0") -> 0 | R9: =IFERROR(VLOOKUP(Q9,'MS7'!$B$1:$C$161,2,0),0) -> 0 | S9: =IFERROR(VLOOKUP($B9,'MS8'!$A$1:$B$160,2,0),"0") -> 35 | T9: =IFERROR(VLOOKUP(S9,'MS8'!$B$1:$C$161,2,0),0) -> 467.1056 | U9: =IFERROR(VLOOKUP($B9,'MS9'!$A$1:$B$160,2,0),"0") -> 4 | V9: =IFERROR(VLOOKUP(U9,'MS9'!$B$1:$C$161,2,0),0) -> 1514.6376 | W9: =IFERROR(VLOOKUP($B9,'MS10'!$A$1:$B$160,2,0),"0") -> 3 | X9: =IFERROR(VLOOKUP(W9,'MS10'!$B$1:$C$161,2,0),0) -> 1646.3279 | Y9: =IFERROR(VLOOKUP($B9,'MS11'!$A$1:$B$160,2,0),"0") -> 0 | Z9: =IFERROR(VLOOKUP(Y9,'MS11'!$B$1:$C$161,2,0),0) -> 0 | AA9: =IFERROR(VLOOKUP($B9,'MS12'!$A$1:$B$160,2,0),"0") -> 11 | AB9: =IFERROR(VLOOKUP(AA9,'MS12'!$B$1:$C$161,2,0),0) -> 825.40395 | AC9: =IFERROR(VLOOKUP($B9,'MS13'!$A$1:$B$160,2,0),"0") -> 0 | AD9: =IFERROR(VLOOKUP(AC9,'MS13'!$B$1:$C$161,2,0),0) -> 0 | AE9: =IFERROR(__xludf.DUMMYFUNCTION("""COMPUTED_VALUE"""),"Blochedu86") -> Blochedu86 | AF9: =SUM(AG9:AR9)-small((AG9:AR9),1)-small((AG9:AR9),2) -> 3737.1525 | AG9: =IFERROR(VLOOKUP($AE9,'MS1'!$A$1:$C$161,3,0),0) -> 1218.6687 | AH9: =IFERROR(VLOOKUP($AE9,'MS2'!$A$1:$C$161,3,0),0) -> 442.31327 | AI9: =IFERROR(VLOOKUP($AE9,'MS3'!$A$1:$C$161,3,0),0) -> 938.68912 | AJ9: =IFERROR(VLOOKUP($AE9,'MS4'!$A$1:$C$161,3,0),0) -> 0 | AK9: =IFERROR(VLOOKUP($AE9,'MS5'!$A$1:$C$161,3,0),0) -> 411.83722 | AL9: =IFERROR(VLOOKUP($AE9,'MS6'!$A$1:$C$161,3,0),0) -> 0 | AM9: =IFERROR(VLOOKUP($AE9,'MS7'!$A$1:$C$161,3,0),0) -> 564.99699 | AN9: =IFERROR(VLOOKUP($AE9,'MS8'!$A$1:$C$161,3,0),0) -> 0 | AO9: =IFERROR(VLOOKUP($AE9,'MS9'!$A$1:$C$161,3,0),0) -> 0 | AP9: =IFERROR(VLOOKUP($AE9,'MS10'!$A$1:$C$161,3,0),0) -> 0 | AQ9: =IFERROR(VLOOKUP($AE9,'MS11'!$A$1:$C$161,3,0),0) -> 0 | AR9: =IFERROR(VLOOKUP($AE9,'MS12'!$A$1:$C$161,3,0),0) -> 160.64724 | AS9: =IFERROR(VLOOKUP($AE9,'MS13'!$A$1:$C$161,3,0),0) -> 0
A10: =ROW()-1 -> 9 | B10: Immond | C10: 8150.0787 | E10: =IFERROR(VLOOKUP($B10,'MS1'!$A$1:$B$160,2,0),"0") -> 57 | F10: =IFERROR(VLOOKUP(E10,'MS1'!$B$1:$C$161,2,0),0) -> 156.40157 | G10: =IFERROR(VLOOKUP($B10,'MS2'!$A$1:$B$160,2,0),"0") -> 61 | H10: =IFERROR(VLOOKUP(G10,'MS2'!$B$1:$C$161,2,0),0) -> 106.45756 | I10: =IFERROR(VLOOKUP($B10,'MS3'!$A$1:$B$161,2,0),0) -> 53 | J10: =IFERROR(VLOOKUP(I10,'MS3'!$B$1:$C$161,2,0),0) -> 273.75636 | K10: =IFERROR(VLOOKUP($B10,'MS4'!$A$1:$B$160,2,0),"0") -> 25 | L10: =IFERROR(VLOOKUP(K10,'MS4'!$B$1:$C$161,2,0),0) -> 641.64996 | M10: =IFERROR(VLOOKUP($B10,'MS5'!$A$1:$B$160,2,0),"0") -> 7 | N10: =IFERROR(VLOOKUP(M10,'MS5'!$B$1:$C$161,2,0),0) -> 1231.6806 | O10: =IFERROR(VLOOKUP($B10,'MS6'!$A$1:$B$160,2,0),"0") -> 28 | P10: =IFERROR(VLOOKUP(O10,'MS6'!$B$1:$C$161,2,0),0) -> 595.59017 | Q10: =IFERROR(VLOOKUP($B10,'MS7'!$A$1:$B$160,2,0),"0") -> 4 | R10: =IFERROR(VLOOKUP(Q10,'MS7'!$B$1:$C$161,2,0),0) -> 1542.7494 | S10: =IFERROR(VLOOKUP($B10,'MS8'!$A$1:$B$160,2,0),"0") -> 1 | T10: =IFERROR(VLOOKUP(S10,'MS8'!$B$1:$C$161,2,0),0) -> 2272.2812 | U10: =IFERROR(VLOOKUP($B10,'MS9'!$A$1:$B$160,2,0),"0") -> 44 | V10: =IFERROR(VLOOKUP(U10,'MS9'!$B$1:$C$161,2,0),0) -> 295.11518 | W10: =IFERROR(VLOOKUP($B10,'MS10'!$A$1:$B$160,2,0),"0") -> 43 | X10: =IFERROR(VLOOKUP(W10,'MS10'!$B$1:$C$161,2,0),0) -> 300.23446 | Y10: =IFERROR(VLOOKUP($B10,'MS11'!$A$1:$B$160,2,0),"0") -> 42 | Z10: =IFERROR(VLOOKUP(Y10,'MS11'!$B$1:$C$161,2,0),0) -> 295.11518 | AA10: =IFERROR(VLOOKUP($B10,'MS12'!$A$1:$B$160,2,0),"0") -> 14 | AB10: =IFERROR(VLOOKUP(AA10,'MS12'!$B$1:$C$161,2,0),0) -> 701.90614 | AC10: =IFERROR(VLOOKUP($B10,'MS13'!$A$1:$B$160,2,0),"0") -> 0 | AD10: =IFERROR(VLOOKUP(AC10,'MS13'!$B$1:$C$161,2,0),0) -> 0 | AE10: =IFERROR(__xludf.DUMMYFUNCTION("""COMPUTED_VALUE"""),"chatouill86") -> chatouill86 | AF10: =SUM(AG10:AR10)-small((AG10:AR10),1)-small((AG10:AR10),2) -> 3301.282 | AG10: =IFERROR(VLOOKUP($AE10,'MS1'!$A$1:$C$161,3,0),0) -> 1164.2216 | AH10: =IFERROR(VLOOKUP($AE10,'MS2'!$A$1:$C$161,3,0),0) -> 1070.9527 | AI10: =IFERROR(VLOOKUP($AE10,'MS3'!$A$1:$C$161,3,0),0) -> 63.614864 | AJ10: =IFERROR(VLOOKUP($AE10,'MS4'!$A$1:$C$161,3,0),0) -> 24.062212 | AK10: =IFERROR(VLOOKUP($AE10,'MS5'!$A$1:$C$161,3,0),0) -> 203.87573 | AL10: =IFERROR(VLOOKUP($AE10,'MS6'!$A$1:$C$161,3,0),0) -> 47.074403 | AM10: =IFERROR(VLOOKUP($AE10,'MS7'!$A$1:$C$161,3,0),0) -> 70.124974 | AN10: =IFERROR(VLOOKUP($AE10,'MS8'!$A$1:$C$161,3,0),0) -> 133.19529 | AO10: =IFERROR(VLOOKUP($AE10,'MS9'!$A$1:$C$161,3,0),0) -> 0 | AP10: =IFERROR(VLOOKUP($AE10,'MS10'!$A$1:$C$161,3,0),0) -> 0 | AQ10: =IFERROR(VLOOKUP($AE10,'MS11'!$A$1:$C$161,3,0),0) -> 524.16014 | AR10: =IFERROR(VLOOKUP($AE10,'MS12'!$A$1:$C$161,3,0),0) -> 0 | AS10: =IFERROR(VLOOKUP($AE10,'MS13'!$A$1:$C$161,3,0),0) -> 0
A11: =ROW()-1 -> 10 | B11: jejehehe | C11: 8037.8864 | E11: =IFERROR(VLOOKUP($B11,'MS1'!$A$1:$B$160,2,0),"0") -> 5 | F11: =IFERROR(VLOOKUP(E11,'MS1'!$B$1:$C$161,2,0),0) -> 1436.9356 | G11: =IFERROR(VLOOKUP($B11,'MS2'!$A$1:$B$160,2,0),"0") -> 62 | H11: =IFERROR(VLOOKUP(G11,'MS2'!$B$1:$C$161,2,0),0) -> 94.245044 | I11: =IFERROR(VLOOKUP($B11,'MS3'!$A$1:$B$161,2,0),0) -> 21 | J11: =IFERROR(VLOOKUP(I11,'MS3'!$B$1:$C$161,2,0),0) -> 805.10986 | K11: =IFERROR(VLOOKUP($B11,'MS4'!$A$1:$B$160,2,0),"0") -> 11 | L11: =IFERROR(VLOOKUP(K11,'MS4'!$B$1:$C$161,2,0),0) -> 1050.446 | M11: =IFERROR(VLOOKUP($B11,'MS5'!$A$1:$B$160,2,0),"0") -> 9 | N11: =IFERROR(VLOOKUP(M11,'MS5'!$B$1:$C$161,2,0),0) -> 1115.3668 | O11: =IFERROR(VLOOKUP($B11,'MS6'!$A$1:$B$160,2,0),"0") -> 42 | P11: =IFERROR(VLOOKUP(O11,'MS6'!$B$1:$C$161,2,0),0) -> 354.40889 | Q11: =IFERROR(VLOOKUP($B11,'MS7'!$A$1:$B$160,2,0),"0") -> 17 | R11: =IFERROR(VLOOKUP(Q11,'MS7'!$B$1:$C$161,2,0),0) -> 862.83965 | S11: =IFERROR(VLOOKUP($B11,'MS8'!$A$1:$B$160,2,0),"0") -> 34 | T11: =IFERROR(VLOOKUP(S11,'MS8'!$B$1:$C$161,2,0),0) -> 484.34128 | U11: =IFERROR(VLOOKUP($B11,'MS9'!$A$1:$B$160,2,0),"0") -> 23 | V11: =IFERROR(VLOOKUP(U11,'MS9'!$B$1:$C$161,2,0),0) -> 678.37297 | W11: =IFERROR(VLOOKUP($B11,'MS10'!$A$1:$B$160,2,0),"0") -> 30 | X11: =IFERROR(VLOOKUP(W11,'MS10'!$B$1:$C$161,2,0),0) -> 522.62803 | Y11: =IFERROR(VLOOKUP($B11,'MS11'!$A$1:$B$160,2,0),"0") -> 20 | Z11: =IFERROR(VLOOKUP(Y11,'MS11'!$B$1:$C$161,2,0),0) -> 727.43724 | AA11: =IFERROR(VLOOKUP($B11,'MS12'!$A$1:$B$160,2,0),"0") -> 31 | AB11: =IFERROR(VLOOKUP(AA11,'MS12'!$B$1:$C$161,2,0),0) -> 226.0504 | AC11: =IFERROR(VLOOKUP($B11,'MS13'!$A$1:$B$160,2,0),"0") -> 0 | AD11: =IFERROR(VLOOKUP(AC11,'MS13'!$B$1:$C$161,2,0),0) -> 0 | AE11: =IFERROR(__xludf.DUMMYFUNCTION("""COMPUTED_VALUE"""),"Multiversus") -> Multiversus | AF11: =SUM(AG11:AR11)-small((AG11:AR11),1)-small((AG11:AR11),2) -> 1494.2178 | AG11: =IFERROR(VLOOKUP($AE11,'MS1'!$A$1:$C$161,3,0),0) -> 1115.3668 | AH11: =IFERROR(VLOOKUP($AE11,'MS2'!$A$1:$C$161,3,0),0) -> 378.85105 | AI11: =IFERROR(VLOOKUP($AE11,'MS3'!$A$1:$C$161,3,0),0) -> 0 | AJ11: =IFERROR(VLOOKUP($AE11,'MS4'!$A$1:$C$161,3,0),0) -> 0 | AK11: =IFERROR(VLOOKUP($AE11,'MS5'!$A$1:$C$161,3,0),0) -> 0 | AL11: =IFERROR(VLOOKUP($AE11,'MS6'!$A$1:$C$161,3,0),0) -> 0 | AM11: =IFERROR(VLOOKUP($AE11,'MS7'!$A$1:$C$161,3,0),0) -> 0 | AN11: =IFERROR(VLOOKUP($AE11,'MS8'!$A$1:$C$161,3,0),0) -> 0 | AO11: =IFERROR(VLOOKUP($AE11,'MS9'!$A$1:$C$161,3,0),0) -> 0 | AP11: =IFERROR(VLOOKUP($AE11,'MS10'!$A$1:$C$161,3,0),0) -> 0 | AQ11: =IFERROR(VLOOKUP($AE11,'MS11'!$A$1:$C$161,3,0),0) -> 0 | AR11: =IFERROR(VLOOKUP($AE11,'MS12'!$A$1:$C$161,3,0),0) -> 0 | AS11: =IFERROR(VLOOKUP($AE11,'MS13'!$A$1:$C$161,3,0),0) -> 0
A12: =ROW()-1 -> 11 | B12: JM-Chatte | C12: 7950.0643 | E12: =IFERROR(VLOOKUP($B12,'MS1'!$A$1:$B$160,2,0),"0") -> 56 | F12: =IFERROR(VLOOKUP(E12,'MS1'!$B$1:$C$161,2,0),0) -> 169.1794 | G12: =IFERROR(VLOOKUP($B12,'MS2'!$A$1:$B$160,2,0),"0") -> 54 | H12: =IFERROR(VLOOKUP(G12,'MS2'!$B$1:$C$161,2,0),0) -> 195.11381 | I12: =IFERROR(VLOOKUP($B12,'MS3'!$A$1:$B$161,2,0),0) -> 5 | J12: =IFERROR(VLOOKUP(I12,'MS3'!$B$1:$C$161,2,0),0) -> 1481.8763 | K12: =IFERROR(VLOOKUP($B12,'MS4'!$A$1:$B$160,2,0),"0") -> 16 | L12: =IFERROR(VLOOKUP(K12,'MS4'!$B$1:$C$161,2,0),0) -> 871.11214 | M12: =IFERROR(VLOOKUP($B12,'MS5'!$A$1:$B$160,2,0),"0") -> 33 | N12: =IFERROR(VLOOKUP(M12,'MS5'!$B$1:$C$161,2,0),0) -> 447.79305 | O12: =IFERROR(VLOOKUP($B12,'MS6'!$A$1:$B$160,2,0),"0") -> 20 | P12: =IFERROR(VLOOKUP(O12,'MS6'!$B$1:$C$161,2,0),0) -> 774.26878 | Q12: =IFERROR(VLOOKUP($B12,'MS7'!$A$1:$B$160,2,0),"0") -> 1 | R12: =IFERROR(VLOOKUP(Q12,'MS7'!$B$1:$C$161,2,0),0) -> 2280.9489 | S12: =IFERROR(VLOOKUP($B12,'MS8'!$A$1:$B$160,2,0),"0") -> 28 | T12: =IFERROR(VLOOKUP(S12,'MS8'!$B$1:$C$161,2,0),0) -> 595.59017 | U12: =IFERROR(VLOOKUP($B12,'MS9'!$A$1:$B$160,2,0),"0") -> 35 | V12: =IFERROR(VLOOKUP(U12,'MS9'!$B$1:$C$161,2,0),0) -> 440.32842 | W12: =IFERROR(VLOOKUP($B12,'MS10'!$A$1:$B$160,2,0),"0") -> 22 | X12: =IFERROR(VLOOKUP(W12,'MS10'!$B$1:$C$161,2,0),0) -> 693.85345 | Y12: =IFERROR(VLOOKUP($B12,'MS11'!$A$1:$B$160,2,0),"0") -> 51 | Z12: =IFERROR(VLOOKUP(Y12,'MS11'!$B$1:$C$161,2,0),0) -> 160.64724 | AA12: =IFERROR(VLOOKUP($B12,'MS12'!$A$1:$B$160,2,0),"0") -> 35 | AB12: =IFERROR(VLOOKUP(AA12,'MS12'!$B$1:$C$161,2,0),0) -> 139.55135 | AC12: =IFERROR(VLOOKUP($B12,'MS13'!$A$1:$B$160,2,0),"0") -> 0 | AD12: =IFERROR(VLOOKUP(AC12,'MS13'!$B$1:$C$161,2,0),0) -> 0 | AE12: =IFERROR(__xludf.DUMMYFUNCTION("""COMPUTED_VALUE"""),"kiki86 x") -> kiki86 x | AF12: =SUM(AG12:AR12)-small((AG12:AR12),1)-small((AG12:AR12),2) -> 5726.6178 | AG12: =IFERROR(VLOOKUP($AE12,'MS1'!$A$1:$C$161,3,0),0) -> 1070.9527 | AH12: =IFERROR(VLOOKUP($AE12,'MS2'!$A$1:$C$161,3,0),0) -> 333.7157 | AI12: =IFERROR(VLOOKUP($AE12,'MS3'!$A$1:$C$161,3,0),0) -> 423.13375 | AJ12: =IFERROR(VLOOKUP($AE12,'MS4'!$A$1:$C$161,3,0),0) -> 484.60101 | AK12: =IFERROR(VLOOKUP($AE12,'MS5'!$A$1:$C$161,3,0),0) -> 1021.5032 | AL12: =IFERROR(VLOOKUP($AE12,'MS6'!$A$1:$C$161,3,0),0) -> 133.19529 | AM12: =IFERROR(VLOOKUP($AE12,'MS7'!$A$1:$C$161,3,0),0) -> 1218.6687 | AN12: =IFERROR(VLOOKUP($AE12,'MS8'!$A$1:$C$161,3,0),0) -> 556.84902 | AO12: =IFERROR(VLOOKUP($AE12,'MS9'!$A$1:$C$161,3,0),0) -> 280.12263 | AP12: =IFERROR(VLOOKUP($AE12,'MS10'!$A$1:$C$161,3,0),0) -> 0 | AQ12: =IFERROR(VLOOKUP($AE12,'MS11'!$A$1:$C$161,3,0),0) -> 0 | AR12: =IFERROR(VLOOKUP($AE12,'MS12'!$A$1:$C$161,3,0),0) -> 203.87573 | AS12: =IFERROR(VLOOKUP($AE12,'MS13'!$A$1:$C$161,3,0),0) -> 0
A13: =ROW()-1 -> 12 | B13: Le MARVEL | C13: 7797.2178 | E13: =IFERROR(VLOOKUP($B13,'MS1'!$A$1:$B$160,2,0),"0") -> 20 | F13: =IFERROR(VLOOKUP(E13,'MS1'!$B$1:$C$161,2,0),0) -> 781.58994 | G13: =IFERROR(VLOOKUP($B13,'MS2'!$A$1:$B$160,2,0),"0") -> 33 | H13: =IFERROR(VLOOKUP(G13,'MS2'!$B$1:$C$161,2,0),0) -> 510.3166 | I13: =IFERROR(VLOOKUP($B13,'MS3'!$A$1:$B$161,2,0),0) -> 24 | J13: =IFERROR(VLOOKUP(I13,'MS3'!$B$1:$C$161,2,0),0) -> 736.96184 | K13: =IFERROR(VLOOKUP($B13,'MS4'!$A$1:$B$160,2,0),"0") -> 46 | L13: =IFERROR(VLOOKUP(K13,'MS4'!$B$1:$C$161,2,0),0) -> 275.46328 | M13: =IFERROR(VLOOKUP($B13,'MS5'!$A$1:$B$160,2,0),"0") -> 53 | N13: =IFERROR(VLOOKUP(M13,'MS5'!$B$1:$C$161,2,0),0) -> 132.59148 | O13: =IFERROR(VLOOKUP($B13,'MS6'!$A$1:$B$160,2,0),"0") -> 52 | P13: =IFERROR(VLOOKUP(O13,'MS6'!$B$1:$C$161,2,0),0) -> 211.54426 | Q13: =IFERROR(VLOOKUP($B13,'MS7'!$A$1:$B$160,2,0),"0") -> 12 | R13: =IFERROR(VLOOKUP(Q13,'MS7'!$B$1:$C$161,2,0),0) -> 1030.1469 | S13: =IFERROR(VLOOKUP($B13,'MS8'!$A$1:$B$160,2,0),"0") -> 3 | T13: =IFERROR(VLOOKUP(S13,'MS8'!$B$1:$C$161,2,0),0) -> 1675.7792 | U13: =IFERROR(VLOOKUP($B13,'MS9'!$A$1:$B$160,2,0),"0") -> 42 | V13: =IFERROR(VLOOKUP(U13,'MS9'!$B$1:$C$161,2,0),0) -> 325.7099 | W13: =IFERROR(VLOOKUP($B13,'MS10'!$A$1:$B$160,2,0),"0") -> 25 | X13: =IFERROR(VLOOKUP(W13,'MS10'!$B$1:$C$161,2,0),0) -> 625.14384 | Y13: =IFERROR(VLOOKUP($B13,'MS11'!$A$1:$B$160,2,0),"0") -> 4 | Z13: =IFERROR(VLOOKUP(Y13,'MS11'!$B$1:$C$161,2,0),0) -> 1492.5249 | AA13: =IFERROR(VLOOKUP($B13,'MS12'!$A$1:$B$160,2,0),"0") -> 26 | AB13: =IFERROR(VLOOKUP(AA13,'MS12'!$B$1:$C$161,2,0),0) -> 343.58142 | AC13: =IFERROR(VLOOKUP($B13,'MS13'!$A$1:$B$160,2,0),"0") -> 0 | AD13: =IFERROR(VLOOKUP(AC13,'MS13'!$B$1:$C$161,2,0),0) -> 0 | AE13: =IFERROR(__xludf.DUMMYFUNCTION("""COMPUTED_VALUE"""),"Gus enScene") -> Gus enScene | AF13: =SUM(AG13:AR13)-small((AG13:AR13),1)-small((AG13:AR13),2) -> 4530.5684 | AG13: =IFERROR(VLOOKUP($AE13,'MS1'!$A$1:$C$161,3,0),0) -> 1030.1469 | AH13: =IFERROR(VLOOKUP($AE13,'MS2'!$A$1:$C$161,3,0),0) -> 1542.7494 | AI13: =IFERROR(VLOOKUP($AE13,'MS3'!$A$1:$C$161,3,0),0) -> 394.34171 | AJ13: =IFERROR(VLOOKUP($AE13,'MS4'!$A$1:$C$161,3,0),0) -> 190.82018 | AK13: =IFERROR(VLOOKUP($AE13,'MS5'!$A$1:$C$161,3,0),0) -> 0 | AL13: =IFERROR(VLOOKUP($AE13,'MS6'!$A$1:$C$161,3,0),0) -> 184.90386 | AM13: =IFERROR(VLOOKUP($AE13,'MS7'!$A$1:$C$161,3,0),0) -> 94.245044 | AN13: =IFERROR(VLOOKUP($AE13,'MS8'!$A$1:$C$161,3,0),0) -> 0 | AO13: =IFERROR(VLOOKUP($AE13,'MS9'!$A$1:$C$161,3,0),0) -> 423.13375 | AP13: =IFERROR(VLOOKUP($AE13,'MS10'!$A$1:$C$161,3,0),0) -> 670.22759 | AQ13: =IFERROR(VLOOKUP($AE13,'MS11'!$A$1:$C$161,3,0),0) -> 0 | AR13: =IFERROR(VLOOKUP($AE13,'MS12'!$A$1:$C$161,3,0),0) -> 0 | AS13: =IFERROR(VLOOKUP($AE13,'MS13'!$A$1:$C$161,3,0),0) -> 0
A14: =ROW()-1 -> 13 | B14: Nanny on pe | C14: 7601.9701 | E14: =IFERROR(VLOOKUP($B14,'MS1'!$A$1:$B$160,2,0),"0") -> 21 | F14: =IFERROR(VLOOKUP(E14,'MS1'!$B$1:$C$161,2,0),0) -> 756.67209 | G14: =IFERROR(VLOOKUP($B14,'MS2'!$A$1:$B$160,2,0),"0") -> 0 | H14: =IFERROR(VLOOKUP(G14,'MS2'!$B$1:$C$161,2,0),0) -> 0 | I14: =IFERROR(VLOOKUP($B14,'MS3'!$A$1:$B$161,2,0),0) -> 35 | J14: =IFERROR(VLOOKUP(I14,'MS3'!$B$1:$C$161,2,0),0) -> 531.43998 | K14: =IFERROR(VLOOKUP($B14,'MS4'!$A$1:$B$160,2,0),"0") -> 3 | L14: =IFERROR(VLOOKUP(K14,'MS4'!$B$1:$C$161,2,0),0) -> 1661.2445 | M14: =IFERROR(VLOOKUP($B14,'MS5'!$A$1:$B$160,2,0),"0") -> 47 | N14: =IFERROR(VLOOKUP(M14,'MS5'!$B$1:$C$161,2,0),0) -> 218.61507 | O14: =IFERROR(VLOOKUP($B14,'MS6'!$A$1:$B$160,2,0),"0") -> 67 | P14: =IFERROR(VLOOKUP(O14,'MS6'!$B$1:$C$161,2,0),0) -> 23.35955 | Q14: =IFERROR(VLOOKUP($B14,'MS7'!$A$1:$B$160,2,0),"0") -> 61 | R14: =IFERROR(VLOOKUP(Q14,'MS7'!$B$1:$C$161,2,0),0) -> 106.45756 | S14: =IFERROR(VLOOKUP($B14,'MS8'!$A$1:$B$160,2,0),"0") -> 12 | T14: =IFERROR(VLOOKUP(S14,'MS8'!$B$1:$C$161,2,0),0) -> 1023.3701 | U14: =IFERROR(VLOOKUP($B14,'MS9'!$A$1:$B$160,2,0),"0") -> 1 | V14: =IFERROR(VLOOKUP(U14,'MS9'!$B$1:$C$161,2,0),0) -> 2245.6672 | W14: =IFERROR(VLOOKUP($B14,'MS10'!$A$1:$B$160,2,0),"0") -> 13 | X14: =IFERROR(VLOOKUP(W14,'MS10'!$B$1:$C$161,2,0),0) -> 957.02322 | Y14: =IFERROR(VLOOKUP($B14,'MS11'!$A$1:$B$160,2,0),"0") -> 57 | Z14: =IFERROR(VLOOKUP(Y14,'MS11'!$B$1:$C$161,2,0),0) -> 78.120877 | AA14: =IFERROR(VLOOKUP($B14,'MS12'!$A$1:$B$160,2,0),"0") -> 0 | AB14: =IFERROR(VLOOKUP(AA14,'MS12'!$B$1:$C$161,2,0),0) -> 0 | AC14: =IFERROR(VLOOKUP($B14,'MS13'!$A$1:$B$160,2,0),"0") -> 0 | AD14: =IFERROR(VLOOKUP(AC14,'MS13'!$B$1:$C$161,2,0),0) -> 0 | AE14: =IFERROR(__xludf.DUMMYFUNCTION("""COMPUTED_VALUE"""),"Legabodu86") -> Legabodu86 | AF14: =SUM(AG14:AR14)-small((AG14:AR14),1)-small((AG14:AR14),2) -> 5576.9766 | AG14: =IFERROR(VLOOKUP($AE14,'MS1'!$A$1:$C$161,3,0),0) -> 992.32852 | AH14: =IFERROR(VLOOKUP($AE14,'MS2'!$A$1:$C$161,3,0),0) -> 1280.3612 | AI14: =IFERROR(VLOOKUP($AE14,'MS3'!$A$1:$C$161,3,0),0) -> 1074.8305 | AJ14: =IFERROR(VLOOKUP($AE14,'MS4'!$A$1:$C$161,3,0),0) -> 502.70642 | AK14: =IFERROR(VLOOKUP($AE14,'MS5'!$A$1:$C$161,3,0),0) -> 0 | AL14: =IFERROR(VLOOKUP($AE14,'MS6'!$A$1:$C$161,3,0),0) -> 280.77044 | AM14: =IFERROR(VLOOKUP($AE14,'MS7'!$A$1:$C$161,3,0),0) -> 348.54841 | AN14: =IFERROR(VLOOKUP($AE14,'MS8'!$A$1:$C$161,3,0),0) -> 145.9371 | AO14: =IFERROR(VLOOKUP($AE14,'MS9'!$A$1:$C$161,3,0),0) -> 550.85115 | AP14: =IFERROR(VLOOKUP($AE14,'MS10'!$A$1:$C$161,3,0),0) -> 211.33719 | AQ14: =IFERROR(VLOOKUP($AE14,'MS11'!$A$1:$C$161,3,0),0) -> 189.30566 | AR14: =IFERROR(VLOOKUP($AE14,'MS12'!$A$1:$C$161,3,0),0) -> 38.562752 | AS14: =IFERROR(VLOOKUP($AE14,'MS13'!$A$1:$C$161,3,0),0) -> 0
A15: =ROW()-1 -> 14 | B15: Redblood92 | C15: 7530.8107 | E15: =IFERROR(VLOOKUP($B15,'MS1'!$A$1:$B$160,2,0),"0") -> 53 | F15: =IFERROR(VLOOKUP(E15,'MS1'!$B$1:$C$161,2,0),0) -> 208.27944 | G15: =IFERROR(VLOOKUP($B15,'MS2'!$A$1:$B$160,2,0),"0") -> 60 | H15: =IFERROR(VLOOKUP(G15,'MS2'!$B$1:$C$161,2,0),0) -> 118.77599 | I15: =IFERROR(VLOOKUP($B15,'MS3'!$A$1:$B$161,2,0),0) -> 7 | J15: =IFERROR(VLOOKUP(I15,'MS3'!$B$1:$C$161,2,0),0) -> 1324.4802 | K15: =IFERROR(VLOOKUP($B15,'MS4'!$A$1:$B$160,2,0),"0") -> 55 | L15: =IFERROR(VLOOKUP(K15,'MS4'!$B$1:$C$161,2,0),0) -> 150.53048 | M15: =IFERROR(VLOOKUP($B15,'MS5'!$A$1:$B$160,2,0),"0") -> 15 | N15: =IFERROR(VLOOKUP(M15,'MS5'!$B$1:$C$161,2,0),0) -> 872.57547 | O15: =IFERROR(VLOOKUP($B15,'MS6'!$A$1:$B$160,2,0),"0") -> 8 | P15: =IFERROR(VLOOKUP(O15,'MS6'!$B$1:$C$161,2,0),0) -> 1212.022 | Q15: =IFERROR(VLOOKUP($B15,'MS7'!$A$1:$B$160,2,0),"0") -> 7 | R15: =IFERROR(VLOOKUP(Q15,'MS7'!$B$1:$C$161,2,0),0) -> 1280.3612 | S15: =IFERROR(VLOOKUP($B15,'MS8'!$A$1:$B$160,2,0),"0") -> 15 | T15: =IFERROR(VLOOKUP(S15,'MS8'!$B$1:$C$161,2,0),0) -> 916.90452 | U15: =IFERROR(VLOOKUP($B15,'MS9'!$A$1:$B$160,2,0),"0") -> 58 | V15: =IFERROR(VLOOKUP(U15,'MS9'!$B$1:$C$161,2,0),0) -> 100.15324 | W15: =IFERROR(VLOOKUP($B15,'MS10'!$A$1:$B$160,2,0),"0") -> 33 | X15: =IFERROR(VLOOKUP(W15,'MS10'!$B$1:$C$161,2,0),0) -> 466.58037 | Y15: =IFERROR(VLOOKUP($B15,'MS11'!$A$1:$B$160,2,0),"0") -> 59 | Z15: =IFERROR(VLOOKUP(Y15,'MS11'!$B$1:$C$161,2,0),0) -> 51.6335 | AA15: =IFERROR(VLOOKUP($B15,'MS12'!$A$1:$B$160,2,0),"0") -> 8 | AB15: =IFERROR(VLOOKUP(AA15,'MS12'!$B$1:$C$161,2,0),0) -> 980.30099 | AC15: =IFERROR(VLOOKUP($B15,'MS13'!$A$1:$B$160,2,0),"0") -> 0 | AD15: =IFERROR(VLOOKUP(AC15,'MS13'!$B$1:$C$161,2,0),0) -> 0 | AE15: =IFERROR(__xludf.DUMMYFUNCTION("""COMPUTED_VALUE"""),"Bratake") -> Bratake | AF15: =SUM(AG15:AR15)-small((AG15:AR15),1)-small((AG15:AR15),2) -> 1543.2194 | AG15: =IFERROR(VLOOKUP($AE15,'MS1'!$A$1:$C$161,3,0),0) -> 957.02322 | AH15: =IFERROR(VLOOKUP($AE15,'MS2'!$A$1:$C$161,3,0),0) -> 0 | AI15: =IFERROR(VLOOKUP($AE15,'MS3'!$A$1:$C$161,3,0),0) -> 0 | AJ15: =IFERROR(VLOOKUP($AE15,'MS4'!$A$1:$C$161,3,0),0) -> 0 | AK15: =IFERROR(VLOOKUP($AE15,'MS5'!$A$1:$C$161,3,0),0) -> 0 | AL15: =IFERROR(VLOOKUP($AE15,'MS6'!$A$1:$C$161,3,0),0) -> 0 | AM15: =IFERROR(VLOOKUP($AE15,'MS7'!$A$1:$C$161,3,0),0) -> 0 | AN15: =IFERROR(VLOOKUP($AE15,'MS8'!$A$1:$C$161,3,0),0) -> 0 | AO15: =IFERROR(VLOOKUP($AE15,'MS9'!$A$1:$C$161,3,0),0) -> 0 | AP15: =IFERROR(VLOOKUP($AE15,'MS10'!$A$1:$C$161,3,0),0) -> 0 | AQ15: =IFERROR(VLOOKUP($AE15,'MS11'!$A$1:$C$161,3,0),0) -> 586.19615 | AR15: =IFERROR(VLOOKUP($AE15,'MS12'!$A$1:$C$161,3,0),0) -> 0 | AS15: =IFERROR(VLOOKUP($AE15,'MS13'!$A$1:$C$161,3,0),0) -> 0
A16: =ROW()-1 -> 15 | B16: Foldzilla | C16: 7468.504 | E16: =IFERROR(VLOOKUP($B16,'MS1'!$A$1:$B$160,2,0),"0") -> 24 | F16: =IFERROR(VLOOKUP(E16,'MS1'!$B$1:$C$161,2,0),0) -> 687.02332 | G16: =IFERROR(VLOOKUP($B16,'MS2'!$A$1:$B$160,2,0),"0") -> 27 | H16: =IFERROR(VLOOKUP(G16,'MS2'!$B$1:$C$161,2,0),0) -> 623.58258 | I16: =IFERROR(VLOOKUP($B16,'MS3'!$A$1:$B$161,2,0),0) -> 13 | J16: =IFERROR(VLOOKUP(I16,'MS3'!$B$1:$C$161,2,0),0) -> 1037.3279 | K16: =IFERROR(VLOOKUP($B16,'MS4'!$A$1:$B$160,2,0),"0") -> 59 | L16: =IFERROR(VLOOKUP(K16,'MS4'!$B$1:$C$161,2,0),0) -> 98.607709 | M16: =IFERROR(VLOOKUP($B16,'MS5'!$A$1:$B$160,2,0),"0") -> 21 | N16: =IFERROR(VLOOKUP(M16,'MS5'!$B$1:$C$161,2,0),0) -> 701.90614 | O16: =IFERROR(VLOOKUP($B16,'MS6'!$A$1:$B$160,2,0),"0") -> 9 | P16: =IFERROR(VLOOKUP(O16,'MS6'!$B$1:$C$161,2,0),0) -> 1157.5607 | Q16: =IFERROR(VLOOKUP($B16,'MS7'!$A$1:$B$160,2,0),"0") -> 34 | R16: =IFERROR(VLOOKUP(Q16,'MS7'!$B$1:$C$161,2,0),0) -> 492.83237 | S16: =IFERROR(VLOOKUP($B16,'MS8'!$A$1:$B$160,2,0),"0") -> 21 | T16: =IFERROR(VLOOKUP(S16,'MS8'!$B$1:$C$161,2,0),0) -> 749.27214 | U16: =IFERROR(VLOOKUP($B16,'MS9'!$A$1:$B$160,2,0),"0") -> 37 | V16: =IFERROR(VLOOKUP(U16,'MS9'!$B$1:$C$161,2,0),0) -> 406.23712 | W16: =IFERROR(VLOOKUP($B16,'MS10'!$A$1:$B$160,2,0),"0") -> 24 | X16: =IFERROR(VLOOKUP(W16,'MS10'!$B$1:$C$161,2,0),0) -> 647.34532 | Y16: =IFERROR(VLOOKUP($B16,'MS11'!$A$1:$B$160,2,0),"0") -> 33 | Z16: =IFERROR(VLOOKUP(Y16,'MS11'!$B$1:$C$161,2,0),0) -> 447.79305 | AA16: =IFERROR(VLOOKUP($B16,'MS12'!$A$1:$B$160,2,0),"0") -> 9 | AB16: =IFERROR(VLOOKUP(AA16,'MS12'!$B$1:$C$161,2,0),0) -> 923.86036 | AC16: =IFERROR(VLOOKUP($B16,'MS13'!$A$1:$B$160,2,0),"0") -> 0 | AD16: =IFERROR(VLOOKUP(AC16,'MS13'!$B$1:$C$161,2,0),0) -> 0 | AE16: =IFERROR(__xludf.DUMMYFUNCTION("""COMPUTED_VALUE"""),"StephBoss05") -> StephBoss05 | AF16: =SUM(AG16:AR16)-small((AG16:AR16),1)-small((AG16:AR16),2) -> 5611.2993 | AG16: =IFERROR(VLOOKUP($AE16,'MS1'!$A$1:$C$161,3,0),0) -> 923.86036 | AH16: =IFERROR(VLOOKUP($AE16,'MS2'!$A$1:$C$161,3,0),0) -> 2280.9489 | AI16: =IFERROR(VLOOKUP($AE16,'MS3'!$A$1:$C$161,3,0),0) -> 261.12674 | AJ16: =IFERROR(VLOOKUP($AE16,'MS4'!$A$1:$C$161,3,0),0) -> 11.985272 | AK16: =IFERROR(VLOOKUP($AE16,'MS5'!$A$1:$C$161,3,0),0) -> 0 | AL16: =IFERROR(VLOOKUP($AE16,'MS6'!$A$1:$C$161,3,0),0) -> 0 | AM16: =IFERROR(VLOOKUP($AE16,'MS7'!$A$1:$C$161,3,0),0) -> 1351.7881 | AN16: =IFERROR(VLOOKUP($AE16,'MS8'!$A$1:$C$161,3,0),0) -> 0 | AO16: =IFERROR(VLOOKUP($AE16,'MS9'!$A$1:$C$161,3,0),0) -> 0 | AP16: =IFERROR(VLOOKUP($AE16,'MS10'!$A$1:$C$161,3,0),0) -> 0 | AQ16: =IFERROR(VLOOKUP($AE16,'MS11'!$A$1:$C$161,3,0),0) -> 781.58994 | AR16: =IFERROR(VLOOKUP($AE16,'MS12'!$A$1:$C$161,3,0),0) -> 0 | AS16: =IFERROR(VLOOKUP($AE16,'MS13'!$A$1:$C$161,3,0),0) -> 0
A17: =ROW()-1 -> 16 | B17: Scherkan86 | C17: 7435.0964 | E17: =IFERROR(VLOOKUP($B17,'MS1'!$A$1:$B$160,2,0),"0") -> 32 | F17: =IFERROR(VLOOKUP(E17,'MS1'!$B$1:$C$161,2,0),0) -> 528.15641 | G17: =IFERROR(VLOOKUP($B17,'MS2'!$A$1:$B$160,2,0),"0") -> 2 | H17: =IFERROR(VLOOKUP(G17,'MS2'!$B$1:$C$161,2,0),0) -> 1890.244 | I17: =IFERROR(VLOOKUP($B17,'MS3'!$A$1:$B$161,2,0),0) -> 30 | J17: =IFERROR(VLOOKUP(I17,'MS3'!$B$1:$C$161,2,0),0) -> 618.07259 | K17: =IFERROR(VLOOKUP($B17,'MS4'!$A$1:$B$160,2,0),"0") -> 49 | L17: =IFERROR(VLOOKUP(K17,'MS4'!$B$1:$C$161,2,0),0) -> 232.41137 | M17: =IFERROR(VLOOKUP($B17,'MS5'!$A$1:$B$160,2,0),"0") -> 49 | N17: =IFERROR(VLOOKUP(M17,'MS5'!$B$1:$C$161,2,0),0) -> 189.30566 | O17: =IFERROR(VLOOKUP($B17,'MS6'!$A$1:$B$160,2,0),"0") -> 0 | P17: =IFERROR(VLOOKUP(O17,'MS6'!$B$1:$C$161,2,0),0) -> 0 | Q17: =IFERROR(VLOOKUP($B17,'MS7'!$A$1:$B$160,2,0),"0") -> 0 | R17: =IFERROR(VLOOKUP(Q17,'MS7'!$B$1:$C$161,2,0),0) -> 0 | S17: =IFERROR(VLOOKUP($B17,'MS8'!$A$1:$B$160,2,0),"0") -> 0 | T17: =IFERROR(VLOOKUP(S17,'MS8'!$B$1:$C$161,2,0),0) -> 0 | U17: =IFERROR(VLOOKUP($B17,'MS9'!$A$1:$B$160,2,0),"0") -> 9 | V17: =IFERROR(VLOOKUP(U17,'MS9'!$B$1:$C$161,2,0),0) -> 1136.9628 | W17: =IFERROR(VLOOKUP($B17,'MS10'!$A$1:$B$160,2,0),"0") -> 5 | X17: =IFERROR(VLOOKUP(W17,'MS10'!$B$1:$C$161,2,0),0) -> 1402.2121 | Y17: =IFERROR(VLOOKUP($B17,'MS11'!$A$1:$B$160,2,0),"0") -> 36 | Z17: =IFERROR(VLOOKUP(Y17,'MS11'!$B$1:$C$161,2,0),0) -> 394.34171 | AA17: =IFERROR(VLOOKUP($B17,'MS12'!$A$1:$B$160,2,0),"0") -> 7 | AB17: =IFERROR(VLOOKUP(AA17,'MS12'!$B$1:$C$161,2,0),0) -> 1043.3897 | AC17: =IFERROR(VLOOKUP($B17,'MS13'!$A$1:$B$160,2,0),"0") -> 0 | AD17: =IFERROR(VLOOKUP(AC17,'MS13'!$B$1:$C$161,2,0),0) -> 0 | AE17: =IFERROR(__xludf.DUMMYFUNCTION("""COMPUTED_VALUE"""),"shokooo") -> shokooo | AF17: =SUM(AG17:AR17)-small((AG17:AR17),1)-small((AG17:AR17),2) -> 5920.7359 | AG17: =IFERROR(VLOOKUP($AE17,'MS1'!$A$1:$C$161,3,0),0) -> 892.5452 | AH17: =IFERROR(VLOOKUP($AE17,'MS2'!$A$1:$C$161,3,0),0) -> 0 | AI17: =IFERROR(VLOOKUP($AE17,'MS3'!$A$1:$C$161,3,0),0) -> 0 | AJ17: =IFERROR(VLOOKUP($AE17,'MS4'!$A$1:$C$161,3,0),0) -> 902.63966 | AK17: =IFERROR(VLOOKUP($AE17,'MS5'!$A$1:$C$161,3,0),0) -> 781.58994 | AL17: =IFERROR(VLOOKUP($AE17,'MS6'!$A$1:$C$161,3,0),0) -> 0 | AM17: =IFERROR(VLOOKUP($AE17,'MS7'!$A$1:$C$161,3,0),0) -> 1890.244 | AN17: =IFERROR(VLOOKUP($AE17,'MS8'!$A$1:$C$161,3,0),0) -> 800.26675 | AO17: =IFERROR(VLOOKUP($AE17,'MS9'!$A$1:$C$161,3,0),0) -> 0 | AP17: =IFERROR(VLOOKUP($AE17,'MS10'!$A$1:$C$161,3,0),0) -> 0 | AQ17: =IFERROR(VLOOKUP($AE17,'MS11'!$A$1:$C$161,3,0),0) -> 653.45037 | AR17: =IFERROR(VLOOKUP($AE17,'MS12'!$A$1:$C$161,3,0),0) -> 0 | AS17: =IFERROR(VLOOKUP($AE17,'MS13'!$A$1:$C$161,3,0),0) -> 0
A18: =ROW()-1 -> 17 | B18: BBH 75 | C18: 7211.0765 | E18: =IFERROR(VLOOKUP($B18,'MS1'!$A$1:$B$160,2,0),"0") -> 0 | F18: =IFERROR(VLOOKUP(E18,'MS1'!$B$1:$C$161,2,0),0) -> 0 | G18: =IFERROR(VLOOKUP($B18,'MS2'!$A$1:$B$160,2,0),"0") -> 22 | H18: =IFERROR(VLOOKUP(G18,'MS2'!$B$1:$C$161,2,0),0) -> 732.65923 | I18: =IFERROR(VLOOKUP($B18,'MS3'!$A$1:$B$161,2,0),0) -> 10 | J18: =IFERROR(VLOOKUP(I18,'MS3'!$B$1:$C$161,2,0),0) -> 1159.5694 | K18: =IFERROR(VLOOKUP($B18,'MS4'!$A$1:$B$160,2,0),"0") -> 28 | L18: =IFERROR(VLOOKUP(K18,'MS4'!$B$1:$C$161,2,0),0) -> 579.1739 | M18: =IFERROR(VLOOKUP($B18,'MS5'!$A$1:$B$160,2,0),"0") -> 46 | N18: =IFERROR(VLOOKUP(M18,'MS5'!$B$1:$C$161,2,0),0) -> 233.53073 | O18: =IFERROR(VLOOKUP($B18,'MS6'!$A$1:$B$160,2,0),"0") -> 33 | P18: =IFERROR(VLOOKUP(O18,'MS6'!$B$1:$C$161,2,0),0) -> 501.91154 | Q18: =IFERROR(VLOOKUP($B18,'MS7'!$A$1:$B$160,2,0),"0") -> 9 | R18: =IFERROR(VLOOKUP(Q18,'MS7'!$B$1:$C$161,2,0),0) -> 1164.2216 | S18: =IFERROR(VLOOKUP($B18,'MS8'!$A$1:$B$160,2,0),"0") -> 27 | T18: =IFERROR(VLOOKUP(S18,'MS8'!$B$1:$C$161,2,0),0) -> 615.68918 | U18: =IFERROR(VLOOKUP($B18,'MS9'!$A$1:$B$160,2,0),"0") -> 0 | V18: =IFERROR(VLOOKUP(U18,'MS9'!$B$1:$C$161,2,0),0) -> 0 | W18: =IFERROR(VLOOKUP($B18,'MS10'!$A$1:$B$160,2,0),"0") -> 14 | X18: =IFERROR(VLOOKUP(W18,'MS10'!$B$1:$C$161,2,0),0) -> 921.38924 | Y18: =IFERROR(VLOOKUP($B18,'MS11'!$A$1:$B$160,2,0),"0") -> 6 | Z18: =IFERROR(VLOOKUP(Y18,'MS11'!$B$1:$C$161,2,0),0) -> 1302.9316 | AA18: =IFERROR(VLOOKUP($B18,'MS12'!$A$1:$B$160,2,0),"0") -> 0 | AB18: =IFERROR(VLOOKUP(AA18,'MS12'!$B$1:$C$161,2,0),0) -> 0 | AC18: =IFERROR(VLOOKUP($B18,'MS13'!$A$1:$B$160,2,0),"0") -> 0 | AD18: =IFERROR(VLOOKUP(AC18,'MS13'!$B$1:$C$161,2,0),0) -> 0 | AE18: =IFERROR(__xludf.DUMMYFUNCTION("""COMPUTED_VALUE"""),"pinobis") -> pinobis | AF18: =SUM(AG18:AR18)-small((AG18:AR18),1)-small((AG18:AR18),2) -> 1704.0249 | AG18: =IFERROR(VLOOKUP($AE18,'MS1'!$A$1:$C$161,3,0),0) -> 862.83965 | AH18: =IFERROR(VLOOKUP($AE18,'MS2'!$A$1:$C$161,3,0),0) -> 0 | AI18: =IFERROR(VLOOKUP($AE18,'MS3'!$A$1:$C$161,3,0),0) -> 0 | AJ18: =IFERROR(VLOOKUP($AE18,'MS4'!$A$1:$C$161,3,0),0) -> 841.18527 | AK18: =IFERROR(VLOOKUP($AE18,'MS5'!$A$1:$C$161,3,0),0) -> 0 | AL18: =IFERROR(VLOOKUP($AE18,'MS6'!$A$1:$C$161,3,0),0) -> 0 | AM18: =IFERROR(VLOOKUP($AE18,'MS7'!$A$1:$C$161,3,0),0) -> 0 | AN18: =IFERROR(VLOOKUP($AE18,'MS8'!$A$1:$C$161,3,0),0) -> 0 | AO18: =IFERROR(VLOOKUP($AE18,'MS9'!$A$1:$C$161,3,0),0) -> 0 | AP18: =IFERROR(VLOOKUP($AE18,'MS10'!$A$1:$C$161,3,0),0) -> 0 | AQ18: =IFERROR(VLOOKUP($AE18,'MS11'!$A$1:$C$161,3,0),0) -> 0 | AR18: =IFERROR(VLOOKUP($AE18,'MS12'!$A$1:$C$161,3,0),0) -> 0 | AS18: =IFERROR(VLOOKUP($AE18,'MS13'!$A$1:$C$161,3,0),0) -> 0
A19: =ROW()-1 -> 18 | B19: _Sale-Bet_ | C19: 7051.586 | E19: =IFERROR(VLOOKUP($B19,'MS1'!$A$1:$B$160,2,0),"0") -> 39 | F19: =IFERROR(VLOOKUP(E19,'MS1'!$B$1:$C$161,2,0),0) -> 410.07378 | G19: =IFERROR(VLOOKUP($B19,'MS2'!$A$1:$B$160,2,0),"0") -> 46 | H19: =IFERROR(VLOOKUP(G19,'MS2'!$B$1:$C$161,2,0),0) -> 304.64092 | I19: =IFERROR(VLOOKUP($B19,'MS3'!$A$1:$B$161,2,0),0) -> 19 | J19: =IFERROR(VLOOKUP(I19,'MS3'!$B$1:$C$161,2,0),0) -> 854.99099 | K19: =IFERROR(VLOOKUP($B19,'MS4'!$A$1:$B$160,2,0),"0") -> 22 | L19: =IFERROR(VLOOKUP(K19,'MS4'!$B$1:$C$161,2,0),0) -> 709.80774 | M19: =IFERROR(VLOOKUP($B19,'MS5'!$A$1:$B$160,2,0),"0") -> 45 | N19: =IFERROR(VLOOKUP(M19,'MS5'!$B$1:$C$161,2,0),0) -> 248.63024 | O19: =IFERROR(VLOOKUP($B19,'MS6'!$A$1:$B$160,2,0),"0") -> 57 | P19: =IFERROR(VLOOKUP(O19,'MS6'!$B$1:$C$161,2,0),0) -> 145.9371 | Q19: =IFERROR(VLOOKUP($B19,'MS7'!$A$1:$B$160,2,0),"0") -> 18 | R19: =IFERROR(VLOOKUP(Q19,'MS7'!$B$1:$C$161,2,0),0) -> 834.54868 | S19: =IFERROR(VLOOKUP($B19,'MS8'!$A$1:$B$160,2,0),"0") -> 10 | T19: =IFERROR(VLOOKUP(S19,'MS8'!$B$1:$C$161,2,0),0) -> 1108.6774 | U19: =IFERROR(VLOOKUP($B19,'MS9'!$A$1:$B$160,2,0),"0") -> 25 | V19: =IFERROR(VLOOKUP(U19,'MS9'!$B$1:$C$161,2,0),0) -> 633.47706 | W19: =IFERROR(VLOOKUP($B19,'MS10'!$A$1:$B$160,2,0),"0") -> 42 | X19: =IFERROR(VLOOKUP(W19,'MS10'!$B$1:$C$161,2,0),0) -> 315.73337 | Y19: =IFERROR(VLOOKUP($B19,'MS11'!$A$1:$B$160,2,0),"0") -> 3 | Z19: =IFERROR(VLOOKUP(Y19,'MS11'!$B$1:$C$161,2,0),0) -> 1631.0058 | AA19: =IFERROR(VLOOKUP($B19,'MS12'!$A$1:$B$160,2,0),"0") -> 38 | AB19: =IFERROR(VLOOKUP(AA19,'MS12'!$B$1:$C$161,2,0),0) -> 78.120877 | AC19: =IFERROR(VLOOKUP($B19,'MS13'!$A$1:$B$160,2,0),"0") -> 0 | AD19: =IFERROR(VLOOKUP(AC19,'MS13'!$B$1:$C$161,2,0),0) -> 0 | AE19: =IFERROR(__xludf.DUMMYFUNCTION("""COMPUTED_VALUE"""),"Agouty79") -> Agouty79 | AF19: =SUM(AG19:AR19)-small((AG19:AR19),1)-small((AG19:AR19),2) -> 3428.4039 | AG19: =IFERROR(VLOOKUP($AE19,'MS1'!$A$1:$C$161,3,0),0) -> 834.54868 | AH19: =IFERROR(VLOOKUP($AE19,'MS2'!$A$1:$C$161,3,0),0) -> 834.54868 | AI19: =IFERROR(VLOOKUP($AE19,'MS3'!$A$1:$C$161,3,0),0) -> 199.88557 | AJ19: =IFERROR(VLOOKUP($AE19,'MS4'!$A$1:$C$161,3,0),0) -> 466.85079 | AK19: =IFERROR(VLOOKUP($AE19,'MS5'!$A$1:$C$161,3,0),0) -> 12.749309 | AL19: =IFERROR(VLOOKUP($AE19,'MS6'!$A$1:$C$161,3,0),0) -> 916.90452 | AM19: =IFERROR(VLOOKUP($AE19,'MS7'!$A$1:$C$161,3,0),0) -> 0 | AN19: =IFERROR(VLOOKUP($AE19,'MS8'!$A$1:$C$161,3,0),0) -> 0 | AO19: =IFERROR(VLOOKUP($AE19,'MS9'!$A$1:$C$161,3,0),0) -> 87.260374 | AP19: =IFERROR(VLOOKUP($AE19,'MS10'!$A$1:$C$161,3,0),0) -> 75.655972 | AQ19: =IFERROR(VLOOKUP($AE19,'MS11'!$A$1:$C$161,3,0),0) -> 0 | AR19: =IFERROR(VLOOKUP($AE19,'MS12'!$A$1:$C$161,3,0),0) -> 0 | AS19: =IFERROR(VLOOKUP($AE19,'MS13'!$A$1:$C$161,3,0),0) -> 0
A20: =ROW()-1 -> 19 | B20: Fishtipanda | C20: 6903.0522 | E20: =IFERROR(VLOOKUP($B20,'MS1'!$A$1:$B$160,2,0),"0") -> 6 | F20: =IFERROR(VLOOKUP(E20,'MS1'!$B$1:$C$161,2,0),0) -> 1351.7881 | G20: =IFERROR(VLOOKUP($B20,'MS2'!$A$1:$B$160,2,0),"0") -> 19 | H20: =IFERROR(VLOOKUP(G20,'MS2'!$B$1:$C$161,2,0),0) -> 807.5106 | I20: =IFERROR(VLOOKUP($B20,'MS3'!$A$1:$B$161,2,0),0) -> 41 | J20: =IFERROR(VLOOKUP(I20,'MS3'!$B$1:$C$161,2,0),0) -> 437.85315 | K20: =IFERROR(VLOOKUP($B20,'MS4'!$A$1:$B$160,2,0),"0") -> 48 | L20: =IFERROR(VLOOKUP(K20,'MS4'!$B$1:$C$161,2,0),0) -> 246.59097 | M20: =IFERROR(VLOOKUP($B20,'MS5'!$A$1:$B$160,2,0),"0") -> 38 | N20: =IFERROR(VLOOKUP(M20,'MS5'!$B$1:$C$161,2,0),0) -> 360.22901 | O20: =IFERROR(VLOOKUP($B20,'MS6'!$A$1:$B$160,2,0),"0") -> 3 | P20: =IFERROR(VLOOKUP(O20,'MS6'!$B$1:$C$161,2,0),0) -> 1675.7792 | Q20: =IFERROR(VLOOKUP($B20,'MS7'!$A$1:$B$160,2,0),"0") -> 39 | R20: =IFERROR(VLOOKUP(Q20,'MS7'!$B$1:$C$161,2,0),0) -> 410.07378 | S20: =IFERROR(VLOOKUP($B20,'MS8'!$A$1:$B$160,2,0),"0") -> 0 | T20: =IFERROR(VLOOKUP(S20,'MS8'!$B$1:$C$161,2,0),0) -> 0 | U20: =IFERROR(VLOOKUP($B20,'MS9'!$A$1:$B$160,2,0),"0") -> 5 | V20: =IFERROR(VLOOKUP(U20,'MS9'!$B$1:$C$161,2,0),0) -> 1409.3517 | W20: =IFERROR(VLOOKUP($B20,'MS10'!$A$1:$B$160,2,0),"0") -> 0 | X20: =IFERROR(VLOOKUP(W20,'MS10'!$B$1:$C$161,2,0),0) -> 0 | Y20: =IFERROR(VLOOKUP($B20,'MS11'!$A$1:$B$160,2,0),"0") -> 48 | Z20: =IFERROR(VLOOKUP(Y20,'MS11'!$B$1:$C$161,2,0),0) -> 203.87573 | AA20: =IFERROR(VLOOKUP($B20,'MS12'!$A$1:$B$160,2,0),"0") -> 0 | AB20: =IFERROR(VLOOKUP(AA20,'MS12'!$B$1:$C$161,2,0),0) -> 0 | AC20: =IFERROR(VLOOKUP($B20,'MS13'!$A$1:$B$160,2,0),"0") -> 0 | AD20: =IFERROR(VLOOKUP(AC20,'MS13'!$B$1:$C$161,2,0),0) -> 0 | AE20: =IFERROR(__xludf.DUMMYFUNCTION("""COMPUTED_VALUE"""),"Mako Lemore") -> Mako Lemore | AF20: =SUM(AG20:AR20)-small((AG20:AR20),1)-small((AG20:AR20),2) -> 9523.2264 | AG20: =IFERROR(VLOOKUP($AE20,'MS1'!$A$1:$C$161,3,0),0) -> 807.5106 | AH20: =IFERROR(VLOOKUP($AE20,'MS2'!$A$1:$C$161,3,0),0) -> 426.05978 | AI20: =IFERROR(VLOOKUP($AE20,'MS3'!$A$1:$C$161,3,0),0) -> 1941.0008 | AJ20: =IFERROR(VLOOKUP($AE20,'MS4'!$A$1:$C$161,3,0),0) -> 260.93925 | AK20: =IFERROR(VLOOKUP($AE20,'MS5'!$A$1:$C$161,3,0),0) -> 1169.9701 | AL20: =IFERROR(VLOOKUP($AE20,'MS6'!$A$1:$C$161,3,0),0) -> 309.64301 | AM20: =IFERROR(VLOOKUP($AE20,'MS7'!$A$1:$C$161,3,0),0) -> 623.58258 | AN20: =IFERROR(VLOOKUP($AE20,'MS8'!$A$1:$C$161,3,0),0) -> 309.64301 | AO20: =IFERROR(VLOOKUP($AE20,'MS9'!$A$1:$C$161,3,0),0) -> 777.75264 | AP20: =IFERROR(VLOOKUP($AE20,'MS10'!$A$1:$C$161,3,0),0) -> 254.95828 | AQ20: =IFERROR(VLOOKUP($AE20,'MS11'!$A$1:$C$161,3,0),0) -> 1169.9701 | AR20: =IFERROR(VLOOKUP($AE20,'MS12'!$A$1:$C$161,3,0),0) -> 1988.0938 | AS20: =IFERROR(VLOOKUP($AE20,'MS13'!$A$1:$C$161,3,0),0) -> 0
A21: =ROW()-1 -> 20 | B21: Kevfurious | C21: 6828.5958 | E21: =IFERROR(VLOOKUP($B21,'MS1'!$A$1:$B$160,2,0),"0") -> 69 | F21: =IFERROR(VLOOKUP(E21,'MS1'!$B$1:$C$161,2,0),0) -> 11.469756 | G21: =IFERROR(VLOOKUP($B21,'MS2'!$A$1:$B$160,2,0),"0") -> 9 | H21: =IFERROR(VLOOKUP(G21,'MS2'!$B$1:$C$161,2,0),0) -> 1164.2216 | I21: =IFERROR(VLOOKUP($B21,'MS3'!$A$1:$B$161,2,0),0) -> 0 | J21: =IFERROR(VLOOKUP(I21,'MS3'!$B$1:$C$161,2,0),0) -> 0 | K21: =IFERROR(VLOOKUP($B21,'MS4'!$A$1:$B$160,2,0),"0") -> 0 | L21: =IFERROR(VLOOKUP(K21,'MS4'!$B$1:$C$161,2,0),0) -> 0 | M21: =IFERROR(VLOOKUP($B21,'MS5'!$A$1:$B$160,2,0),"0") -> 10 | N21: =IFERROR(VLOOKUP(M21,'MS5'!$B$1:$C$161,2,0),0) -> 1066.2534 | O21: =IFERROR(VLOOKUP($B21,'MS6'!$A$1:$B$160,2,0),"0") -> 31 | P21: =IFERROR(VLOOKUP(O21,'MS6'!$B$1:$C$161,2,0),0) -> 538.14132 | Q21: =IFERROR(VLOOKUP($B21,'MS7'!$A$1:$B$160,2,0),"0") -> 0 | R21: =IFERROR(VLOOKUP(Q21,'MS7'!$B$1:$C$161,2,0),0) -> 0 | S21: =IFERROR(VLOOKUP($B21,'MS8'!$A$1:$B$160,2,0),"0") -> 6 | T21: =IFERROR(VLOOKUP(S21,'MS8'!$B$1:$C$161,2,0),0) -> 1345.1041 | U21: =IFERROR(VLOOKUP($B21,'MS9'!$A$1:$B$160,2,0),"0") -> 56 | V21: =IFERROR(VLOOKUP(U21,'MS9'!$B$1:$C$161,2,0),0) -> 126.29467 | W21: =IFERROR(VLOOKUP($B21,'MS10'!$A$1:$B$160,2,0),"0") -> 63 | X21: =IFERROR(VLOOKUP(W21,'MS10'!$B$1:$C$161,2,0),0) -> 24.808461 | Y21: =IFERROR(VLOOKUP($B21,'MS11'!$A$1:$B$160,2,0),"0") -> 9 | Z21: =IFERROR(VLOOKUP(Y21,'MS11'!$B$1:$C$161,2,0),0) -> 1115.3668 | AA21: =IFERROR(VLOOKUP($B21,'MS12'!$A$1:$B$160,2,0),"0") -> 3 | AB21: =IFERROR(VLOOKUP(AA21,'MS12'!$B$1:$C$161,2,0),0) -> 1436.9356 | AC21: =IFERROR(VLOOKUP($B21,'MS13'!$A$1:$B$160,2,0),"0") -> 0 | AD21: =IFERROR(VLOOKUP(AC21,'MS13'!$B$1:$C$161,2,0),0) -> 0 | AE21: =IFERROR(__xludf.DUMMYFUNCTION("""COMPUTED_VALUE"""),"Le MARVEL") -> Le MARVEL | AF21: =SUM(AG21:AR21)-small((AG21:AR21),1)-small((AG21:AR21),2) -> 7797.2178 | AG21: =IFERROR(VLOOKUP($AE21,'MS1'!$A$1:$C$161,3,0),0) -> 781.58994 | AH21: =IFERROR(VLOOKUP($AE21,'MS2'!$A$1:$C$161,3,0),0) -> 510.3166 | AI21: =IFERROR(VLOOKUP($AE21,'MS3'!$A$1:$C$161,3,0),0) -> 736.96184 | AJ21: =IFERROR(VLOOKUP($AE21,'MS4'!$A$1:$C$161,3,0),0) -> 275.46328 | AK21: =IFERROR(VLOOKUP($AE21,'MS5'!$A$1:$C$161,3,0),0) -> 132.59148 | AL21: =IFERROR(VLOOKUP($AE21,'MS6'!$A$1:$C$161,3,0),0) -> 211.54426 | AM21: =IFERROR(VLOOKUP($AE21,'MS7'!$A$1:$C$161,3,0),0) -> 1030.1469 | AN21: =IFERROR(VLOOKUP($AE21,'MS8'!$A$1:$C$161,3,0),0) -> 1675.7792 | AO21: =IFERROR(VLOOKUP($AE21,'MS9'!$A$1:$C$161,3,0),0) -> 325.7099 | AP21: =IFERROR(VLOOKUP($AE21,'MS10'!$A$1:$C$161,3,0),0) -> 625.14384 | AQ21: =IFERROR(VLOOKUP($AE21,'MS11'!$A$1:$C$161,3,0),0) -> 1492.5249 | AR21: =IFERROR(VLOOKUP($AE21,'MS12'!$A$1:$C$161,3,0),0) -> 343.58142 | AS21: =IFERROR(VLOOKUP($AE21,'MS13'!$A$1:$C$161,3,0),0) -> 0
A22: =ROW()-1 -> 21 | B22: Rod_John_VI | C22: 6660.0564 | E22: =IFERROR(VLOOKUP($B22,'MS1'!$A$1:$B$160,2,0),"0") -> 3 | F22: =IFERROR(VLOOKUP(E22,'MS1'!$B$1:$C$161,2,0),0) -> 1682.9102 | G22: =IFERROR(VLOOKUP($B22,'MS2'!$A$1:$B$160,2,0),"0") -> 31 | H22: =IFERROR(VLOOKUP(G22,'MS2'!$B$1:$C$161,2,0),0) -> 546.37477 | I22: =IFERROR(VLOOKUP($B22,'MS3'!$A$1:$B$161,2,0),0) -> 29 | J22: =IFERROR(VLOOKUP(I22,'MS3'!$B$1:$C$161,2,0),0) -> 636.59567 | K22: =IFERROR(VLOOKUP($B22,'MS4'!$A$1:$B$160,2,0),"0") -> 18 | L22: =IFERROR(VLOOKUP(K22,'MS4'!$B$1:$C$161,2,0),0) -> 812.66553 | M22: =IFERROR(VLOOKUP($B22,'MS5'!$A$1:$B$160,2,0),"0") -> 23 | N22: =IFERROR(VLOOKUP(M22,'MS5'!$B$1:$C$161,2,0),0) -> 653.45037 | O22: =IFERROR(VLOOKUP($B22,'MS6'!$A$1:$B$160,2,0),"0") -> 44 | P22: =IFERROR(VLOOKUP(O22,'MS6'!$B$1:$C$161,2,0),0) -> 324.36203 | Q22: =IFERROR(VLOOKUP($B22,'MS7'!$A$1:$B$160,2,0),"0") -> 29 | R22: =IFERROR(VLOOKUP(Q22,'MS7'!$B$1:$C$161,2,0),0) -> 584.05106 | S22: =IFERROR(VLOOKUP($B22,'MS8'!$A$1:$B$160,2,0),"0") -> 16 | T22: =IFERROR(VLOOKUP(S22,'MS8'!$B$1:$C$161,2,0),0) -> 885.52136 | U22: =IFERROR(VLOOKUP($B22,'MS9'!$A$1:$B$160,2,0),"0") -> 62 | V22: =IFERROR(VLOOKUP(U22,'MS9'!$B$1:$C$161,2,0),0) -> 49.248624 | W22: =IFERROR(VLOOKUP($B22,'MS10'!$A$1:$B$160,2,0),"0") -> 32 | X22: =IFERROR(VLOOKUP(W22,'MS10'!$B$1:$C$161,2,0),0) -> 484.87681 | Y22: =IFERROR(VLOOKUP($B22,'MS11'!$A$1:$B$160,2,0),"0") -> 0 | Z22: =IFERROR(VLOOKUP(Y22,'MS11'!$B$1:$C$161,2,0),0) -> 0 | AA22: =IFERROR(VLOOKUP($B22,'MS12'!$A$1:$B$160,2,0),"0") -> 0 | AB22: =IFERROR(VLOOKUP(AA22,'MS12'!$B$1:$C$161,2,0),0) -> 0 | AC22: =IFERROR(VLOOKUP($B22,'MS13'!$A$1:$B$160,2,0),"0") -> 0 | AD22: =IFERROR(VLOOKUP(AC22,'MS13'!$B$1:$C$161,2,0),0) -> 0 | AE22: =IFERROR(__xludf.DUMMYFUNCTION("""COMPUTED_VALUE"""),"Nanny on pe") -> Nanny on pe | AF22: =SUM(AG22:AR22)-small((AG22:AR22),1)-small((AG22:AR22),2) -> 7601.9701 | AG22: =IFERROR(VLOOKUP($AE22,'MS1'!$A$1:$C$161,3,0),0) -> 756.67209 | AH22: =IFERROR(VLOOKUP($AE22,'MS2'!$A$1:$C$161,3,0),0) -> 0 | AI22: =IFERROR(VLOOKUP($AE22,'MS3'!$A$1:$C$161,3,0),0) -> 531.43998 | AJ22: =IFERROR(VLOOKUP($AE22,'MS4'!$A$1:$C$161,3,0),0) -> 1661.2445 | AK22: =IFERROR(VLOOKUP($AE22,'MS5'!$A$1:$C$161,3,0),0) -> 218.61507 | AL22: =IFERROR(VLOOKUP($AE22,'MS6'!$A$1:$C$161,3,0),0) -> 23.35955 | AM22: =IFERROR(VLOOKUP($AE22,'MS7'!$A$1:$C$161,3,0),0) -> 106.45756 | AN22: =IFERROR(VLOOKUP($AE22,'MS8'!$A$1:$C$161,3,0),0) -> 1023.3701 | AO22: =IFERROR(VLOOKUP($AE22,'MS9'!$A$1:$C$161,3,0),0) -> 2245.6672 | AP22: =IFERROR(VLOOKUP($AE22,'MS10'!$A$1:$C$161,3,0),0) -> 957.02322 | AQ22: =IFERROR(VLOOKUP($AE22,'MS11'!$A$1:$C$161,3,0),0) -> 78.120877 | AR22: =IFERROR(VLOOKUP($AE22,'MS12'!$A$1:$C$161,3,0),0) -> 0 | AS22: =IFERROR(VLOOKUP($AE22,'MS13'!$A$1:$C$161,3,0),0) -> 0
A23: =ROW()-1 -> 22 | B23: Chuckandier | C23: 6548.7104 | E23: =IFERROR(VLOOKUP($B23,'MS1'!$A$1:$B$160,2,0),"0") -> 45 | F23: =IFERROR(VLOOKUP(E23,'MS1'!$B$1:$C$161,2,0),0) -> 319.08276 | G23: =IFERROR(VLOOKUP($B23,'MS2'!$A$1:$B$160,2,0),"0") -> 0 | H23: =IFERROR(VLOOKUP(G23,'MS2'!$B$1:$C$161,2,0),0) -> 0 | I23: =IFERROR(VLOOKUP($B23,'MS3'!$A$1:$B$161,2,0),0) -> 8 | J23: =IFERROR(VLOOKUP(I23,'MS3'!$B$1:$C$161,2,0),0) -> 1262.6952 | K23: =IFERROR(VLOOKUP($B23,'MS4'!$A$1:$B$160,2,0),"0") -> 6 | L23: =IFERROR(VLOOKUP(K23,'MS4'!$B$1:$C$161,2,0),0) -> 1331.4532 | M23: =IFERROR(VLOOKUP($B23,'MS5'!$A$1:$B$160,2,0),"0") -> 32 | N23: =IFERROR(VLOOKUP(M23,'MS5'!$B$1:$C$161,2,0),0) -> 466.29287 | O23: =IFERROR(VLOOKUP($B23,'MS6'!$A$1:$B$160,2,0),"0") -> 0 | P23: =IFERROR(VLOOKUP(O23,'MS6'!$B$1:$C$161,2,0),0) -> 0 | Q23: =IFERROR(VLOOKUP($B23,'MS7'!$A$1:$B$160,2,0),"0") -> 38 | R23: =IFERROR(VLOOKUP(Q23,'MS7'!$B$1:$C$161,2,0),0) -> 426.05978 | S23: =IFERROR(VLOOKUP($B23,'MS8'!$A$1:$B$160,2,0),"0") -> 33 | T23: =IFERROR(VLOOKUP(S23,'MS8'!$B$1:$C$161,2,0),0) -> 501.91154 | U23: =IFERROR(VLOOKUP($B23,'MS9'!$A$1:$B$160,2,0),"0") -> 31 | V23: =IFERROR(VLOOKUP(U23,'MS9'!$B$1:$C$161,2,0),0) -> 512.45963 | W23: =IFERROR(VLOOKUP($B23,'MS10'!$A$1:$B$160,2,0),"0") -> 8 | X23: =IFERROR(VLOOKUP(W23,'MS10'!$B$1:$C$161,2,0),0) -> 1184.4244 | Y23: =IFERROR(VLOOKUP($B23,'MS11'!$A$1:$B$160,2,0),"0") -> 28 | Z23: =IFERROR(VLOOKUP(Y23,'MS11'!$B$1:$C$161,2,0),0) -> 544.33105 | AA23: =IFERROR(VLOOKUP($B23,'MS12'!$A$1:$B$160,2,0),"0") -> 0 | AB23: =IFERROR(VLOOKUP(AA23,'MS12'!$B$1:$C$161,2,0),0) -> 0 | AC23: =IFERROR(VLOOKUP($B23,'MS13'!$A$1:$B$160,2,0),"0") -> 0 | AD23: =IFERROR(VLOOKUP(AC23,'MS13'!$B$1:$C$161,2,0),0) -> 0 | AE23: =IFERROR(__xludf.DUMMYFUNCTION("""COMPUTED_VALUE"""),"RicDeckard") -> RicDeckard | AF23: =SUM(AG23:AR23)-small((AG23:AR23),1)-small((AG23:AR23),2) -> 3725.6242 | AG23: =IFERROR(VLOOKUP($AE23,'MS1'!$A$1:$C$161,3,0),0) -> 732.65923 | AH23: =IFERROR(VLOOKUP($AE23,'MS2'!$A$1:$C$161,3,0),0) -> 644.13337 | AI23: =IFERROR(VLOOKUP($AE23,'MS3'!$A$1:$C$161,3,0),0) -> 286.52407 | AJ23: =IFERROR(VLOOKUP($AE23,'MS4'!$A$1:$C$161,3,0),0) -> 0 | AK23: =IFERROR(VLOOKUP($AE23,'MS5'!$A$1:$C$161,3,0),0) -> 0 | AL23: =IFERROR(VLOOKUP($AE23,'MS6'!$A$1:$C$161,3,0),0) -> 0 | AM23: =IFERROR(VLOOKUP($AE23,'MS7'!$A$1:$C$161,3,0),0) -> 1070.9527 | AN23: =IFERROR(VLOOKUP($AE23,'MS8'!$A$1:$C$161,3,0),0) -> 0 | AO23: =IFERROR(VLOOKUP($AE23,'MS9'!$A$1:$C$161,3,0),0) -> 24.429638 | AP23: =IFERROR(VLOOKUP($AE23,'MS10'!$A$1:$C$161,3,0),0) -> 718.29497 | AQ23: =IFERROR(VLOOKUP($AE23,'MS11'!$A$1:$C$161,3,0),0) -> 248.63024 | AR23: =IFERROR(VLOOKUP($AE23,'MS12'!$A$1:$C$161,3,0),0) -> 0 | AS23: =IFERROR(VLOOKUP($AE23,'MS13'!$A$1:$C$161,3,0),0) -> 0
A24: =ROW()-1 -> 23 | B24: Dirty Bazaar | C24: 6272.1461 | E24: =IFERROR(VLOOKUP($B24,'MS1'!$A$1:$B$160,2,0),"0") -> 0 | F24: =IFERROR(VLOOKUP(E24,'MS1'!$B$1:$C$161,2,0),0) -> 0 | G24: =IFERROR(VLOOKUP($B24,'MS2'!$A$1:$B$160,2,0),"0") -> 12 | H24: =IFERROR(VLOOKUP(G24,'MS2'!$B$1:$C$161,2,0),0) -> 1030.1469 | I24: =IFERROR(VLOOKUP($B24,'MS3'!$A$1:$B$161,2,0),0) -> 25 | J24: =IFERROR(VLOOKUP(I24,'MS3'!$B$1:$C$161,2,0),0) -> 715.71527 | K24: =IFERROR(VLOOKUP($B24,'MS4'!$A$1:$B$160,2,0),"0") -> 5 | L24: =IFERROR(VLOOKUP(K24,'MS4'!$B$1:$C$161,2,0),0) -> 1416.3907 | M24: =IFERROR(VLOOKUP($B24,'MS5'!$A$1:$B$160,2,0),"0") -> 0 | N24: =IFERROR(VLOOKUP(M24,'MS5'!$B$1:$C$161,2,0),0) -> 0 | O24: =IFERROR(VLOOKUP($B24,'MS6'!$A$1:$B$160,2,0),"0") -> 10 | P24: =IFERROR(VLOOKUP(O24,'MS6'!$B$1:$C$161,2,0),0) -> 1108.6774 | Q24: =IFERROR(VLOOKUP($B24,'MS7'!$A$1:$B$160,2,0),"0") -> 60 | R24: =IFERROR(VLOOKUP(Q24,'MS7'!$B$1:$C$161,2,0),0) -> 118.77599 | S24: =IFERROR(VLOOKUP($B24,'MS8'!$A$1:$B$160,2,0),"0") -> 26 | T24: =IFERROR(VLOOKUP(S24,'MS8'!$B$1:$C$161,2,0),0) -> 636.32398 | U24: =IFERROR(VLOOKUP($B24,'MS9'!$A$1:$B$160,2,0),"0") -> 0 | V24: =IFERROR(VLOOKUP(U24,'MS9'!$B$1:$C$161,2,0),0) -> 0 | W24: =IFERROR(VLOOKUP($B24,'MS10'!$A$1:$B$160,2,0),"0") -> 7 | X24: =IFERROR(VLOOKUP(W24,'MS10'!$B$1:$C$161,2,0),0) -> 1246.1159 | Y24: =IFERROR(VLOOKUP($B24,'MS11'!$A$1:$B$160,2,0),"0") -> 0 | Z24: =IFERROR(VLOOKUP(Y24,'MS11'!$B$1:$C$161,2,0),0) -> 0 | AA24: =IFERROR(VLOOKUP($B24,'MS12'!$A$1:$B$160,2,0),"0") -> 0 | AB24: =IFERROR(VLOOKUP(AA24,'MS12'!$B$1:$C$161,2,0),0) -> 0 | AC24: =IFERROR(VLOOKUP($B24,'MS13'!$A$1:$B$160,2,0),"0") -> 0 | AD24: =IFERROR(VLOOKUP(AC24,'MS13'!$B$1:$C$161,2,0),0) -> 0 | AE24: =IFERROR(__xludf.DUMMYFUNCTION("""COMPUTED_VALUE"""),"Patgaret") -> Patgaret | AF24: =SUM(AG24:AR24)-small((AG24:AR24),1)-small((AG24:AR24),2) -> 5348.9743 | AG24: =IFERROR(VLOOKUP($AE24,'MS1'!$A$1:$C$161,3,0),0) -> 709.46726 | AH24: =IFERROR(VLOOKUP($AE24,'MS2'!$A$1:$C$161,3,0),0) -> 262.38363 | AI24: =IFERROR(VLOOKUP($AE24,'MS3'!$A$1:$C$161,3,0),0) -> 118.77599 | AJ24: =IFERROR(VLOOKUP($AE24,'MS4'!$A$1:$C$161,3,0),0) -> 0 | AK24: =IFERROR(VLOOKUP($AE24,'MS5'!$A$1:$C$161,3,0),0) -> 25.602484 | AL24: =IFERROR(VLOOKUP($AE24,'MS6'!$A$1:$C$161,3,0),0) -> 725.17923 | AM24: =IFERROR(VLOOKUP($AE24,'MS7'!$A$1:$C$161,3,0),0) -> 528.15641 | AN24: =IFERROR(VLOOKUP($AE24,'MS8'!$A$1:$C$161,3,0),0) -> 385.33297 | AO24: =IFERROR(VLOOKUP($AE24,'MS9'!$A$1:$C$161,3,0),0) -> 863.71815 | AP24: =IFERROR(VLOOKUP($AE24,'MS10'!$A$1:$C$161,3,0),0) -> 155.4237 | AQ24: =IFERROR(VLOOKUP($AE24,'MS11'!$A$1:$C$161,3,0),0) -> 485.17021 | AR24: =IFERROR(VLOOKUP($AE24,'MS12'!$A$1:$C$161,3,0),0) -> 1115.3668 | AS24: =IFERROR(VLOOKUP($AE24,'MS13'!$A$1:$C$161,3,0),0) -> 0
A25: =ROW()-1 -> 24 | B25: --WondeR-- | C25: 6182.6092 | E25: =IFERROR(VLOOKUP($B25,'MS1'!$A$1:$B$160,2,0),"0") -> 0 | F25: =IFERROR(VLOOKUP(E25,'MS1'!$B$1:$C$161,2,0),0) -> 0 | G25: =IFERROR(VLOOKUP($B25,'MS2'!$A$1:$B$160,2,0),"0") -> 0 | H25: =IFERROR(VLOOKUP(G25,'MS2'!$B$1:$C$161,2,0),0) -> 0 | I25: =IFERROR(VLOOKUP($B25,'MS3'!$A$1:$B$161,2,0),0) -> 63 | J25: =IFERROR(VLOOKUP(I25,'MS3'!$B$1:$C$161,2,0),0) -> 152.9378 | K25: =IFERROR(VLOOKUP($B25,'MS4'!$A$1:$B$160,2,0),"0") -> 4 | L25: =IFERROR(VLOOKUP(K25,'MS4'!$B$1:$C$161,2,0),0) -> 1521.8065 | M25: =IFERROR(VLOOKUP($B25,'MS5'!$A$1:$B$160,2,0),"0") -> 0 | N25: =IFERROR(VLOOKUP(M25,'MS5'!$B$1:$C$161,2,0),0) -> 0 | O25: =IFERROR(VLOOKUP($B25,'MS6'!$A$1:$B$160,2,0),"0") -> 2 | P25: =IFERROR(VLOOKUP(O25,'MS6'!$B$1:$C$161,2,0),0) -> 1882.6538 | Q25: =IFERROR(VLOOKUP($B25,'MS7'!$A$1:$B$160,2,0),"0") -> 0 | R25: =IFERROR(VLOOKUP(Q25,'MS7'!$B$1:$C$161,2,0),0) -> 0 | S25: =IFERROR(VLOOKUP($B25,'MS8'!$A$1:$B$160,2,0),"0") -> 0 | T25: =IFERROR(VLOOKUP(S25,'MS8'!$B$1:$C$161,2,0),0) -> 0 | U25: =IFERROR(VLOOKUP($B25,'MS9'!$A$1:$B$160,2,0),"0") -> 0 | V25: =IFERROR(VLOOKUP(U25,'MS9'!$B$1:$C$161,2,0),0) -> 0 | W25: =IFERROR(VLOOKUP($B25,'MS10'!$A$1:$B$160,2,0),"0") -> 47 | X25: =IFERROR(VLOOKUP(W25,'MS10'!$B$1:$C$161,2,0),0) -> 240.24425 | Y25: =IFERROR(VLOOKUP($B25,'MS11'!$A$1:$B$160,2,0),"0") -> 19 | Z25: =IFERROR(VLOOKUP(Y25,'MS11'!$B$1:$C$161,2,0),0) -> 753.96095 | AA25: =IFERROR(VLOOKUP($B25,'MS12'!$A$1:$B$160,2,0),"0") -> 2 | AB25: =IFERROR(VLOOKUP(AA25,'MS12'!$B$1:$C$161,2,0),0) -> 1631.0058 | AC25: =IFERROR(VLOOKUP($B25,'MS13'!$A$1:$B$160,2,0),"0") -> 0 | AD25: =IFERROR(VLOOKUP(AC25,'MS13'!$B$1:$C$161,2,0),0) -> 0 | AE25: =IFERROR(__xludf.DUMMYFUNCTION("""COMPUTED_VALUE"""),"Foldzilla") -> Foldzilla | AF25: =SUM(AG25:AR25)-small((AG25:AR25),1)-small((AG25:AR25),2) -> 7468.504 | AG25: =IFERROR(VLOOKUP($AE25,'MS1'!$A$1:$C$161,3,0),0) -> 687.02332 | AH25: =IFERROR(VLOOKUP($AE25,'MS2'!$A$1:$C$161,3,0),0) -> 623.58258 | AI25: =IFERROR(VLOOKUP($AE25,'MS3'!$A$1:$C$161,3,0),0) -> 1037.3279 | AJ25: =IFERROR(VLOOKUP($AE25,'MS4'!$A$1:$C$161,3,0),0) -> 98.607709 | AK25: =IFERROR(VLOOKUP($AE25,'MS5'!$A$1:$C$161,3,0),0) -> 701.90614 | AL25: =IFERROR(VLOOKUP($AE25,'MS6'!$A$1:$C$161,3,0),0) -> 1157.5607 | AM25: =IFERROR(VLOOKUP($AE25,'MS7'!$A$1:$C$161,3,0),0) -> 492.83237 | AN25: =IFERROR(VLOOKUP($AE25,'MS8'!$A$1:$C$161,3,0),0) -> 749.27214 | AO25: =IFERROR(VLOOKUP($AE25,'MS9'!$A$1:$C$161,3,0),0) -> 406.23712 | AP25: =IFERROR(VLOOKUP($AE25,'MS10'!$A$1:$C$161,3,0),0) -> 647.34532 | AQ25: =IFERROR(VLOOKUP($AE25,'MS11'!$A$1:$C$161,3,0),0) -> 447.79305 | AR25: =IFERROR(VLOOKUP($AE25,'MS12'!$A$1:$C$161,3,0),0) -> 923.86036 | AS25: =IFERROR(VLOOKUP($AE25,'MS13'!$A$1:$C$161,3,0),0) -> 0
A26: =ROW()-1 -> 25 | B26: FisherPrice. | C26: 6173.2741 | E26: =IFERROR(VLOOKUP($B26,'MS1'!$A$1:$B$160,2,0),"0") -> 0 | F26: =IFERROR(VLOOKUP(E26,'MS1'!$B$1:$C$161,2,0),0) -> 0 | G26: =IFERROR(VLOOKUP($B26,'MS2'!$A$1:$B$160,2,0),"0") -> 40 | H26: =IFERROR(VLOOKUP(G26,'MS2'!$B$1:$C$161,2,0),0) -> 394.34171 | I26: =IFERROR(VLOOKUP($B26,'MS3'!$A$1:$B$161,2,0),0) -> 61 | J26: =IFERROR(VLOOKUP(I26,'MS3'!$B$1:$C$161,2,0),0) -> 176.20145 | K26: =IFERROR(VLOOKUP($B26,'MS4'!$A$1:$B$160,2,0),"0") -> 23 | L26: =IFERROR(VLOOKUP(K26,'MS4'!$B$1:$C$161,2,0),0) -> 686.36417 | M26: =IFERROR(VLOOKUP($B26,'MS5'!$A$1:$B$160,2,0),"0") -> 29 | N26: =IFERROR(VLOOKUP(M26,'MS5'!$B$1:$C$161,2,0),0) -> 524.16014 | O26: =IFERROR(VLOOKUP($B26,'MS6'!$A$1:$B$160,2,0),"0") -> 35 | P26: =IFERROR(VLOOKUP(O26,'MS6'!$B$1:$C$161,2,0),0) -> 467.1056 | Q26: =IFERROR(VLOOKUP($B26,'MS7'!$A$1:$B$160,2,0),"0") -> 0 | R26: =IFERROR(VLOOKUP(Q26,'MS7'!$B$1:$C$161,2,0),0) -> 0 | S26: =IFERROR(VLOOKUP($B26,'MS8'!$A$1:$B$160,2,0),"0") -> 61 | T26: =IFERROR(VLOOKUP(S26,'MS8'!$B$1:$C$161,2,0),0) -> 95.655665 | U26: =IFERROR(VLOOKUP($B26,'MS9'!$A$1:$B$160,2,0),"0") -> 2 | V26: =IFERROR(VLOOKUP(U26,'MS9'!$B$1:$C$161,2,0),0) -> 1859.3216 | W26: =IFERROR(VLOOKUP($B26,'MS10'!$A$1:$B$160,2,0),"0") -> 2 | X26: =IFERROR(VLOOKUP(W26,'MS10'!$B$1:$C$161,2,0),0) -> 1851.3478 | Y26: =IFERROR(VLOOKUP($B26,'MS11'!$A$1:$B$160,2,0),"0") -> 54 | Z26: =IFERROR(VLOOKUP(Y26,'MS11'!$B$1:$C$161,2,0),0) -> 118.77599 | AA26: =IFERROR(VLOOKUP($B26,'MS12'!$A$1:$B$160,2,0),"0") -> 0 | AB26: =IFERROR(VLOOKUP(AA26,'MS12'!$B$1:$C$161,2,0),0) -> 0 | AC26: =IFERROR(VLOOKUP($B26,'MS13'!$A$1:$B$160,2,0),"0") -> 0 | AD26: =IFERROR(VLOOKUP(AC26,'MS13'!$B$1:$C$161,2,0),0) -> 0 | AE26: =IFERROR(__xludf.DUMMYFUNCTION("""COMPUTED_VALUE"""),"cataleya86") -> cataleya86 | AF26: =SUM(AG26:AR26)-small((AG26:AR26),1)-small((AG26:AR26),2) -> 3832.9409 | AG26: =IFERROR(VLOOKUP($AE26,'MS1'!$A$1:$C$161,3,0),0) -> 665.26392 | AH26: =IFERROR(VLOOKUP($AE26,'MS2'!$A$1:$C$161,3,0),0) -> 131.20372 | AI26: =IFERROR(VLOOKUP($AE26,'MS3'!$A$1:$C$161,3,0),0) -> 675.07342 | AJ26: =IFERROR(VLOOKUP($AE26,'MS4'!$A$1:$C$161,3,0),0) -> 124.32692 | AK26: =IFERROR(VLOOKUP($AE26,'MS5'!$A$1:$C$161,3,0),0) -> 840.72205 | AL26: =IFERROR(VLOOKUP($AE26,'MS6'!$A$1:$C$161,3,0),0) -> 985.49712 | AM26: =IFERROR(VLOOKUP($AE26,'MS7'!$A$1:$C$161,3,0),0) -> 195.11381 | AN26: =IFERROR(VLOOKUP($AE26,'MS8'!$A$1:$C$161,3,0),0) -> 11.636596 | AO26: =IFERROR(VLOOKUP($AE26,'MS9'!$A$1:$C$161,3,0),0) -> 61.811542 | AP26: =IFERROR(VLOOKUP($AE26,'MS10'!$A$1:$C$161,3,0),0) -> 128.32589 | AQ26: =IFERROR(VLOOKUP($AE26,'MS11'!$A$1:$C$161,3,0),0) -> 25.602484 | AR26: =IFERROR(VLOOKUP($AE26,'MS12'!$A$1:$C$161,3,0),0) -> 0 | AS26: =IFERROR(VLOOKUP($AE26,'MS13'!$A$1:$C$161,3,0),0) -> 0
A27: =ROW()-1 -> 26 | B27: shokooo | C27: 5920.7359 | E27: =IFERROR(VLOOKUP($B27,'MS1'!$A$1:$B$160,2,0),"0") -> 16 | F27: =IFERROR(VLOOKUP(E27,'MS1'!$B$1:$C$161,2,0),0) -> 892.5452 | G27: =IFERROR(VLOOKUP($B27,'MS2'!$A$1:$B$160,2,0),"0") -> 0 | H27: =IFERROR(VLOOKUP(G27,'MS2'!$B$1:$C$161,2,0),0) -> 0 | I27: =IFERROR(VLOOKUP($B27,'MS3'!$A$1:$B$161,2,0),0) -> 0 | J27: =IFERROR(VLOOKUP(I27,'MS3'!$B$1:$C$161,2,0),0) -> 0 | K27: =IFERROR(VLOOKUP($B27,'MS4'!$A$1:$B$160,2,0),"0") -> 15 | L27: =IFERROR(VLOOKUP(K27,'MS4'!$B$1:$C$161,2,0),0) -> 902.63966 | M27: =IFERROR(VLOOKUP($B27,'MS5'!$A$1:$B$160,2,0),"0") -> 18 | N27: =IFERROR(VLOOKUP(M27,'MS5'!$B$1:$C$161,2,0),0) -> 781.58994 | O27: =IFERROR(VLOOKUP($B27,'MS6'!$A$1:$B$160,2,0),"0") -> 0 | P27: =IFERROR(VLOOKUP(O27,'MS6'!$B$1:$C$161,2,0),0) -> 0 | Q27: =IFERROR(VLOOKUP($B27,'MS7'!$A$1:$B$160,2,0),"0") -> 2 | R27: =IFERROR(VLOOKUP(Q27,'MS7'!$B$1:$C$161,2,0),0) -> 1890.244 | S27: =IFERROR(VLOOKUP($B27,'MS8'!$A$1:$B$160,2,0),"0") -> 19 | T27: =IFERROR(VLOOKUP(S27,'MS8'!$B$1:$C$161,2,0),0) -> 800.26675 | U27: =IFERROR(VLOOKUP($B27,'MS9'!$A$1:$B$160,2,0),"0") -> 0 | V27: =IFERROR(VLOOKUP(U27,'MS9'!$B$1:$C$161,2,0),0) -> 0 | W27: =IFERROR(VLOOKUP($B27,'MS10'!$A$1:$B$160,2,0),"0") -> 0 | X27: =IFERROR(VLOOKUP(W27,'MS10'!$B$1:$C$161,2,0),0) -> 0 | Y27: =IFERROR(VLOOKUP($B27,'MS11'!$A$1:$B$160,2,0),"0") -> 23 | Z27: =IFERROR(VLOOKUP(Y27,'MS11'!$B$1:$C$161,2,0),0) -> 653.45037 | AA27: =IFERROR(VLOOKUP($B27,'MS12'!$A$1:$B$160,2,0),"0") -> 0 | AB27: =IFERROR(VLOOKUP(AA27,'MS12'!$B$1:$C$161,2,0),0) -> 0 | AC27: =IFERROR(VLOOKUP($B27,'MS13'!$A$1:$B$160,2,0),"0") -> 0 | AD27: =IFERROR(VLOOKUP(AC27,'MS13'!$B$1:$C$161,2,0),0) -> 0 | AE27: =IFERROR(__xludf.DUMMYFUNCTION("""COMPUTED_VALUE"""),"elvasco") -> elvasco | AF27: =SUM(AG27:AR27)-small((AG27:AR27),1)-small((AG27:AR27),2) -> 4672.7347 | AG27: =IFERROR(VLOOKUP($AE27,'MS1'!$A$1:$C$161,3,0),0) -> 644.13337 | AH27: =IFERROR(VLOOKUP($AE27,'MS2'!$A$1:$C$161,3,0),0) -> 458.84896 | AI27: =IFERROR(VLOOKUP($AE27,'MS3'!$A$1:$C$161,3,0),0) -> 0 | AJ27: =IFERROR(VLOOKUP($AE27,'MS4'!$A$1:$C$161,3,0),0) -> 0 | AK27: =IFERROR(VLOOKUP($AE27,'MS5'!$A$1:$C$161,3,0),0) -> 0 | AL27: =IFERROR(VLOOKUP($AE27,'MS6'!$A$1:$C$161,3,0),0) -> 369.75601 | AM27: =IFERROR(VLOOKUP($AE27,'MS7'!$A$1:$C$161,3,0),0) -> 319.08276 | AN27: =IFERROR(VLOOKUP($AE27,'MS8'!$A$1:$C$161,3,0),0) -> 1882.6538 | AO27: =IFERROR(VLOOKUP($AE27,'MS9'!$A$1:$C$161,3,0),0) -> 475.68285 | AP27: =IFERROR(VLOOKUP($AE27,'MS10'!$A$1:$C$161,3,0),0) -> 431.0317 | AQ27: =IFERROR(VLOOKUP($AE27,'MS11'!$A$1:$C$161,3,0),0) -> 91.545206 | AR27: =IFERROR(VLOOKUP($AE27,'MS12'!$A$1:$C$161,3,0),0) -> 0 | AS27: =IFERROR(VLOOKUP($AE27,'MS13'!$A$1:$C$161,3,0),0) -> 0
A28: =ROW()-1 -> 27 | B28: kiki86 x | C28: 5726.6178 | E28: =IFERROR(VLOOKUP($B28,'MS1'!$A$1:$B$160,2,0),"0") -> 11 | F28: =IFERROR(VLOOKUP(E28,'MS1'!$B$1:$C$161,2,0),0) -> 1070.9527 | G28: =IFERROR(VLOOKUP($B28,'MS2'!$A$1:$B$160,2,0),"0") -> 44 | H28: =IFERROR(VLOOKUP(G28,'MS2'!$B$1:$C$161,2,0),0) -> 333.7157 | I28: =IFERROR(VLOOKUP($B28,'MS3'!$A$1:$B$161,2,0),0) -> 42 | J28: =IFERROR(VLOOKUP(I28,'MS3'!$B$1:$C$161,2,0),0) -> 423.13375 | K28: =IFERROR(VLOOKUP($B28,'MS4'!$A$1:$B$160,2,0),"0") -> 33 | L28: =IFERROR(VLOOKUP(K28,'MS4'!$B$1:$C$161,2,0),0) -> 484.60101 | M28: =IFERROR(VLOOKUP($B28,'MS5'!$A$1:$B$160,2,0),"0") -> 11 | N28: =IFERROR(VLOOKUP(M28,'MS5'!$B$1:$C$161,2,0),0) -> 1021.5032 | O28: =IFERROR(VLOOKUP($B28,'MS6'!$A$1:$B$160,2,0),"0") -> 58 | P28: =IFERROR(VLOOKUP(O28,'MS6'!$B$1:$C$161,2,0),0) -> 133.19529 | Q28: =IFERROR(VLOOKUP($B28,'MS7'!$A$1:$B$160,2,0),"0") -> 8 | R28: =IFERROR(VLOOKUP(Q28,'MS7'!$B$1:$C$161,2,0),0) -> 1218.6687 | S28: =IFERROR(VLOOKUP($B28,'MS8'!$A$1:$B$160,2,0),"0") -> 30 | T28: =IFERROR(VLOOKUP(S28,'MS8'!$B$1:$C$161,2,0),0) -> 556.84902 | U28: =IFERROR(VLOOKUP($B28,'MS9'!$A$1:$B$160,2,0),"0") -> 45 | V28: =IFERROR(VLOOKUP(U28,'MS9'!$B$1:$C$161,2,0),0) -> 280.12263 | W28: =IFERROR(VLOOKUP($B28,'MS10'!$A$1:$B$160,2,0),"0") -> 0 | X28: =IFERROR(VLOOKUP(W28,'MS10'!$B$1:$C$161,2,0),0) -> 0 | Y28: =IFERROR(VLOOKUP($B28,'MS11'!$A$1:$B$160,2,0),"0") -> 0 | Z28: =IFERROR(VLOOKUP(Y28,'MS11'!$B$1:$C$161,2,0),0) -> 0 | AA28: =IFERROR(VLOOKUP($B28,'MS12'!$A$1:$B$160,2,0),"0") -> 32 | AB28: =IFERROR(VLOOKUP(AA28,'MS12'!$B$1:$C$161,2,0),0) -> 203.87573 | AC28: =IFERROR(VLOOKUP($B28,'MS13'!$A$1:$B$160,2,0),"0") -> 0 | AD28: =IFERROR(VLOOKUP(AC28,'MS13'!$B$1:$C$161,2,0),0) -> 0 | AE28: =IFERROR(__xludf.DUMMYFUNCTION("""COMPUTED_VALUE"""),"..mamat86..") -> ..mamat86.. | AF28: =SUM(AG28:AR28)-small((AG28:AR28),1)-small((AG28:AR28),2) -> 4617.2724 | AG28: =IFERROR(VLOOKUP($AE28,'MS1'!$A$1:$C$161,3,0),0) -> 623.58258 | AH28: =IFERROR(VLOOKUP($AE28,'MS2'!$A$1:$C$161,3,0),0) -> 348.54841 | AI28: =IFERROR(VLOOKUP($AE28,'MS3'!$A$1:$C$161,3,0),0) -> 499.15049 | AJ28: =IFERROR(VLOOKUP($AE28,'MS4'!$A$1:$C$161,3,0),0) -> 759.23154 | AK28: =IFERROR(VLOOKUP($AE28,'MS5'!$A$1:$C$161,3,0),0) -> 942.03869 | AL28: =IFERROR(VLOOKUP($AE28,'MS6'!$A$1:$C$161,3,0),0) -> 225.07804 | AM28: =IFERROR(VLOOKUP($AE28,'MS7'!$A$1:$C$161,3,0),0) -> 0 | AN28: =IFERROR(VLOOKUP($AE28,'MS8'!$A$1:$C$161,3,0),0) -> 657.53798 | AO28: =IFERROR(VLOOKUP($AE28,'MS9'!$A$1:$C$161,3,0),0) -> 0 | AP28: =IFERROR(VLOOKUP($AE28,'MS10'!$A$1:$C$161,3,0),0) -> 562.10466 | AQ28: =IFERROR(VLOOKUP($AE28,'MS11'!$A$1:$C$161,3,0),0) -> 0 | AR28: =IFERROR(VLOOKUP($AE28,'MS12'!$A$1:$C$161,3,0),0) -> 0 | AS28: =IFERROR(VLOOKUP($AE28,'MS13'!$A$1:$C$161,3,0),0) -> 0
A29: =ROW()-1 -> 28 | B29: gregmoore | C29: 5703.6228 | E29: =IFERROR(VLOOKUP($B29,'MS1'!$A$1:$B$160,2,0),"0") -> 33 | F29: =IFERROR(VLOOKUP(E29,'MS1'!$B$1:$C$161,2,0),0) -> 510.3166 | G29: =IFERROR(VLOOKUP($B29,'MS2'!$A$1:$B$160,2,0),"0") -> 29 | H29: =IFERROR(VLOOKUP(G29,'MS2'!$B$1:$C$161,2,0),0) -> 584.05106 | I29: =IFERROR(VLOOKUP($B29,'MS3'!$A$1:$B$161,2,0),0) -> 55 | J29: =IFERROR(VLOOKUP(I29,'MS3'!$B$1:$C$161,2,0),0) -> 248.63024 | K29: =IFERROR(VLOOKUP($B29,'MS4'!$A$1:$B$160,2,0),"0") -> 38 | L29: =IFERROR(VLOOKUP(K29,'MS4'!$B$1:$C$161,2,0),0) -> 399.01202 | M29: =IFERROR(VLOOKUP($B29,'MS5'!$A$1:$B$160,2,0),"0") -> 26 | N29: =IFERROR(VLOOKUP(M29,'MS5'!$B$1:$C$161,2,0),0) -> 586.19615 | O29: =IFERROR(VLOOKUP($B29,'MS6'!$A$1:$B$160,2,0),"0") -> 61 | P29: =IFERROR(VLOOKUP(O29,'MS6'!$B$1:$C$161,2,0),0) -> 95.655665 | Q29: =IFERROR(VLOOKUP($B29,'MS7'!$A$1:$B$160,2,0),"0") -> 3 | R29: =IFERROR(VLOOKUP(Q29,'MS7'!$B$1:$C$161,2,0),0) -> 1682.9102 | S29: =IFERROR(VLOOKUP($B29,'MS8'!$A$1:$B$160,2,0),"0") -> 32 | T29: =IFERROR(VLOOKUP(S29,'MS8'!$B$1:$C$161,2,0),0) -> 519.83725 | U29: =IFERROR(VLOOKUP($B29,'MS9'!$A$1:$B$160,2,0),"0") -> 40 | V29: =IFERROR(VLOOKUP(U29,'MS9'!$B$1:$C$161,2,0),0) -> 357.18268 | W29: =IFERROR(VLOOKUP($B29,'MS10'!$A$1:$B$160,2,0),"0") -> 0 | X29: =IFERROR(VLOOKUP(W29,'MS10'!$B$1:$C$161,2,0),0) -> 0 | Y29: =IFERROR(VLOOKUP($B29,'MS11'!$A$1:$B$160,2,0),"0") -> 41 | Z29: =IFERROR(VLOOKUP(Y29,'MS11'!$B$1:$C$161,2,0),0) -> 311.03645 | AA29: =IFERROR(VLOOKUP($B29,'MS12'!$A$1:$B$160,2,0),"0") -> 20 | AB29: =IFERROR(VLOOKUP(AA29,'MS12'!$B$1:$C$161,2,0),0) -> 504.45009 | AC29: =IFERROR(VLOOKUP($B29,'MS13'!$A$1:$B$160,2,0),"0") -> 0 | AD29: =IFERROR(VLOOKUP(AC29,'MS13'!$B$1:$C$161,2,0),0) -> 0 | AE29: =IFERROR(__xludf.DUMMYFUNCTION("""COMPUTED_VALUE"""),"sonic86") -> sonic86 | AF29: =SUM(AG29:AR29)-small((AG29:AR29),1)-small((AG29:AR29),2) -> 4459.2575 | AG29: =IFERROR(VLOOKUP($AE29,'MS1'!$A$1:$C$161,3,0),0) -> 603.56805 | AH29: =IFERROR(VLOOKUP($AE29,'MS2'!$A$1:$C$161,3,0),0) -> 1351.7881 | AI29: =IFERROR(VLOOKUP($AE29,'MS3'!$A$1:$C$161,3,0),0) -> 52.82735 | AJ29: =IFERROR(VLOOKUP($AE29,'MS4'!$A$1:$C$161,3,0),0) -> 559.39423 | AK29: =IFERROR(VLOOKUP($AE29,'MS5'!$A$1:$C$161,3,0),0) -> 544.33105 | AL29: =IFERROR(VLOOKUP($AE29,'MS6'!$A$1:$C$161,3,0),0) -> 433.5635 | AM29: =IFERROR(VLOOKUP($AE29,'MS7'!$A$1:$C$161,3,0),0) -> 131.20372 | AN29: =IFERROR(VLOOKUP($AE29,'MS8'!$A$1:$C$161,3,0),0) -> 47.074403 | AO29: =IFERROR(VLOOKUP($AE29,'MS9'!$A$1:$C$161,3,0),0) -> 152.9378 | AP29: =IFERROR(VLOOKUP($AE29,'MS10'!$A$1:$C$161,3,0),0) -> 582.56934 | AQ29: =IFERROR(VLOOKUP($AE29,'MS11'!$A$1:$C$161,3,0),0) -> 0 | AR29: =IFERROR(VLOOKUP($AE29,'MS12'!$A$1:$C$161,3,0),0) -> 0 | AS29: =IFERROR(VLOOKUP($AE29,'MS13'!$A$1:$C$161,3,0),0) -> 0
A30: =ROW()-1 -> 29 | B30: StephBoss05 | C30: 5611.2993 | E30: =IFERROR(VLOOKUP($B30,'MS1'!$A$1:$B$160,2,0),"0") -> 15 | F30: =IFERROR(VLOOKUP(E30,'MS1'!$B$1:$C$161,2,0),0) -> 923.86036 | G30: =IFERROR(VLOOKUP($B30,'MS2'!$A$1:$B$160,2,0),"0") -> 1 | H30: =IFERROR(VLOOKUP(G30,'MS2'!$B$1:$C$161,2,0),0) -> 2280.9489 | I30: =IFERROR(VLOOKUP($B30,'MS3'!$A$1:$B$161,2,0),0) -> 54 | J30: =IFERROR(VLOOKUP(I30,'MS3'!$B$1:$C$161,2,0),0) -> 261.12674 | K30: =IFERROR(VLOOKUP($B30,'MS4'!$A$1:$B$160,2,0),"0") -> 66 | L30: =IFERROR(VLOOKUP(K30,'MS4'!$B$1:$C$161,2,0),0) -> 11.985272 | M30: =IFERROR(VLOOKUP($B30,'MS5'!$A$1:$B$160,2,0),"0") -> 0 | N30: =IFERROR(VLOOKUP(M30,'MS5'!$B$1:$C$161,2,0),0) -> 0 | O30: =IFERROR(VLOOKUP($B30,'MS6'!$A$1:$B$160,2,0),"0") -> 0 | P30: =IFERROR(VLOOKUP(O30,'MS6'!$B$1:$C$161,2,0),0) -> 0 | Q30: =IFERROR(VLOOKUP($B30,'MS7'!$A$1:$B$160,2,0),"0") -> 6 | R30: =IFERROR(VLOOKUP(Q30,'MS7'!$B$1:$C$161,2,0),0) -> 1351.7881 | S30: =IFERROR(VLOOKUP($B30,'MS8'!$A$1:$B$160,2,0),"0") -> 0 | T30: =IFERROR(VLOOKUP(S30,'MS8'!$B$1:$C$161,2,0),0) -> 0 | U30: =IFERROR(VLOOKUP($B30,'MS9'!$A$1:$B$160,2,0),"0") -> 0 | V30: =IFERROR(VLOOKUP(U30,'MS9'!$B$1:$C$161,2,0),0) -> 0 | W30: =IFERROR(VLOOKUP($B30,'MS10'!$A$1:$B$160,2,0),"0") -> 0 | X30: =IFERROR(VLOOKUP(W30,'MS10'!$B$1:$C$161,2,0),0) -> 0 | Y30: =IFERROR(VLOOKUP($B30,'MS11'!$A$1:$B$160,2,0),"0") -> 18 | Z30: =IFERROR(VLOOKUP(Y30,'MS11'!$B$1:$C$161,2,0),0) -> 781.58994 | AA30: =IFERROR(VLOOKUP($B30,'MS12'!$A$1:$B$160,2,0),"0") -> 0 | AB30: =IFERROR(VLOOKUP(AA30,'MS12'!$B$1:$C$161,2,0),0) -> 0 | AC30: =IFERROR(VLOOKUP($B30,'MS13'!$A$1:$B$160,2,0),"0") -> 0 | AD30: =IFERROR(VLOOKUP(AC30,'MS13'!$B$1:$C$161,2,0),0) -> 0 | AE30: =IFERROR(__xludf.DUMMYFUNCTION("""COMPUTED_VALUE"""),"alexinzaghi") -> alexinzaghi | AF30: =SUM(AG30:AR30)-small((AG30:AR30),1)-small((AG30:AR30),2) -> 9284.116 | AG30: =IFERROR(VLOOKUP($AE30,'MS1'!$A$1:$C$161,3,0),0) -> 584.05106 | AH30: =IFERROR(VLOOKUP($AE30,'MS2'!$A$1:$C$161,3,0),0) -> 1436.9356 | AI30: =IFERROR(VLOOKUP($AE30,'MS3'!$A$1:$C$161,3,0),0) -> 211.89394 | AJ30: =IFERROR(VLOOKUP($AE30,'MS4'!$A$1:$C$161,3,0),0) -> 351.00336 | AK30: =IFERROR(VLOOKUP($AE30,'MS5'!$A$1:$C$161,3,0),0) -> 1387.6185 | AL30: =IFERROR(VLOOKUP($AE30,'MS6'!$A$1:$C$161,3,0),0) -> 749.27214 | AM30: =IFERROR(VLOOKUP($AE30,'MS7'!$A$1:$C$161,3,0),0) -> 1436.9356 | AN30: =IFERROR(VLOOKUP($AE30,'MS8'!$A$1:$C$161,3,0),0) -> 679.38018 | AO30: =IFERROR(VLOOKUP($AE30,'MS9'!$A$1:$C$161,3,0),0) -> 1253.1687 | AP30: =IFERROR(VLOOKUP($AE30,'MS10'!$A$1:$C$161,3,0),0) -> 797.41555 | AQ30: =IFERROR(VLOOKUP($AE30,'MS11'!$A$1:$C$161,3,0),0) -> 564.99699 | AR30: =IFERROR(VLOOKUP($AE30,'MS12'!$A$1:$C$161,3,0),0) -> 394.34171 | AS30: =IFERROR(VLOOKUP($AE30,'MS13'!$A$1:$C$161,3,0),0) -> 0
A31: =ROW()-1 -> 30 | B31: S.coco | C31: 5588.1747 | E31: =IFERROR(VLOOKUP($B31,'MS1'!$A$1:$B$160,2,0),"0") -> 62 | F31: =IFERROR(VLOOKUP(E31,'MS1'!$B$1:$C$161,2,0),0) -> 94.245044 | G31: =IFERROR(VLOOKUP($B31,'MS2'!$A$1:$B$160,2,0),"0") -> 0 | H31: =IFERROR(VLOOKUP(G31,'MS2'!$B$1:$C$161,2,0),0) -> 0 | I31: =IFERROR(VLOOKUP($B31,'MS3'!$A$1:$B$161,2,0),0) -> 73 | J31: =IFERROR(VLOOKUP(I31,'MS3'!$B$1:$C$161,2,0),0) -> 42.116398 | K31: =IFERROR(VLOOKUP($B31,'MS4'!$A$1:$B$160,2,0),"0") -> 26 | L31: =IFERROR(VLOOKUP(K31,'MS4'!$B$1:$C$161,2,0),0) -> 620.2609 | M31: =IFERROR(VLOOKUP($B31,'MS5'!$A$1:$B$160,2,0),"0") -> 39 | N31: =IFERROR(VLOOKUP(M31,'MS5'!$B$1:$C$161,2,0),0) -> 343.58142 | O31: =IFERROR(VLOOKUP($B31,'MS6'!$A$1:$B$160,2,0),"0") -> 32 | P31: =IFERROR(VLOOKUP(O31,'MS6'!$B$1:$C$161,2,0),0) -> 519.83725 | Q31: =IFERROR(VLOOKUP($B31,'MS7'!$A$1:$B$160,2,0),"0") -> 0 | R31: =IFERROR(VLOOKUP(Q31,'MS7'!$B$1:$C$161,2,0),0) -> 0 | S31: =IFERROR(VLOOKUP($B31,'MS8'!$A$1:$B$160,2,0),"0") -> 14 | T31: =IFERROR(VLOOKUP(S31,'MS8'!$B$1:$C$161,2,0),0) -> 950.13179 | U31: =IFERROR(VLOOKUP($B31,'MS9'!$A$1:$B$160,2,0),"0") -> 14 | V31: =IFERROR(VLOOKUP(U31,'MS9'!$B$1:$C$161,2,0),0) -> 928.75972 | W31: =IFERROR(VLOOKUP($B31,'MS10'!$A$1:$B$160,2,0),"0") -> 15 | X31: =IFERROR(VLOOKUP(W31,'MS10'!$B$1:$C$161,2,0),0) -> 887.87568 | Y31: =IFERROR(VLOOKUP($B31,'MS11'!$A$1:$B$160,2,0),"0") -> 14 | Z31: =IFERROR(VLOOKUP(Y31,'MS11'!$B$1:$C$161,2,0),0) -> 906.25131 | AA31: =IFERROR(VLOOKUP($B31,'MS12'!$A$1:$B$160,2,0),"0") -> 28 | AB31: =IFERROR(VLOOKUP(AA31,'MS12'!$B$1:$C$161,2,0),0) -> 295.11518 | AC31: =IFERROR(VLOOKUP($B31,'MS13'!$A$1:$B$160,2,0),"0") -> 0 | AD31: =IFERROR(VLOOKUP(AC31,'MS13'!$B$1:$C$161,2,0),0) -> 0 | AE31: =IFERROR(__xludf.DUMMYFUNCTION("""COMPUTED_VALUE"""),"fiodor86") -> fiodor86 | AF31: =SUM(AG31:AR31)-small((AG31:AR31),1)-small((AG31:AR31),2) -> 4944.991 | AG31: =IFERROR(VLOOKUP($AE31,'MS1'!$A$1:$C$161,3,0),0) -> 564.99699 | AH31: =IFERROR(VLOOKUP($AE31,'MS2'!$A$1:$C$161,3,0),0) -> 0 | AI31: =IFERROR(VLOOKUP($AE31,'MS3'!$A$1:$C$161,3,0),0) -> 224.01816 | AJ31: =IFERROR(VLOOKUP($AE31,'MS4'!$A$1:$C$161,3,0),0) -> 2254.6432 | AK31: =IFERROR(VLOOKUP($AE31,'MS5'!$A$1:$C$161,3,0),0) -> 174.89823 | AL31: =IFERROR(VLOOKUP($AE31,'MS6'!$A$1:$C$161,3,0),0) -> 198.15461 | AM31: =IFERROR(VLOOKUP($AE31,'MS7'!$A$1:$C$161,3,0),0) -> 363.5902 | AN31: =IFERROR(VLOOKUP($AE31,'MS8'!$A$1:$C$161,3,0),0) -> 158.79964 | AO31: =IFERROR(VLOOKUP($AE31,'MS9'!$A$1:$C$161,3,0),0) -> 265.32158 | AP31: =IFERROR(VLOOKUP($AE31,'MS10'!$A$1:$C$161,3,0),0) -> 0 | AQ31: =IFERROR(VLOOKUP($AE31,'MS11'!$A$1:$C$161,3,0),0) -> 0 | AR31: =IFERROR(VLOOKUP($AE31,'MS12'!$A$1:$C$161,3,0),0) -> 740.5684 | AS31: =IFERROR(VLOOKUP($AE31,'MS13'!$A$1:$C$161,3,0),0) -> 0
A32: =ROW()-1 -> 31 | B32: Legabodu86 | C32: 5576.9766 | E32: =IFERROR(VLOOKUP($B32,'MS1'!$A$1:$B$160,2,0),"0") -> 13 | F32: =IFERROR(VLOOKUP(E32,'MS1'!$B$1:$C$161,2,0),0) -> 992.32852 | G32: =IFERROR(VLOOKUP($B32,'MS2'!$A$1:$B$160,2,0),"0") -> 7 | H32: =IFERROR(VLOOKUP(G32,'MS2'!$B$1:$C$161,2,0),0) -> 1280.3612 | I32: =IFERROR(VLOOKUP($B32,'MS3'!$A$1:$B$161,2,0),0) -> 12 | J32: =IFERROR(VLOOKUP(I32,'MS3'!$B$1:$C$161,2,0),0) -> 1074.8305 | K32: =IFERROR(VLOOKUP($B32,'MS4'!$A$1:$B$160,2,0),"0") -> 32 | L32: =IFERROR(VLOOKUP(K32,'MS4'!$B$1:$C$161,2,0),0) -> 502.70642 | M32: =IFERROR(VLOOKUP($B32,'MS5'!$A$1:$B$160,2,0),"0") -> 0 | N32: =IFERROR(VLOOKUP(M32,'MS5'!$B$1:$C$161,2,0),0) -> 0 | O32: =IFERROR(VLOOKUP($B32,'MS6'!$A$1:$B$160,2,0),"0") -> 47 | P32: =IFERROR(VLOOKUP(O32,'MS6'!$B$1:$C$161,2,0),0) -> 280.77044 | Q32: =IFERROR(VLOOKUP($B32,'MS7'!$A$1:$B$160,2,0),"0") -> 43 | R32: =IFERROR(VLOOKUP(Q32,'MS7'!$B$1:$C$161,2,0),0) -> 348.54841 | S32: =IFERROR(VLOOKUP($B32,'MS8'!$A$1:$B$160,2,0),"0") -> 57 | T32: =IFERROR(VLOOKUP(S32,'MS8'!$B$1:$C$161,2,0),0) -> 145.9371 | U32: =IFERROR(VLOOKUP($B32,'MS9'!$A$1:$B$160,2,0),"0") -> 29 | V32: =IFERROR(VLOOKUP(U32,'MS9'!$B$1:$C$161,2,0),0) -> 550.85115 | W32: =IFERROR(VLOOKUP($B32,'MS10'!$A$1:$B$160,2,0),"0") -> 49 | X32: =IFERROR(VLOOKUP(W32,'MS10'!$B$1:$C$161,2,0),0) -> 211.33719 | Y32: =IFERROR(VLOOKUP($B32,'MS11'!$A$1:$B$160,2,0),"0") -> 49 | Z32: =IFERROR(VLOOKUP(Y32,'MS11'!$B$1:$C$161,2,0),0) -> 189.30566 | AA32: =IFERROR(VLOOKUP($B32,'MS12'!$A$1:$B$160,2,0),"0") -> 40 | AB32: =IFERROR(VLOOKUP(AA32,'MS12'!$B$1:$C$161,2,0),0) -> 38.562752 | AC32: =IFERROR(VLOOKUP($B32,'MS13'!$A$1:$B$160,2,0),"0") -> 0 | AD32: =IFERROR(VLOOKUP(AC32,'MS13'!$B$1:$C$161,2,0),0) -> 0 | AE32: =IFERROR(__xludf.DUMMYFUNCTION("""COMPUTED_VALUE"""),"_Macash_") -> _Macash_ | AF32: =SUM(AG32:AR32)-small((AG32:AR32),1)-small((AG32:AR32),2) -> 4878.6899 | AG32: =IFERROR(VLOOKUP($AE32,'MS1'!$A$1:$C$161,3,0),0) -> 546.37477 | AH32: =IFERROR(VLOOKUP($AE32,'MS2'!$A$1:$C$161,3,0),0) -> 687.02332 | AI32: =IFERROR(VLOOKUP($AE32,'MS3'!$A$1:$C$161,3,0),0) -> 325.7099 | AJ32: =IFERROR(VLOOKUP($AE32,'MS4'!$A$1:$C$161,3,0),0) -> 936.00409 | AK32: =IFERROR(VLOOKUP($AE32,'MS5'!$A$1:$C$161,3,0),0) -> 0 | AL32: =IFERROR(VLOOKUP($AE32,'MS6'!$A$1:$C$161,3,0),0) -> 450.18548 | AM32: =IFERROR(VLOOKUP($AE32,'MS7'!$A$1:$C$161,3,0),0) -> 0 | AN32: =IFERROR(VLOOKUP($AE32,'MS8'!$A$1:$C$161,3,0),0) -> 0 | AO32: =IFERROR(VLOOKUP($AE32,'MS9'!$A$1:$C$161,3,0),0) -> 0 | AP32: =IFERROR(VLOOKUP($AE32,'MS10'!$A$1:$C$161,3,0),0) -> 0 | AQ32: =IFERROR(VLOOKUP($AE32,'MS11'!$A$1:$C$161,3,0),0) -> 1835.0881 | AR32: =IFERROR(VLOOKUP($AE32,'MS12'!$A$1:$C$161,3,0),0) -> 98.304318 | AS32: =IFERROR(VLOOKUP($AE32,'MS13'!$A$1:$C$161,3,0),0) -> 0
A33: =ROW()-1 -> 32 | B33: POMB1664 | C33: 5560.2121 | E33: =IFERROR(VLOOKUP($B33,'MS1'!$A$1:$B$160,2,0),"0") -> 4 | F33: =IFERROR(VLOOKUP(E33,'MS1'!$B$1:$C$161,2,0),0) -> 1542.7494 | G33: =IFERROR(VLOOKUP($B33,'MS2'!$A$1:$B$160,2,0),"0") -> 42 | H33: =IFERROR(VLOOKUP(G33,'MS2'!$B$1:$C$161,2,0),0) -> 363.5902 | I33: =IFERROR(VLOOKUP($B33,'MS3'!$A$1:$B$161,2,0),0) -> 32 | J33: =IFERROR(VLOOKUP(I33,'MS3'!$B$1:$C$161,2,0),0) -> 582.30023 | K33: =IFERROR(VLOOKUP($B33,'MS4'!$A$1:$B$160,2,0),"0") -> 0 | L33: =IFERROR(VLOOKUP(K33,'MS4'!$B$1:$C$161,2,0),0) -> 0 | M33: =IFERROR(VLOOKUP($B33,'MS5'!$A$1:$B$160,2,0),"0") -> 36 | N33: =IFERROR(VLOOKUP(M33,'MS5'!$B$1:$C$161,2,0),0) -> 394.34171 | O33: =IFERROR(VLOOKUP($B33,'MS6'!$A$1:$B$160,2,0),"0") -> 0 | P33: =IFERROR(VLOOKUP(O33,'MS6'!$B$1:$C$161,2,0),0) -> 0 | Q33: =IFERROR(VLOOKUP($B33,'MS7'!$A$1:$B$160,2,0),"0") -> 63 | R33: =IFERROR(VLOOKUP(Q33,'MS7'!$B$1:$C$161,2,0),0) -> 82.135208 | S33: =IFERROR(VLOOKUP($B33,'MS8'!$A$1:$B$160,2,0),"0") -> 13 | T33: =IFERROR(VLOOKUP(S33,'MS8'!$B$1:$C$161,2,0),0) -> 985.49712 | U33: =IFERROR(VLOOKUP($B33,'MS9'!$A$1:$B$160,2,0),"0") -> 38 | V33: =IFERROR(VLOOKUP(U33,'MS9'!$B$1:$C$161,2,0),0) -> 389.62262 | W33: =IFERROR(VLOOKUP($B33,'MS10'!$A$1:$B$160,2,0),"0") -> 40 | X33: =IFERROR(VLOOKUP(W33,'MS10'!$B$1:$C$161,2,0),0) -> 347.40013 | Y33: =IFERROR(VLOOKUP($B33,'MS11'!$A$1:$B$160,2,0),"0") -> 15 | Z33: =IFERROR(VLOOKUP(Y33,'MS11'!$B$1:$C$161,2,0),0) -> 872.57547 | AA33: =IFERROR(VLOOKUP($B33,'MS12'!$A$1:$B$160,2,0),"0") -> 0 | AB33: =IFERROR(VLOOKUP(AA33,'MS12'!$B$1:$C$161,2,0),0) -> 0 | AC33: =IFERROR(VLOOKUP($B33,'MS13'!$A$1:$B$160,2,0),"0") -> 0 | AD33: =IFERROR(VLOOKUP(AC33,'MS13'!$B$1:$C$161,2,0),0) -> 0 | AE33: =IFERROR(__xludf.DUMMYFUNCTION("""COMPUTED_VALUE"""),"Scherkan86") -> Scherkan86 | AF33: =SUM(AG33:AR33)-small((AG33:AR33),1)-small((AG33:AR33),2) -> 7435.0964 | AG33: =IFERROR(VLOOKUP($AE33,'MS1'!$A$1:$C$161,3,0),0) -> 528.15641 | AH33: =IFERROR(VLOOKUP($AE33,'MS2'!$A$1:$C$161,3,0),0) -> 1890.244 | AI33: =IFERROR(VLOOKUP($AE33,'MS3'!$A$1:$C$161,3,0),0) -> 618.07259 | AJ33: =IFERROR(VLOOKUP($AE33,'MS4'!$A$1:$C$161,3,0),0) -> 232.41137 | AK33: =IFERROR(VLOOKUP($AE33,'MS5'!$A$1:$C$161,3,0),0) -> 189.30566 | AL33: =IFERROR(VLOOKUP($AE33,'MS6'!$A$1:$C$161,3,0),0) -> 0 | AM33: =IFERROR(VLOOKUP($AE33,'MS7'!$A$1:$C$161,3,0),0) -> 0 | AN33: =IFERROR(VLOOKUP($AE33,'MS8'!$A$1:$C$161,3,0),0) -> 0 | AO33: =IFERROR(VLOOKUP($AE33,'MS9'!$A$1:$C$161,3,0),0) -> 1136.9628 | AP33: =IFERROR(VLOOKUP($AE33,'MS10'!$A$1:$C$161,3,0),0) -> 1402.2121 | AQ33: =IFERROR(VLOOKUP($AE33,'MS11'!$A$1:$C$161,3,0),0) -> 394.34171 | AR33: =IFERROR(VLOOKUP($AE33,'MS12'!$A$1:$C$161,3,0),0) -> 1043.3897 | AS33: =IFERROR(VLOOKUP($AE33,'MS13'!$A$1:$C$161,3,0),0) -> 0
A34: =ROW()-1 -> 33 | B34: A_iniesta | C34: 5443.2018 | E34: =IFERROR(VLOOKUP($B34,'MS1'!$A$1:$B$160,2,0),"0") -> 51 | F34: =IFERROR(VLOOKUP(E34,'MS1'!$B$1:$C$161,2,0),0) -> 235.03228 | G34: =IFERROR(VLOOKUP($B34,'MS2'!$A$1:$B$160,2,0),"0") -> 20 | H34: =IFERROR(VLOOKUP(G34,'MS2'!$B$1:$C$161,2,0),0) -> 781.58994 | I34: =IFERROR(VLOOKUP($B34,'MS3'!$A$1:$B$161,2,0),0) -> 22 | J34: =IFERROR(VLOOKUP(I34,'MS3'!$B$1:$C$161,2,0),0) -> 781.58994 | K34: =IFERROR(VLOOKUP($B34,'MS4'!$A$1:$B$160,2,0),"0") -> 7 | L34: =IFERROR(VLOOKUP(K34,'MS4'!$B$1:$C$161,2,0),0) -> 1260.1163 | M34: =IFERROR(VLOOKUP($B34,'MS5'!$A$1:$B$160,2,0),"0") -> 54 | N34: =IFERROR(VLOOKUP(M34,'MS5'!$B$1:$C$161,2,0),0) -> 118.77599 | O34: =IFERROR(VLOOKUP($B34,'MS6'!$A$1:$B$160,2,0),"0") -> 0 | P34: =IFERROR(VLOOKUP(O34,'MS6'!$B$1:$C$161,2,0),0) -> 0 | Q34: =IFERROR(VLOOKUP($B34,'MS7'!$A$1:$B$160,2,0),"0") -> 19 | R34: =IFERROR(VLOOKUP(Q34,'MS7'!$B$1:$C$161,2,0),0) -> 807.5106 | S34: =IFERROR(VLOOKUP($B34,'MS8'!$A$1:$B$160,2,0),"0") -> 53 | T34: =IFERROR(VLOOKUP(S34,'MS8'!$B$1:$C$161,2,0),0) -> 198.15461 | U34: =IFERROR(VLOOKUP($B34,'MS9'!$A$1:$B$160,2,0),"0") -> 52 | V34: =IFERROR(VLOOKUP(U34,'MS9'!$B$1:$C$161,2,0),0) -> 180.11888 | W34: =IFERROR(VLOOKUP($B34,'MS10'!$A$1:$B$160,2,0),"0") -> 45 | X34: =IFERROR(VLOOKUP(W34,'MS10'!$B$1:$C$161,2,0),0) -> 269.85585 | Y34: =IFERROR(VLOOKUP($B34,'MS11'!$A$1:$B$160,2,0),"0") -> 17 | Z34: =IFERROR(VLOOKUP(Y34,'MS11'!$B$1:$C$161,2,0),0) -> 810.45737 | AA34: =IFERROR(VLOOKUP($B34,'MS12'!$A$1:$B$160,2,0),"0") -> 0 | AB34: =IFERROR(VLOOKUP(AA34,'MS12'!$B$1:$C$161,2,0),0) -> 0 | AC34: =IFERROR(VLOOKUP($B34,'MS13'!$A$1:$B$160,2,0),"0") -> 0 | AD34: =IFERROR(VLOOKUP(AC34,'MS13'!$B$1:$C$161,2,0),0) -> 0 | AE34: =IFERROR(__xludf.DUMMYFUNCTION("""COMPUTED_VALUE"""),"gregmoore") -> gregmoore | AF34: =SUM(AG34:AR34)-small((AG34:AR34),1)-small((AG34:AR34),2) -> 5703.6228 | AG34: =IFERROR(VLOOKUP($AE34,'MS1'!$A$1:$C$161,3,0),0) -> 510.3166 | AH34: =IFERROR(VLOOKUP($AE34,'MS2'!$A$1:$C$161,3,0),0) -> 584.05106 | AI34: =IFERROR(VLOOKUP($AE34,'MS3'!$A$1:$C$161,3,0),0) -> 248.63024 | AJ34: =IFERROR(VLOOKUP($AE34,'MS4'!$A$1:$C$161,3,0),0) -> 399.01202 | AK34: =IFERROR(VLOOKUP($AE34,'MS5'!$A$1:$C$161,3,0),0) -> 586.19615 | AL34: =IFERROR(VLOOKUP($AE34,'MS6'!$A$1:$C$161,3,0),0) -> 95.655665 | AM34: =IFERROR(VLOOKUP($AE34,'MS7'!$A$1:$C$161,3,0),0) -> 1682.9102 | AN34: =IFERROR(VLOOKUP($AE34,'MS8'!$A$1:$C$161,3,0),0) -> 519.83725 | AO34: =IFERROR(VLOOKUP($AE34,'MS9'!$A$1:$C$161,3,0),0) -> 357.18268 | AP34: =IFERROR(VLOOKUP($AE34,'MS10'!$A$1:$C$161,3,0),0) -> 0 | AQ34: =IFERROR(VLOOKUP($AE34,'MS11'!$A$1:$C$161,3,0),0) -> 311.03645 | AR34: =IFERROR(VLOOKUP($AE34,'MS12'!$A$1:$C$161,3,0),0) -> 504.45009 | AS34: =IFERROR(VLOOKUP($AE34,'MS13'!$A$1:$C$161,3,0),0) -> 0
A35: =ROW()-1 -> 34 | B35: FridAKahlo | C35: 5406.664 | E35: =IFERROR(VLOOKUP($B35,'MS1'!$A$1:$B$160,2,0),"0") -> 35 | F35: =IFERROR(VLOOKUP(E35,'MS1'!$B$1:$C$161,2,0),0) -> 475.68285 | G35: =IFERROR(VLOOKUP($B35,'MS2'!$A$1:$B$160,2,0),"0") -> 34 | H35: =IFERROR(VLOOKUP(G35,'MS2'!$B$1:$C$161,2,0),0) -> 492.83237 | I35: =IFERROR(VLOOKUP($B35,'MS3'!$A$1:$B$161,2,0),0) -> 31 | J35: =IFERROR(VLOOKUP(I35,'MS3'!$B$1:$C$161,2,0),0) -> 599.98356 | K35: =IFERROR(VLOOKUP($B35,'MS4'!$A$1:$B$160,2,0),"0") -> 36 | L35: =IFERROR(VLOOKUP(K35,'MS4'!$B$1:$C$161,2,0),0) -> 432.33456 | M35: =IFERROR(VLOOKUP($B35,'MS5'!$A$1:$B$160,2,0),"0") -> 37 | N35: =IFERROR(VLOOKUP(M35,'MS5'!$B$1:$C$161,2,0),0) -> 377.14425 | O35: =IFERROR(VLOOKUP($B35,'MS6'!$A$1:$B$160,2,0),"0") -> 17 | P35: =IFERROR(VLOOKUP(O35,'MS6'!$B$1:$C$161,2,0),0) -> 855.74483 | Q35: =IFERROR(VLOOKUP($B35,'MS7'!$A$1:$B$160,2,0),"0") -> 57 | R35: =IFERROR(VLOOKUP(Q35,'MS7'!$B$1:$C$161,2,0),0) -> 156.40157 | S35: =IFERROR(VLOOKUP($B35,'MS8'!$A$1:$B$160,2,0),"0") -> 46 | T35: =IFERROR(VLOOKUP(S35,'MS8'!$B$1:$C$161,2,0),0) -> 295.11518 | U35: =IFERROR(VLOOKUP($B35,'MS9'!$A$1:$B$160,2,0),"0") -> 15 | V35: =IFERROR(VLOOKUP(U35,'MS9'!$B$1:$C$161,2,0),0) -> 895.32229 | W35: =IFERROR(VLOOKUP($B35,'MS10'!$A$1:$B$160,2,0),"0") -> 17 | X35: =IFERROR(VLOOKUP(W35,'MS10'!$B$1:$C$161,2,0),0) -> 826.10258 | Y35: =IFERROR(VLOOKUP($B35,'MS11'!$A$1:$B$160,2,0),"0") -> 0 | Z35: =IFERROR(VLOOKUP(Y35,'MS11'!$B$1:$C$161,2,0),0) -> 0 | AA35: =IFERROR(VLOOKUP($B35,'MS12'!$A$1:$B$160,2,0),"0") -> 0 | AB35: =IFERROR(VLOOKUP(AA35,'MS12'!$B$1:$C$161,2,0),0) -> 0 | AC35: =IFERROR(VLOOKUP($B35,'MS13'!$A$1:$B$160,2,0),"0") -> 0 | AD35: =IFERROR(VLOOKUP(AC35,'MS13'!$B$1:$C$161,2,0),0) -> 0 | AE35: =IFERROR(__xludf.DUMMYFUNCTION("""COMPUTED_VALUE"""),"PSGJM") -> PSGJM | AF35: =SUM(AG35:AR35)-small((AG35:AR35),1)-small((AG35:AR35),2) -> 2950.259 | AG35: =IFERROR(VLOOKUP($AE35,'MS1'!$A$1:$C$161,3,0),0) -> 492.83237 | AH35: =IFERROR(VLOOKUP($AE35,'MS2'!$A$1:$C$161,3,0),0) -> 319.08276 | AI35: =IFERROR(VLOOKUP($AE35,'MS3'!$A$1:$C$161,3,0),0) -> 909.41259 | AJ35: =IFERROR(VLOOKUP($AE35,'MS4'!$A$1:$C$161,3,0),0) -> 0 | AK35: =IFERROR(VLOOKUP($AE35,'MS5'!$A$1:$C$161,3,0),0) -> 980.30099 | AL35: =IFERROR(VLOOKUP($AE35,'MS6'!$A$1:$C$161,3,0),0) -> 0 | AM35: =IFERROR(VLOOKUP($AE35,'MS7'!$A$1:$C$161,3,0),0) -> 0 | AN35: =IFERROR(VLOOKUP($AE35,'MS8'!$A$1:$C$161,3,0),0) -> 0 | AO35: =IFERROR(VLOOKUP($AE35,'MS9'!$A$1:$C$161,3,0),0) -> 0 | AP35: =IFERROR(VLOOKUP($AE35,'MS10'!$A$1:$C$161,3,0),0) -> 0 | AQ35: =IFERROR(VLOOKUP($AE35,'MS11'!$A$1:$C$161,3,0),0) -> 0 | AR35: =IFERROR(VLOOKUP($AE35,'MS12'!$A$1:$C$161,3,0),0) -> 248.63024 | AS35: =IFERROR(VLOOKUP($AE35,'MS13'!$A$1:$C$161,3,0),0) -> 0
A36: =ROW()-1 -> 35 | B36: Pitt86700 | C36: 5381.2535 | E36: =IFERROR(VLOOKUP($B36,'MS1'!$A$1:$B$160,2,0),"0") -> 1 | F36: =IFERROR(VLOOKUP(E36,'MS1'!$B$1:$C$161,2,0),0) -> 2280.9489 | G36: =IFERROR(VLOOKUP($B36,'MS2'!$A$1:$B$160,2,0),"0") -> 16 | H36: =IFERROR(VLOOKUP(G36,'MS2'!$B$1:$C$161,2,0),0) -> 892.5452 | I36: =IFERROR(VLOOKUP($B36,'MS3'!$A$1:$B$161,2,0),0) -> 60 | J36: =IFERROR(VLOOKUP(I36,'MS3'!$B$1:$C$161,2,0),0) -> 187.98927 | K36: =IFERROR(VLOOKUP($B36,'MS4'!$A$1:$B$160,2,0),"0") -> 45 | L36: =IFERROR(VLOOKUP(K36,'MS4'!$B$1:$C$161,2,0),0) -> 290.17062 | M36: =IFERROR(VLOOKUP($B36,'MS5'!$A$1:$B$160,2,0),"0") -> 51 | N36: =IFERROR(VLOOKUP(M36,'MS5'!$B$1:$C$161,2,0),0) -> 160.64724 | O36: =IFERROR(VLOOKUP($B36,'MS6'!$A$1:$B$160,2,0),"0") -> 0 | P36: =IFERROR(VLOOKUP(O36,'MS6'!$B$1:$C$161,2,0),0) -> 0 | Q36: =IFERROR(VLOOKUP($B36,'MS7'!$A$1:$B$160,2,0),"0") -> 37 | R36: =IFERROR(VLOOKUP(Q36,'MS7'!$B$1:$C$161,2,0),0) -> 442.31327 | S36: =IFERROR(VLOOKUP($B36,'MS8'!$A$1:$B$160,2,0),"0") -> 36 | T36: =IFERROR(VLOOKUP(S36,'MS8'!$B$1:$C$161,2,0),0) -> 450.18548 | U36: =IFERROR(VLOOKUP($B36,'MS9'!$A$1:$B$160,2,0),"0") -> 34 | V36: =IFERROR(VLOOKUP(U36,'MS9'!$B$1:$C$161,2,0),0) -> 457.83847 | W36: =IFERROR(VLOOKUP($B36,'MS10'!$A$1:$B$160,2,0),"0") -> 0 | X36: =IFERROR(VLOOKUP(W36,'MS10'!$B$1:$C$161,2,0),0) -> 0 | Y36: =IFERROR(VLOOKUP($B36,'MS11'!$A$1:$B$160,2,0),"0") -> 47 | Z36: =IFERROR(VLOOKUP(Y36,'MS11'!$B$1:$C$161,2,0),0) -> 218.61507 | AA36: =IFERROR(VLOOKUP($B36,'MS12'!$A$1:$B$160,2,0),"0") -> 0 | AB36: =IFERROR(VLOOKUP(AA36,'MS12'!$B$1:$C$161,2,0),0) -> 0 | AC36: =IFERROR(VLOOKUP($B36,'MS13'!$A$1:$B$160,2,0),"0") -> 0 | AD36: =IFERROR(VLOOKUP(AC36,'MS13'!$B$1:$C$161,2,0),0) -> 0 | AE36: =IFERROR(__xludf.DUMMYFUNCTION("""COMPUTED_VALUE"""),"FridAKahlo") -> FridAKahlo | AF36: =SUM(AG36:AR36)-small((AG36:AR36),1)-small((AG36:AR36),2) -> 5406.664 | AG36: =IFERROR(VLOOKUP($AE36,'MS1'!$A$1:$C$161,3,0),0) -> 475.68285 | AH36: =IFERROR(VLOOKUP($AE36,'MS2'!$A$1:$C$161,3,0),0) -> 492.83237 | AI36: =IFERROR(VLOOKUP($AE36,'MS3'!$A$1:$C$161,3,0),0) -> 599.98356 | AJ36: =IFERROR(VLOOKUP($AE36,'MS4'!$A$1:$C$161,3,0),0) -> 432.33456 | AK36: =IFERROR(VLOOKUP($AE36,'MS5'!$A$1:$C$161,3,0),0) -> 377.14425 | AL36: =IFERROR(VLOOKUP($AE36,'MS6'!$A$1:$C$161,3,0),0) -> 855.74483 | AM36: =IFERROR(VLOOKUP($AE36,'MS7'!$A$1:$C$161,3,0),0) -> 156.40157 | AN36: =IFERROR(VLOOKUP($AE36,'MS8'!$A$1:$C$161,3,0),0) -> 295.11518 | AO36: =IFERROR(VLOOKUP($AE36,'MS9'!$A$1:$C$161,3,0),0) -> 895.32229 | AP36: =IFERROR(VLOOKUP($AE36,'MS10'!$A$1:$C$161,3,0),0) -> 826.10258 | AQ36: =IFERROR(VLOOKUP($AE36,'MS11'!$A$1:$C$161,3,0),0) -> 0 | AR36: =IFERROR(VLOOKUP($AE36,'MS12'!$A$1:$C$161,3,0),0) -> 0 | AS36: =IFERROR(VLOOKUP($AE36,'MS13'!$A$1:$C$161,3,0),0) -> 0
A37: =ROW()-1 -> 36 | B37: Patgaret | C37: 5348.9743 | E37: =IFERROR(VLOOKUP($B37,'MS1'!$A$1:$B$160,2,0),"0") -> 23 | F37: =IFERROR(VLOOKUP(E37,'MS1'!$B$1:$C$161,2,0),0) -> 709.46726 | G37: =IFERROR(VLOOKUP($B37,'MS2'!$A$1:$B$160,2,0),"0") -> 49 | H37: =IFERROR(VLOOKUP(G37,'MS2'!$B$1:$C$161,2,0),0) -> 262.38363 | I37: =IFERROR(VLOOKUP($B37,'MS3'!$A$1:$B$161,2,0),0) -> 66 | J37: =IFERROR(VLOOKUP(I37,'MS3'!$B$1:$C$161,2,0),0) -> 118.77599 | K37: =IFERROR(VLOOKUP($B37,'MS4'!$A$1:$B$160,2,0),"0") -> 0 | L37: =IFERROR(VLOOKUP(K37,'MS4'!$B$1:$C$161,2,0),0) -> 0 | M37: =IFERROR(VLOOKUP($B37,'MS5'!$A$1:$B$160,2,0),"0") -> 61 | N37: =IFERROR(VLOOKUP(M37,'MS5'!$B$1:$C$161,2,0),0) -> 25.602484 | O37: =IFERROR(VLOOKUP($B37,'MS6'!$A$1:$B$160,2,0),"0") -> 22 | P37: =IFERROR(VLOOKUP(O37,'MS6'!$B$1:$C$161,2,0),0) -> 725.17923 | Q37: =IFERROR(VLOOKUP($B37,'MS7'!$A$1:$B$160,2,0),"0") -> 32 | R37: =IFERROR(VLOOKUP(Q37,'MS7'!$B$1:$C$161,2,0),0) -> 528.15641 | S37: =IFERROR(VLOOKUP($B37,'MS8'!$A$1:$B$160,2,0),"0") -> 40 | T37: =IFERROR(VLOOKUP(S37,'MS8'!$B$1:$C$161,2,0),0) -> 385.33297 | U37: =IFERROR(VLOOKUP($B37,'MS9'!$A$1:$B$160,2,0),"0") -> 16 | V37: =IFERROR(VLOOKUP(U37,'MS9'!$B$1:$C$161,2,0),0) -> 863.71815 | W37: =IFERROR(VLOOKUP($B37,'MS10'!$A$1:$B$160,2,0),"0") -> 53 | X37: =IFERROR(VLOOKUP(W37,'MS10'!$B$1:$C$161,2,0),0) -> 155.4237 | Y37: =IFERROR(VLOOKUP($B37,'MS11'!$A$1:$B$160,2,0),"0") -> 31 | Z37: =IFERROR(VLOOKUP(Y37,'MS11'!$B$1:$C$161,2,0),0) -> 485.17021 | AA37: =IFERROR(VLOOKUP($B37,'MS12'!$A$1:$B$160,2,0),"0") -> 6 | AB37: =IFERROR(VLOOKUP(AA37,'MS12'!$B$1:$C$161,2,0),0) -> 1115.3668 | AC37: =IFERROR(VLOOKUP($B37,'MS13'!$A$1:$B$160,2,0),"0") -> 0 | AD37: =IFERROR(VLOOKUP(AC37,'MS13'!$B$1:$C$161,2,0),0) -> 0 | AE37: =IFERROR(__xludf.DUMMYFUNCTION("""COMPUTED_VALUE"""),"RousskoShark") -> RousskoShark | AF37: =SUM(AG37:AR37)-small((AG37:AR37),1)-small((AG37:AR37),2) -> 934.5318 | AG37: =IFERROR(VLOOKUP($AE37,'MS1'!$A$1:$C$161,3,0),0) -> 458.84896 | AH37: =IFERROR(VLOOKUP($AE37,'MS2'!$A$1:$C$161,3,0),0) -> 475.68285 | AI37: =IFERROR(VLOOKUP($AE37,'MS3'!$A$1:$C$161,3,0),0) -> 0 | AJ37: =IFERROR(VLOOKUP($AE37,'MS4'!$A$1:$C$161,3,0),0) -> 0 | AK37: =IFERROR(VLOOKUP($AE37,'MS5'!$A$1:$C$161,3,0),0) -> 0 | AL37: =IFERROR(VLOOKUP($AE37,'MS6'!$A$1:$C$161,3,0),0) -> 0 | AM37: =IFERROR(VLOOKUP($AE37,'MS7'!$A$1:$C$161,3,0),0) -> 0 | AN37: =IFERROR(VLOOKUP($AE37,'MS8'!$A$1:$C$161,3,0),0) -> 0 | AO37: =IFERROR(VLOOKUP($AE37,'MS9'!$A$1:$C$161,3,0),0) -> 0 | AP37: =IFERROR(VLOOKUP($AE37,'MS10'!$A$1:$C$161,3,0),0) -> 0 | AQ37: =IFERROR(VLOOKUP($AE37,'MS11'!$A$1:$C$161,3,0),0) -> 0 | AR37: =IFERROR(VLOOKUP($AE37,'MS12'!$A$1:$C$161,3,0),0) -> 0 | AS37: =IFERROR(VLOOKUP($AE37,'MS13'!$A$1:$C$161,3,0),0) -> 0
A38: =ROW()-1 -> 37 | B38: christ86000 | C38: 5316.6281 | E38: =IFERROR(VLOOKUP($B38,'MS1'!$A$1:$B$160,2,0),"0") -> 61 | F38: =IFERROR(VLOOKUP(E38,'MS1'!$B$1:$C$161,2,0),0) -> 106.45756 | G38: =IFERROR(VLOOKUP($B38,'MS2'!$A$1:$B$160,2,0),"0") -> 25 | H38: =IFERROR(VLOOKUP(G38,'MS2'!$B$1:$C$161,2,0),0) -> 665.26392 | I38: =IFERROR(VLOOKUP($B38,'MS3'!$A$1:$B$161,2,0),0) -> 56 | J38: =IFERROR(VLOOKUP(I38,'MS3'!$B$1:$C$161,2,0),0) -> 236.26219 | K38: =IFERROR(VLOOKUP($B38,'MS4'!$A$1:$B$160,2,0),"0") -> 13 | L38: =IFERROR(VLOOKUP(K38,'MS4'!$B$1:$C$161,2,0),0) -> 971.49777 | M38: =IFERROR(VLOOKUP($B38,'MS5'!$A$1:$B$160,2,0),"0") -> 52 | N38: =IFERROR(VLOOKUP(M38,'MS5'!$B$1:$C$161,2,0),0) -> 146.54683 | O38: =IFERROR(VLOOKUP($B38,'MS6'!$A$1:$B$160,2,0),"0") -> 38 | P38: =IFERROR(VLOOKUP(O38,'MS6'!$B$1:$C$161,2,0),0) -> 417.22369 | Q38: =IFERROR(VLOOKUP($B38,'MS7'!$A$1:$B$160,2,0),"0") -> 52 | R38: =IFERROR(VLOOKUP(Q38,'MS7'!$B$1:$C$161,2,0),0) -> 221.58386 | S38: =IFERROR(VLOOKUP($B38,'MS8'!$A$1:$B$160,2,0),"0") -> 22 | T38: =IFERROR(VLOOKUP(S38,'MS8'!$B$1:$C$161,2,0),0) -> 725.17923 | U38: =IFERROR(VLOOKUP($B38,'MS9'!$A$1:$B$160,2,0),"0") -> 18 | V38: =IFERROR(VLOOKUP(U38,'MS9'!$B$1:$C$161,2,0),0) -> 805.10986 | W38: =IFERROR(VLOOKUP($B38,'MS10'!$A$1:$B$160,2,0),"0") -> 62 | X38: =IFERROR(VLOOKUP(W38,'MS10'!$B$1:$C$161,2,0),0) -> 37.361844 | Y38: =IFERROR(VLOOKUP($B38,'MS11'!$A$1:$B$160,2,0),"0") -> 11 | Z38: =IFERROR(VLOOKUP(Y38,'MS11'!$B$1:$C$161,2,0),0) -> 1021.5032 | AA38: =IFERROR(VLOOKUP($B38,'MS12'!$A$1:$B$160,2,0),"0") -> 0 | AB38: =IFERROR(VLOOKUP(AA38,'MS12'!$B$1:$C$161,2,0),0) -> 0 | AC38: =IFERROR(VLOOKUP($B38,'MS13'!$A$1:$B$160,2,0),"0") -> 0 | AD38: =IFERROR(VLOOKUP(AC38,'MS13'!$B$1:$C$161,2,0),0) -> 0 | AE38: =IFERROR(__xludf.DUMMYFUNCTION("""COMPUTED_VALUE"""),"cassius-86") -> cassius-86 | AF38: =SUM(AG38:AR38)-small((AG38:AR38),1)-small((AG38:AR38),2) -> 3431.2137 | AG38: =IFERROR(VLOOKUP($AE38,'MS1'!$A$1:$C$161,3,0),0) -> 442.31327 | AH38: =IFERROR(VLOOKUP($AE38,'MS2'!$A$1:$C$161,3,0),0) -> 70.124974 | AI38: =IFERROR(VLOOKUP($AE38,'MS3'!$A$1:$C$161,3,0),0) -> 483.43785 | AJ38: =IFERROR(VLOOKUP($AE38,'MS4'!$A$1:$C$161,3,0),0) -> 177.25274 | AK38: =IFERROR(VLOOKUP($AE38,'MS5'!$A$1:$C$161,3,0),0) -> 0 | AL38: =IFERROR(VLOOKUP($AE38,'MS6'!$A$1:$C$161,3,0),0) -> 252.60046 | AM38: =IFERROR(VLOOKUP($AE38,'MS7'!$A$1:$C$161,3,0),0) -> 208.27944 | AN38: =IFERROR(VLOOKUP($AE38,'MS8'!$A$1:$C$161,3,0),0) -> 354.40889 | AO38: =IFERROR(VLOOKUP($AE38,'MS9'!$A$1:$C$161,3,0),0) -> 139.55135 | AP38: =IFERROR(VLOOKUP($AE38,'MS10'!$A$1:$C$161,3,0),0) -> 396.74601 | AQ38: =IFERROR(VLOOKUP($AE38,'MS11'!$A$1:$C$161,3,0),0) -> 607.97143 | AR38: =IFERROR(VLOOKUP($AE38,'MS12'!$A$1:$C$161,3,0),0) -> 368.65229 | AS38: =IFERROR(VLOOKUP($AE38,'MS13'!$A$1:$C$161,3,0),0) -> 0
A39: =ROW()-1 -> 38 | B39: ElDail | C39: 5310.603 | E39: =IFERROR(VLOOKUP($B39,'MS1'!$A$1:$B$160,2,0),"0") -> 0 | F39: =IFERROR(VLOOKUP(E39,'MS1'!$B$1:$C$161,2,0),0) -> 0 | G39: =IFERROR(VLOOKUP($B39,'MS2'!$A$1:$B$160,2,0),"0") -> 28 | H39: =IFERROR(VLOOKUP(G39,'MS2'!$B$1:$C$161,2,0),0) -> 603.56805 | I39: =IFERROR(VLOOKUP($B39,'MS3'!$A$1:$B$161,2,0),0) -> 39 | J39: =IFERROR(VLOOKUP(I39,'MS3'!$B$1:$C$161,2,0),0) -> 467.99303 | K39: =IFERROR(VLOOKUP($B39,'MS4'!$A$1:$B$160,2,0),"0") -> 19 | L39: =IFERROR(VLOOKUP(K39,'MS4'!$B$1:$C$161,2,0),0) -> 785.39245 | M39: =IFERROR(VLOOKUP($B39,'MS5'!$A$1:$B$160,2,0),"0") -> 1 | N39: =IFERROR(VLOOKUP(M39,'MS5'!$B$1:$C$161,2,0),0) -> 2218.0752 | O39: =IFERROR(VLOOKUP($B39,'MS6'!$A$1:$B$160,2,0),"0") -> 24 | P39: =IFERROR(VLOOKUP(O39,'MS6'!$B$1:$C$161,2,0),0) -> 679.38018 | Q39: =IFERROR(VLOOKUP($B39,'MS7'!$A$1:$B$160,2,0),"0") -> 0 | R39: =IFERROR(VLOOKUP(Q39,'MS7'!$B$1:$C$161,2,0),0) -> 0 | S39: =IFERROR(VLOOKUP($B39,'MS8'!$A$1:$B$160,2,0),"0") -> 0 | T39: =IFERROR(VLOOKUP(S39,'MS8'!$B$1:$C$161,2,0),0) -> 0 | U39: =IFERROR(VLOOKUP($B39,'MS9'!$A$1:$B$160,2,0),"0") -> 43 | V39: =IFERROR(VLOOKUP(U39,'MS9'!$B$1:$C$161,2,0),0) -> 310.30785 | W39: =IFERROR(VLOOKUP($B39,'MS10'!$A$1:$B$160,2,0),"0") -> 64 | X39: =IFERROR(VLOOKUP(W39,'MS10'!$B$1:$C$161,2,0),0) -> 12.35549 | Y39: =IFERROR(VLOOKUP($B39,'MS11'!$A$1:$B$160,2,0),"0") -> 46 | Z39: =IFERROR(VLOOKUP(Y39,'MS11'!$B$1:$C$161,2,0),0) -> 233.53073 | AA39: =IFERROR(VLOOKUP($B39,'MS12'!$A$1:$B$160,2,0),"0") -> 0 | AB39: =IFERROR(VLOOKUP(AA39,'MS12'!$B$1:$C$161,2,0),0) -> 0 | AC39: =IFERROR(VLOOKUP($B39,'MS13'!$A$1:$B$160,2,0),"0") -> 0 | AD39: =IFERROR(VLOOKUP(AC39,'MS13'!$B$1:$C$161,2,0),0) -> 0 | AE39: =IFERROR(__xludf.DUMMYFUNCTION("""COMPUTED_VALUE"""),"dodu") -> dodu | AF39: =SUM(AG39:AR39)-small((AG39:AR39),1)-small((AG39:AR39),2) -> 426.05978 | AG39: =IFERROR(VLOOKUP($AE39,'MS1'!$A$1:$C$161,3,0),0) -> 426.05978 | AH39: =IFERROR(VLOOKUP($AE39,'MS2'!$A$1:$C$161,3,0),0) -> 0 | AI39: =IFERROR(VLOOKUP($AE39,'MS3'!$A$1:$C$161,3,0),0) -> 0 | AJ39: =IFERROR(VLOOKUP($AE39,'MS4'!$A$1:$C$161,3,0),0) -> 0 | AK39: =IFERROR(VLOOKUP($AE39,'MS5'!$A$1:$C$161,3,0),0) -> 0 | AL39: =IFERROR(VLOOKUP($AE39,'MS6'!$A$1:$C$161,3,0),0) -> 0 | AM39: =IFERROR(VLOOKUP($AE39,'MS7'!$A$1:$C$161,3,0),0) -> 0 | AN39: =IFERROR(VLOOKUP($AE39,'MS8'!$A$1:$C$161,3,0),0) -> 0 | AO39: =IFERROR(VLOOKUP($AE39,'MS9'!$A$1:$C$161,3,0),0) -> 0 | AP39: =IFERROR(VLOOKUP($AE39,'MS10'!$A$1:$C$161,3,0),0) -> 0 | AQ39: =IFERROR(VLOOKUP($AE39,'MS11'!$A$1:$C$161,3,0),0) -> 0 | AR39: =IFERROR(VLOOKUP($AE39,'MS12'!$A$1:$C$161,3,0),0) -> 0 | AS39: =IFERROR(VLOOKUP($AE39,'MS13'!$A$1:$C$161,3,0),0) -> 0
A40: =ROW()-1 -> 39 | B40: BRUNOWINNER | C40: 5153.6602 | E40: =IFERROR(VLOOKUP($B40,'MS1'!$A$1:$B$160,2,0),"0") -> 59 | F40: =IFERROR(VLOOKUP(E40,'MS1'!$B$1:$C$161,2,0),0) -> 131.20372 | G40: =IFERROR(VLOOKUP($B40,'MS2'!$A$1:$B$160,2,0),"0") -> 0 | H40: =IFERROR(VLOOKUP(G40,'MS2'!$B$1:$C$161,2,0),0) -> 0 | I40: =IFERROR(VLOOKUP($B40,'MS3'!$A$1:$B$161,2,0),0) -> 65 | J40: =IFERROR(VLOOKUP(I40,'MS3'!$B$1:$C$161,2,0),0) -> 130.06931 | K40: =IFERROR(VLOOKUP($B40,'MS4'!$A$1:$B$160,2,0),"0") -> 30 | L40: =IFERROR(VLOOKUP(K40,'MS4'!$B$1:$C$161,2,0),0) -> 540.07652 | M40: =IFERROR(VLOOKUP($B40,'MS5'!$A$1:$B$160,2,0),"0") -> 25 | N40: =IFERROR(VLOOKUP(M40,'MS5'!$B$1:$C$161,2,0),0) -> 607.97143 | O40: =IFERROR(VLOOKUP($B40,'MS6'!$A$1:$B$160,2,0),"0") -> 23 | P40: =IFERROR(VLOOKUP(O40,'MS6'!$B$1:$C$161,2,0),0) -> 701.90614 | Q40: =IFERROR(VLOOKUP($B40,'MS7'!$A$1:$B$160,2,0),"0") -> 0 | R40: =IFERROR(VLOOKUP(Q40,'MS7'!$B$1:$C$161,2,0),0) -> 0 | S40: =IFERROR(VLOOKUP($B40,'MS8'!$A$1:$B$160,2,0),"0") -> 8 | T40: =IFERROR(VLOOKUP(S40,'MS8'!$B$1:$C$161,2,0),0) -> 1212.022 | U40: =IFERROR(VLOOKUP($B40,'MS9'!$A$1:$B$160,2,0),"0") -> 39 | V40: =IFERROR(VLOOKUP(U40,'MS9'!$B$1:$C$161,2,0),0) -> 373.27564 | W40: =IFERROR(VLOOKUP($B40,'MS10'!$A$1:$B$160,2,0),"0") -> 38 | X40: =IFERROR(VLOOKUP(W40,'MS10'!$B$1:$C$161,2,0),0) -> 380.03433 | Y40: =IFERROR(VLOOKUP($B40,'MS11'!$A$1:$B$160,2,0),"0") -> 35 | Z40: =IFERROR(VLOOKUP(Y40,'MS11'!$B$1:$C$161,2,0),0) -> 411.83722 | AA40: =IFERROR(VLOOKUP($B40,'MS12'!$A$1:$B$160,2,0),"0") -> 15 | AB40: =IFERROR(VLOOKUP(AA40,'MS12'!$B$1:$C$161,2,0),0) -> 665.26392 | AC40: =IFERROR(VLOOKUP($B40,'MS13'!$A$1:$B$160,2,0),"0") -> 0 | AD40: =IFERROR(VLOOKUP(AC40,'MS13'!$B$1:$C$161,2,0),0) -> 0 | AE40: =IFERROR(__xludf.DUMMYFUNCTION("""COMPUTED_VALUE"""),"_Sale-Bet_") -> _Sale-Bet_ | AF40: =SUM(AG40:AR40)-small((AG40:AR40),1)-small((AG40:AR40),2) -> 7051.586 | AG40: =IFERROR(VLOOKUP($AE40,'MS1'!$A$1:$C$161,3,0),0) -> 410.07378 | AH40: =IFERROR(VLOOKUP($AE40,'MS2'!$A$1:$C$161,3,0),0) -> 304.64092 | AI40: =IFERROR(VLOOKUP($AE40,'MS3'!$A$1:$C$161,3,0),0) -> 854.99099 | AJ40: =IFERROR(VLOOKUP($AE40,'MS4'!$A$1:$C$161,3,0),0) -> 709.80774 | AK40: =IFERROR(VLOOKUP($AE40,'MS5'!$A$1:$C$161,3,0),0) -> 248.63024 | AL40: =IFERROR(VLOOKUP($AE40,'MS6'!$A$1:$C$161,3,0),0) -> 145.9371 | AM40: =IFERROR(VLOOKUP($AE40,'MS7'!$A$1:$C$161,3,0),0) -> 834.54868 | AN40: =IFERROR(VLOOKUP($AE40,'MS8'!$A$1:$C$161,3,0),0) -> 1108.6774 | AO40: =IFERROR(VLOOKUP($AE40,'MS9'!$A$1:$C$161,3,0),0) -> 633.47706 | AP40: =IFERROR(VLOOKUP($AE40,'MS10'!$A$1:$C$161,3,0),0) -> 315.73337 | AQ40: =IFERROR(VLOOKUP($AE40,'MS11'!$A$1:$C$161,3,0),0) -> 1631.0058 | AR40: =IFERROR(VLOOKUP($AE40,'MS12'!$A$1:$C$161,3,0),0) -> 78.120877 | AS40: =IFERROR(VLOOKUP($AE40,'MS13'!$A$1:$C$161,3,0),0) -> 0
A41: =ROW()-1 -> 40 | B41: .BARBAPAPA66 | C41: 5105.1835 | E41: =IFERROR(VLOOKUP($B41,'MS1'!$A$1:$B$160,2,0),"0") -> 68 | F41: =IFERROR(VLOOKUP(E41,'MS1'!$B$1:$C$161,2,0),0) -> 23.023388 | G41: =IFERROR(VLOOKUP($B41,'MS2'!$A$1:$B$160,2,0),"0") -> 69 | H41: =IFERROR(VLOOKUP(G41,'MS2'!$B$1:$C$161,2,0),0) -> 11.469756 | I41: =IFERROR(VLOOKUP($B41,'MS3'!$A$1:$B$161,2,0),0) -> 26 | J41: =IFERROR(VLOOKUP(I41,'MS3'!$B$1:$C$161,2,0),0) -> 695.10239 | K41: =IFERROR(VLOOKUP($B41,'MS4'!$A$1:$B$160,2,0),"0") -> 2 | L41: =IFERROR(VLOOKUP(K41,'MS4'!$B$1:$C$161,2,0),0) -> 1867.1953 | M41: =IFERROR(VLOOKUP($B41,'MS5'!$A$1:$B$160,2,0),"0") -> 55 | N41: =IFERROR(VLOOKUP(M41,'MS5'!$B$1:$C$161,2,0),0) -> 105.09544 | O41: =IFERROR(VLOOKUP($B41,'MS6'!$A$1:$B$160,2,0),"0") -> 64 | P41: =IFERROR(VLOOKUP(O41,'MS6'!$B$1:$C$161,2,0),0) -> 59.071525 | Q41: =IFERROR(VLOOKUP($B41,'MS7'!$A$1:$B$160,2,0),"0") -> 31 | R41: =IFERROR(VLOOKUP(Q41,'MS7'!$B$1:$C$161,2,0),0) -> 546.37477 | S41: =IFERROR(VLOOKUP($B41,'MS8'!$A$1:$B$160,2,0),"0") -> 66 | T41: =IFERROR(VLOOKUP(S41,'MS8'!$B$1:$C$161,2,0),0) -> 35.171302 | U41: =IFERROR(VLOOKUP($B41,'MS9'!$A$1:$B$160,2,0),"0") -> 57 | V41: =IFERROR(VLOOKUP(U41,'MS9'!$B$1:$C$161,2,0),0) -> 113.16336 | W41: =IFERROR(VLOOKUP($B41,'MS10'!$A$1:$B$160,2,0),"0") -> 6 | X41: =IFERROR(VLOOKUP(W41,'MS10'!$B$1:$C$161,2,0),0) -> 1317.4046 | Y41: =IFERROR(VLOOKUP($B41,'MS11'!$A$1:$B$160,2,0),"0") -> 39 | Z41: =IFERROR(VLOOKUP(Y41,'MS11'!$B$1:$C$161,2,0),0) -> 343.58142 | AA41: =IFERROR(VLOOKUP($B41,'MS12'!$A$1:$B$160,2,0),"0") -> 0 | AB41: =IFERROR(VLOOKUP(AA41,'MS12'!$B$1:$C$161,2,0),0) -> 0 | AC41: =IFERROR(VLOOKUP($B41,'MS13'!$A$1:$B$160,2,0),"0") -> 0 | AD41: =IFERROR(VLOOKUP(AC41,'MS13'!$B$1:$C$161,2,0),0) -> 0 | AE41: =IFERROR(__xludf.DUMMYFUNCTION("""COMPUTED_VALUE"""),"TontonZgueg") -> TontonZgueg | AF41: =SUM(AG41:AR41)-small((AG41:AR41),1)-small((AG41:AR41),2) -> 9180.7183 | AG41: =IFERROR(VLOOKUP($AE41,'MS1'!$A$1:$C$161,3,0),0) -> 394.34171 | AH41: =IFERROR(VLOOKUP($AE41,'MS2'!$A$1:$C$161,3,0),0) -> 862.83965 | AI41: =IFERROR(VLOOKUP($AE41,'MS3'!$A$1:$C$161,3,0),0) -> 85.427886 | AJ41: =IFERROR(VLOOKUP($AE41,'MS4'!$A$1:$C$161,3,0),0) -> 599.44996 | AK41: =IFERROR(VLOOKUP($AE41,'MS5'!$A$1:$C$161,3,0),0) -> 677.27144 | AL41: =IFERROR(VLOOKUP($AE41,'MS6'!$A$1:$C$161,3,0),0) -> 950.13179 | AM41: =IFERROR(VLOOKUP($AE41,'MS7'!$A$1:$C$161,3,0),0) -> 992.32852 | AN41: =IFERROR(VLOOKUP($AE41,'MS8'!$A$1:$C$161,3,0),0) -> 0 | AO41: =IFERROR(VLOOKUP($AE41,'MS9'!$A$1:$C$161,3,0),0) -> 701.90614 | AP41: =IFERROR(VLOOKUP($AE41,'MS10'!$A$1:$C$161,3,0),0) -> 2236.5826 | AQ41: =IFERROR(VLOOKUP($AE41,'MS11'!$A$1:$C$161,3,0),0) -> 1231.6806 | AR41: =IFERROR(VLOOKUP($AE41,'MS12'!$A$1:$C$161,3,0),0) -> 534.18594 | AS41: =IFERROR(VLOOKUP($AE41,'MS13'!$A$1:$C$161,3,0),0) -> 0
A42: =ROW()-1 -> 41 | B42: fiodor86 | C42: 4944.991 | E42: =IFERROR(VLOOKUP($B42,'MS1'!$A$1:$B$160,2,0),"0") -> 30 | F42: =IFERROR(VLOOKUP(E42,'MS1'!$B$1:$C$161,2,0),0) -> 564.99699 | G42: =IFERROR(VLOOKUP($B42,'MS2'!$A$1:$B$160,2,0),"0") -> 0 | H42: =IFERROR(VLOOKUP(G42,'MS2'!$B$1:$C$161,2,0),0) -> 0 | I42: =IFERROR(VLOOKUP($B42,'MS3'!$A$1:$B$161,2,0),0) -> 57 | J42: =IFERROR(VLOOKUP(I42,'MS3'!$B$1:$C$161,2,0),0) -> 224.01816 | K42: =IFERROR(VLOOKUP($B42,'MS4'!$A$1:$B$160,2,0),"0") -> 1 | L42: =IFERROR(VLOOKUP(K42,'MS4'!$B$1:$C$161,2,0),0) -> 2254.6432 | M42: =IFERROR(VLOOKUP($B42,'MS5'!$A$1:$B$160,2,0),"0") -> 50 | N42: =IFERROR(VLOOKUP(M42,'MS5'!$B$1:$C$161,2,0),0) -> 174.89823 | O42: =IFERROR(VLOOKUP($B42,'MS6'!$A$1:$B$160,2,0),"0") -> 53 | P42: =IFERROR(VLOOKUP(O42,'MS6'!$B$1:$C$161,2,0),0) -> 198.15461 | Q42: =IFERROR(VLOOKUP($B42,'MS7'!$A$1:$B$160,2,0),"0") -> 42 | R42: =IFERROR(VLOOKUP(Q42,'MS7'!$B$1:$C$161,2,0),0) -> 363.5902 | S42: =IFERROR(VLOOKUP($B42,'MS8'!$A$1:$B$160,2,0),"0") -> 56 | T42: =IFERROR(VLOOKUP(S42,'MS8'!$B$1:$C$161,2,0),0) -> 158.79964 | U42: =IFERROR(VLOOKUP($B42,'MS9'!$A$1:$B$160,2,0),"0") -> 46 | V42: =IFERROR(VLOOKUP(U42,'MS9'!$B$1:$C$161,2,0),0) -> 265.32158 | W42: =IFERROR(VLOOKUP($B42,'MS10'!$A$1:$B$160,2,0),"0") -> 0 | X42: =IFERROR(VLOOKUP(W42,'MS10'!$B$1:$C$161,2,0),0) -> 0 | Y42: =IFERROR(VLOOKUP($B42,'MS11'!$A$1:$B$160,2,0),"0") -> 0 | Z42: =IFERROR(VLOOKUP(Y42,'MS11'!$B$1:$C$161,2,0),0) -> 0 | AA42: =IFERROR(VLOOKUP($B42,'MS12'!$A$1:$B$160,2,0),"0") -> 13 | AB42: =IFERROR(VLOOKUP(AA42,'MS12'!$B$1:$C$161,2,0),0) -> 740.5684 | AC42: =IFERROR(VLOOKUP($B42,'MS13'!$A$1:$B$160,2,0),"0") -> 0 | AD42: =IFERROR(VLOOKUP(AC42,'MS13'!$B$1:$C$161,2,0),0) -> 0 | AE42: =IFERROR(__xludf.DUMMYFUNCTION("""COMPUTED_VALUE"""),"SINGE7") -> SINGE7 | AF42: =SUM(AG42:AR42)-small((AG42:AR42),1)-small((AG42:AR42),2) -> 3637.9357 | AG42: =IFERROR(VLOOKUP($AE42,'MS1'!$A$1:$C$161,3,0),0) -> 378.85105 | AH42: =IFERROR(VLOOKUP($AE42,'MS2'!$A$1:$C$161,3,0),0) -> 1218.6687 | AI42: =IFERROR(VLOOKUP($AE42,'MS3'!$A$1:$C$161,3,0),0) -> 548.05061 | AJ42: =IFERROR(VLOOKUP($AE42,'MS4'!$A$1:$C$161,3,0),0) -> 111.40877 | AK42: =IFERROR(VLOOKUP($AE42,'MS5'!$A$1:$C$161,3,0),0) -> 0 | AL42: =IFERROR(VLOOKUP($AE42,'MS6'!$A$1:$C$161,3,0),0) -> 636.32398 | AM42: =IFERROR(VLOOKUP($AE42,'MS7'!$A$1:$C$161,3,0),0) -> 169.1794 | AN42: =IFERROR(VLOOKUP($AE42,'MS8'!$A$1:$C$161,3,0),0) -> 23.35955 | AO42: =IFERROR(VLOOKUP($AE42,'MS9'!$A$1:$C$161,3,0),0) -> 493.8823 | AP42: =IFERROR(VLOOKUP($AE42,'MS10'!$A$1:$C$161,3,0),0) -> 0 | AQ42: =IFERROR(VLOOKUP($AE42,'MS11'!$A$1:$C$161,3,0),0) -> 0 | AR42: =IFERROR(VLOOKUP($AE42,'MS12'!$A$1:$C$161,3,0),0) -> 58.21141 | AS42: =IFERROR(VLOOKUP($AE42,'MS13'!$A$1:$C$161,3,0),0) -> 0
A43: =ROW()-1 -> 42 | B43: Spyke 22 | C43: 4888.0553 | E43: =IFERROR(VLOOKUP($B43,'MS1'!$A$1:$B$160,2,0),"0") -> 58 | F43: =IFERROR(VLOOKUP(E43,'MS1'!$B$1:$C$161,2,0),0) -> 143.74432 | G43: =IFERROR(VLOOKUP($B43,'MS2'!$A$1:$B$160,2,0),"0") -> 14 | H43: =IFERROR(VLOOKUP(G43,'MS2'!$B$1:$C$161,2,0),0) -> 957.02322 | I43: =IFERROR(VLOOKUP($B43,'MS3'!$A$1:$B$161,2,0),0) -> 9 | J43: =IFERROR(VLOOKUP(I43,'MS3'!$B$1:$C$161,2,0),0) -> 1208.2873 | K43: =IFERROR(VLOOKUP($B43,'MS4'!$A$1:$B$160,2,0),"0") -> 51 | L43: =IFERROR(VLOOKUP(K43,'MS4'!$B$1:$C$161,2,0),0) -> 204.53203 | M43: =IFERROR(VLOOKUP($B43,'MS5'!$A$1:$B$160,2,0),"0") -> 17 | N43: =IFERROR(VLOOKUP(M43,'MS5'!$B$1:$C$161,2,0),0) -> 810.45737 | O43: =IFERROR(VLOOKUP($B43,'MS6'!$A$1:$B$160,2,0),"0") -> 0 | P43: =IFERROR(VLOOKUP(O43,'MS6'!$B$1:$C$161,2,0),0) -> 0 | Q43: =IFERROR(VLOOKUP($B43,'MS7'!$A$1:$B$160,2,0),"0") -> 0 | R43: =IFERROR(VLOOKUP(Q43,'MS7'!$B$1:$C$161,2,0),0) -> 0 | S43: =IFERROR(VLOOKUP($B43,'MS8'!$A$1:$B$160,2,0),"0") -> 0 | T43: =IFERROR(VLOOKUP(S43,'MS8'!$B$1:$C$161,2,0),0) -> 0 | U43: =IFERROR(VLOOKUP($B43,'MS9'!$A$1:$B$160,2,0),"0") -> 53 | V43: =IFERROR(VLOOKUP(U43,'MS9'!$B$1:$C$161,2,0),0) -> 166.45867 | W43: =IFERROR(VLOOKUP($B43,'MS10'!$A$1:$B$160,2,0),"0") -> 34 | X43: =IFERROR(VLOOKUP(W43,'MS10'!$B$1:$C$161,2,0),0) -> 448.63891 | Y43: =IFERROR(VLOOKUP($B43,'MS11'!$A$1:$B$160,2,0),"0") -> 22 | Z43: =IFERROR(VLOOKUP(Y43,'MS11'!$B$1:$C$161,2,0),0) -> 677.27144 | AA43: =IFERROR(VLOOKUP($B43,'MS12'!$A$1:$B$160,2,0),"0") -> 29 | AB43: =IFERROR(VLOOKUP(AA43,'MS12'!$B$1:$C$161,2,0),0) -> 271.64197 | AC43: =IFERROR(VLOOKUP($B43,'MS13'!$A$1:$B$160,2,0),"0") -> 0 | AD43: =IFERROR(VLOOKUP(AC43,'MS13'!$B$1:$C$161,2,0),0) -> 0 | AE43: =IFERROR(__xludf.DUMMYFUNCTION("""COMPUTED_VALUE"""),"Mistral86") -> Mistral86 | AF43: =SUM(AG43:AR43)-small((AG43:AR43),1)-small((AG43:AR43),2) -> 2597.3795 | AG43: =IFERROR(VLOOKUP($AE43,'MS1'!$A$1:$C$161,3,0),0) -> 363.5902 | AH43: =IFERROR(VLOOKUP($AE43,'MS2'!$A$1:$C$161,3,0),0) -> 0 | AI43: =IFERROR(VLOOKUP($AE43,'MS3'!$A$1:$C$161,3,0),0) -> 0 | AJ43: =IFERROR(VLOOKUP($AE43,'MS4'!$A$1:$C$161,3,0),0) -> 0 | AK43: =IFERROR(VLOOKUP($AE43,'MS5'!$A$1:$C$161,3,0),0) -> 327.18803 | AL43: =IFERROR(VLOOKUP($AE43,'MS6'!$A$1:$C$161,3,0),0) -> 0 | AM43: =IFERROR(VLOOKUP($AE43,'MS7'!$A$1:$C$161,3,0),0) -> 0 | AN43: =IFERROR(VLOOKUP($AE43,'MS8'!$A$1:$C$161,3,0),0) -> 433.5635 | AO43: =IFERROR(VLOOKUP($AE43,'MS9'!$A$1:$C$161,3,0),0) -> 1043.3897 | AP43: =IFERROR(VLOOKUP($AE43,'MS10'!$A$1:$C$161,3,0),0) -> 0 | AQ43: =IFERROR(VLOOKUP($AE43,'MS11'!$A$1:$C$161,3,0),0) -> 429.64805 | AR43: =IFERROR(VLOOKUP($AE43,'MS12'!$A$1:$C$161,3,0),0) -> 0 | AS43: =IFERROR(VLOOKUP($AE43,'MS13'!$A$1:$C$161,3,0),0) -> 0
A44: =ROW()-1 -> 43 | B44: rastamokett | C44: 4880.0036 | E44: =IFERROR(VLOOKUP($B44,'MS1'!$A$1:$B$160,2,0),"0") -> 0 | F44: =IFERROR(VLOOKUP(E44,'MS1'!$B$1:$C$161,2,0),0) -> 0 | G44: =IFERROR(VLOOKUP($B44,'MS2'!$A$1:$B$160,2,0),"0") -> 57 | H44: =IFERROR(VLOOKUP(G44,'MS2'!$B$1:$C$161,2,0),0) -> 156.40157 | I44: =IFERROR(VLOOKUP($B44,'MS3'!$A$1:$B$161,2,0),0) -> 64 | J44: =IFERROR(VLOOKUP(I44,'MS3'!$B$1:$C$161,2,0),0) -> 141.45565 | K44: =IFERROR(VLOOKUP($B44,'MS4'!$A$1:$B$160,2,0),"0") -> 0 | L44: =IFERROR(VLOOKUP(K44,'MS4'!$B$1:$C$161,2,0),0) -> 0 | M44: =IFERROR(VLOOKUP($B44,'MS5'!$A$1:$B$160,2,0),"0") -> 60 | N44: =IFERROR(VLOOKUP(M44,'MS5'!$B$1:$C$161,2,0),0) -> 38.562752 | O44: =IFERROR(VLOOKUP($B44,'MS6'!$A$1:$B$160,2,0),"0") -> 6 | P44: =IFERROR(VLOOKUP(O44,'MS6'!$B$1:$C$161,2,0),0) -> 1345.1041 | Q44: =IFERROR(VLOOKUP($B44,'MS7'!$A$1:$B$160,2,0),"0") -> 49 | R44: =IFERROR(VLOOKUP(Q44,'MS7'!$B$1:$C$161,2,0),0) -> 262.38363 | S44: =IFERROR(VLOOKUP($B44,'MS8'!$A$1:$B$160,2,0),"0") -> 11 | T44: =IFERROR(VLOOKUP(S44,'MS8'!$B$1:$C$161,2,0),0) -> 1064.2239 | U44: =IFERROR(VLOOKUP($B44,'MS9'!$A$1:$B$160,2,0),"0") -> 8 | V44: =IFERROR(VLOOKUP(U44,'MS9'!$B$1:$C$161,2,0),0) -> 1191.4821 | W44: =IFERROR(VLOOKUP($B44,'MS10'!$A$1:$B$160,2,0),"0") -> 61 | X44: =IFERROR(VLOOKUP(W44,'MS10'!$B$1:$C$161,2,0),0) -> 50.018712 | Y44: =IFERROR(VLOOKUP($B44,'MS11'!$A$1:$B$160,2,0),"0") -> 24 | Z44: =IFERROR(VLOOKUP(Y44,'MS11'!$B$1:$C$161,2,0),0) -> 630.37121 | AA44: =IFERROR(VLOOKUP($B44,'MS12'!$A$1:$B$160,2,0),"0") -> 0 | AB44: =IFERROR(VLOOKUP(AA44,'MS12'!$B$1:$C$161,2,0),0) -> 0 | AC44: =IFERROR(VLOOKUP($B44,'MS13'!$A$1:$B$160,2,0),"0") -> 0 | AD44: =IFERROR(VLOOKUP(AC44,'MS13'!$B$1:$C$161,2,0),0) -> 0 | AE44: =IFERROR(__xludf.DUMMYFUNCTION("""COMPUTED_VALUE"""),"titounio") -> titounio | AF44: =SUM(AG44:AR44)-small((AG44:AR44),1)-small((AG44:AR44),2) -> 9367.9583 | AG44: =IFERROR(VLOOKUP($AE44,'MS1'!$A$1:$C$161,3,0),0) -> 348.54841 | AH44: =IFERROR(VLOOKUP($AE44,'MS2'!$A$1:$C$161,3,0),0) -> 0 | AI44: =IFERROR(VLOOKUP($AE44,'MS3'!$A$1:$C$161,3,0),0) -> 1002.3756 | AJ44: =IFERROR(VLOOKUP($AE44,'MS4'!$A$1:$C$161,3,0),0) -> 734.06902 | AK44: =IFERROR(VLOOKUP($AE44,'MS5'!$A$1:$C$161,3,0),0) -> 727.43724 | AL44: =IFERROR(VLOOKUP($AE44,'MS6'!$A$1:$C$161,3,0),0) -> 2272.2812 | AM44: =IFERROR(VLOOKUP($AE44,'MS7'!$A$1:$C$161,3,0),0) -> 665.26392 | AN44: =IFERROR(VLOOKUP($AE44,'MS8'!$A$1:$C$161,3,0),0) -> 1535.8596 | AO44: =IFERROR(VLOOKUP($AE44,'MS9'!$A$1:$C$161,3,0),0) -> 236.26219 | AP44: =IFERROR(VLOOKUP($AE44,'MS10'!$A$1:$C$161,3,0),0) -> 1129.8801 | AQ44: =IFERROR(VLOOKUP($AE44,'MS11'!$A$1:$C$161,3,0),0) -> 504.45009 | AR44: =IFERROR(VLOOKUP($AE44,'MS12'!$A$1:$C$161,3,0),0) -> 447.79305 | AS44: =IFERROR(VLOOKUP($AE44,'MS13'!$A$1:$C$161,3,0),0) -> 0
A45: =ROW()-1 -> 44 | B45: _Macash_ | C45: 4878.6899 | E45: =IFERROR(VLOOKUP($B45,'MS1'!$A$1:$B$160,2,0),"0") -> 31 | F45: =IFERROR(VLOOKUP(E45,'MS1'!$B$1:$C$161,2,0),0) -> 546.37477 | G45: =IFERROR(VLOOKUP($B45,'MS2'!$A$1:$B$160,2,0),"0") -> 24 | H45: =IFERROR(VLOOKUP(G45,'MS2'!$B$1:$C$161,2,0),0) -> 687.02332 | I45: =IFERROR(VLOOKUP($B45,'MS3'!$A$1:$B$161,2,0),0) -> 49 | J45: =IFERROR(VLOOKUP(I45,'MS3'!$B$1:$C$161,2,0),0) -> 325.7099 | K45: =IFERROR(VLOOKUP($B45,'MS4'!$A$1:$B$160,2,0),"0") -> 14 | L45: =IFERROR(VLOOKUP(K45,'MS4'!$B$1:$C$161,2,0),0) -> 936.00409 | M45: =IFERROR(VLOOKUP($B45,'MS5'!$A$1:$B$160,2,0),"0") -> 0 | N45: =IFERROR(VLOOKUP(M45,'MS5'!$B$1:$C$161,2,0),0) -> 0 | O45: =IFERROR(VLOOKUP($B45,'MS6'!$A$1:$B$160,2,0),"0") -> 36 | P45: =IFERROR(VLOOKUP(O45,'MS6'!$B$1:$C$161,2,0),0) -> 450.18548 | Q45: =IFERROR(VLOOKUP($B45,'MS7'!$A$1:$B$160,2,0),"0") -> 0 | R45: =IFERROR(VLOOKUP(Q45,'MS7'!$B$1:$C$161,2,0),0) -> 0 | S45: =IFERROR(VLOOKUP($B45,'MS8'!$A$1:$B$160,2,0),"0") -> 0 | T45: =IFERROR(VLOOKUP(S45,'MS8'!$B$1:$C$161,2,0),0) -> 0 | U45: =IFERROR(VLOOKUP($B45,'MS9'!$A$1:$B$160,2,0),"0") -> 0 | V45: =IFERROR(VLOOKUP(U45,'MS9'!$B$1:$C$161,2,0),0) -> 0 | W45: =IFERROR(VLOOKUP($B45,'MS10'!$A$1:$B$160,2,0),"0") -> 0 | X45: =IFERROR(VLOOKUP(W45,'MS10'!$B$1:$C$161,2,0),0) -> 0 | Y45: =IFERROR(VLOOKUP($B45,'MS11'!$A$1:$B$160,2,0),"0") -> 2 | Z45: =IFERROR(VLOOKUP(Y45,'MS11'!$B$1:$C$161,2,0),0) -> 1835.0881 | AA45: =IFERROR(VLOOKUP($B45,'MS12'!$A$1:$B$160,2,0),"0") -> 37 | AB45: =IFERROR(VLOOKUP(AA45,'MS12'!$B$1:$C$161,2,0),0) -> 98.304318 | AC45: =IFERROR(VLOOKUP($B45,'MS13'!$A$1:$B$160,2,0),"0") -> 0 | AD45: =IFERROR(VLOOKUP(AC45,'MS13'!$B$1:$C$161,2,0),0) -> 0 | AE45: =IFERROR(__xludf.DUMMYFUNCTION("""COMPUTED_VALUE"""),"iOneGeek") -> iOneGeek | AF45: =SUM(AG45:AR45)-small((AG45:AR45),1)-small((AG45:AR45),2) -> 2544.9393 | AG45: =IFERROR(VLOOKUP($AE45,'MS1'!$A$1:$C$161,3,0),0) -> 333.7157 | AH45: =IFERROR(VLOOKUP($AE45,'MS2'!$A$1:$C$161,3,0),0) -> 0 | AI45: =IFERROR(VLOOKUP($AE45,'MS3'!$A$1:$C$161,3,0),0) -> 10.423619 | AJ45: =IFERROR(VLOOKUP($AE45,'MS4'!$A$1:$C$161,3,0),0) -> 0 | AK45: =IFERROR(VLOOKUP($AE45,'MS5'!$A$1:$C$161,3,0),0) -> 564.99699 | AL45: =IFERROR(VLOOKUP($AE45,'MS6'!$A$1:$C$161,3,0),0) -> 83.359152 | AM45: =IFERROR(VLOOKUP($AE45,'MS7'!$A$1:$C$161,3,0),0) -> 0 | AN45: =IFERROR(VLOOKUP($AE45,'MS8'!$A$1:$C$161,3,0),0) -> 324.36203 | AO45: =IFERROR(VLOOKUP($AE45,'MS9'!$A$1:$C$161,3,0),0) -> 1002.3756 | AP45: =IFERROR(VLOOKUP($AE45,'MS10'!$A$1:$C$161,3,0),0) -> 225.70625 | AQ45: =IFERROR(VLOOKUP($AE45,'MS11'!$A$1:$C$161,3,0),0) -> 0 | AR45: =IFERROR(VLOOKUP($AE45,'MS12'!$A$1:$C$161,3,0),0) -> 0 | AS45: =IFERROR(VLOOKUP($AE45,'MS13'!$A$1:$C$161,3,0),0) -> 0
A46: =ROW()-1 -> 45 | B46: Sharky | C46: 4764.2254 | E46: =IFERROR(VLOOKUP($B46,'MS1'!$A$1:$B$160,2,0),"0") -> 0 | F46: =IFERROR(VLOOKUP(E46,'MS1'!$B$1:$C$161,2,0),0) -> 0 | G46: =IFERROR(VLOOKUP($B46,'MS2'!$A$1:$B$160,2,0),"0") -> 0 | H46: =IFERROR(VLOOKUP(G46,'MS2'!$B$1:$C$161,2,0),0) -> 0 | I46: =IFERROR(VLOOKUP($B46,'MS3'!$A$1:$B$161,2,0),0) -> 0 | J46: =IFERROR(VLOOKUP(I46,'MS3'!$B$1:$C$161,2,0),0) -> 0 | K46: =IFERROR(VLOOKUP($B46,'MS4'!$A$1:$B$160,2,0),"0") -> 0 | L46: =IFERROR(VLOOKUP(K46,'MS4'!$B$1:$C$161,2,0),0) -> 0 | M46: =IFERROR(VLOOKUP($B46,'MS5'!$A$1:$B$160,2,0),"0") -> 30 | N46: =IFERROR(VLOOKUP(M46,'MS5'!$B$1:$C$161,2,0),0) -> 504.45009 | O46: =IFERROR(VLOOKUP($B46,'MS6'!$A$1:$B$160,2,0),"0") -> 0 | P46: =IFERROR(VLOOKUP(O46,'MS6'!$B$1:$C$161,2,0),0) -> 0 | Q46: =IFERROR(VLOOKUP($B46,'MS7'!$A$1:$B$160,2,0),"0") -> 23 | R46: =IFERROR(VLOOKUP(Q46,'MS7'!$B$1:$C$161,2,0),0) -> 709.46726 | S46: =IFERROR(VLOOKUP($B46,'MS8'!$A$1:$B$160,2,0),"0") -> 5 | T46: =IFERROR(VLOOKUP(S46,'MS8'!$B$1:$C$161,2,0),0) -> 1430.1798 | U46: =IFERROR(VLOOKUP($B46,'MS9'!$A$1:$B$160,2,0),"0") -> 3 | V46: =IFERROR(VLOOKUP(U46,'MS9'!$B$1:$C$161,2,0),0) -> 1653.8354 | W46: =IFERROR(VLOOKUP($B46,'MS10'!$A$1:$B$160,2,0),"0") -> 0 | X46: =IFERROR(VLOOKUP(W46,'MS10'!$B$1:$C$161,2,0),0) -> 0 | Y46: =IFERROR(VLOOKUP($B46,'MS11'!$A$1:$B$160,2,0),"0") -> 32 | Z46: =IFERROR(VLOOKUP(Y46,'MS11'!$B$1:$C$161,2,0),0) -> 466.29287 | AA46: =IFERROR(VLOOKUP($B46,'MS12'!$A$1:$B$160,2,0),"0") -> 0 | AB46: =IFERROR(VLOOKUP(AA46,'MS12'!$B$1:$C$161,2,0),0) -> 0 | AC46: =IFERROR(VLOOKUP($B46,'MS13'!$A$1:$B$160,2,0),"0") -> 0 | AD46: =IFERROR(VLOOKUP(AC46,'MS13'!$B$1:$C$161,2,0),0) -> 0 | AE46: =IFERROR(__xludf.DUMMYFUNCTION("""COMPUTED_VALUE"""),"Chuckandier") -> Chuckandier | AF46: =SUM(AG46:AR46)-small((AG46:AR46),1)-small((AG46:AR46),2) -> 6548.7104 | AG46: =IFERROR(VLOOKUP($AE46,'MS1'!$A$1:$C$161,3,0),0) -> 319.08276 | AH46: =IFERROR(VLOOKUP($AE46,'MS2'!$A$1:$C$161,3,0),0) -> 0 | AI46: =IFERROR(VLOOKUP($AE46,'MS3'!$A$1:$C$161,3,0),0) -> 1262.6952 | AJ46: =IFERROR(VLOOKUP($AE46,'MS4'!$A$1:$C$161,3,0),0) -> 1331.4532 | AK46: =IFERROR(VLOOKUP($AE46,'MS5'!$A$1:$C$161,3,0),0) -> 466.29287 | AL46: =IFERROR(VLOOKUP($AE46,'MS6'!$A$1:$C$161,3,0),0) -> 0 | AM46: =IFERROR(VLOOKUP($AE46,'MS7'!$A$1:$C$161,3,0),0) -> 426.05978 | AN46: =IFERROR(VLOOKUP($AE46,'MS8'!$A$1:$C$161,3,0),0) -> 501.91154 | AO46: =IFERROR(VLOOKUP($AE46,'MS9'!$A$1:$C$161,3,0),0) -> 512.45963 | AP46: =IFERROR(VLOOKUP($AE46,'MS10'!$A$1:$C$161,3,0),0) -> 1184.4244 | AQ46: =IFERROR(VLOOKUP($AE46,'MS11'!$A$1:$C$161,3,0),0) -> 544.33105 | AR46: =IFERROR(VLOOKUP($AE46,'MS12'!$A$1:$C$161,3,0),0) -> 0 | AS46: =IFERROR(VLOOKUP($AE46,'MS13'!$A$1:$C$161,3,0),0) -> 0
A47: =ROW()-1 -> 46 | B47: Mikalack | C47: 4705.3111 | E47: =IFERROR(VLOOKUP($B47,'MS1'!$A$1:$B$160,2,0),"0") -> 63 | F47: =IFERROR(VLOOKUP(E47,'MS1'!$B$1:$C$161,2,0),0) -> 82.135208 | G47: =IFERROR(VLOOKUP($B47,'MS2'!$A$1:$B$160,2,0),"0") -> 23 | H47: =IFERROR(VLOOKUP(G47,'MS2'!$B$1:$C$161,2,0),0) -> 709.46726 | I47: =IFERROR(VLOOKUP($B47,'MS3'!$A$1:$B$161,2,0),0) -> 67 | J47: =IFERROR(VLOOKUP(I47,'MS3'!$B$1:$C$161,2,0),0) -> 107.57299 | K47: =IFERROR(VLOOKUP($B47,'MS4'!$A$1:$B$160,2,0),"0") -> 31 | L47: =IFERROR(VLOOKUP(K47,'MS4'!$B$1:$C$161,2,0),0) -> 521.18987 | M47: =IFERROR(VLOOKUP($B47,'MS5'!$A$1:$B$160,2,0),"0") -> 4 | N47: =IFERROR(VLOOKUP(M47,'MS5'!$B$1:$C$161,2,0),0) -> 1492.5249 | O47: =IFERROR(VLOOKUP($B47,'MS6'!$A$1:$B$160,2,0),"0") -> 59 | P47: =IFERROR(VLOOKUP(O47,'MS6'!$B$1:$C$161,2,0),0) -> 120.57025 | Q47: =IFERROR(VLOOKUP($B47,'MS7'!$A$1:$B$160,2,0),"0") -> 14 | R47: =IFERROR(VLOOKUP(Q47,'MS7'!$B$1:$C$161,2,0),0) -> 957.02322 | S47: =IFERROR(VLOOKUP($B47,'MS8'!$A$1:$B$160,2,0),"0") -> 47 | T47: =IFERROR(VLOOKUP(S47,'MS8'!$B$1:$C$161,2,0),0) -> 280.77044 | U47: =IFERROR(VLOOKUP($B47,'MS9'!$A$1:$B$160,2,0),"0") -> 0 | V47: =IFERROR(VLOOKUP(U47,'MS9'!$B$1:$C$161,2,0),0) -> 0 | W47: =IFERROR(VLOOKUP($B47,'MS10'!$A$1:$B$160,2,0),"0") -> 56 | X47: =IFERROR(VLOOKUP(W47,'MS10'!$B$1:$C$161,2,0),0) -> 114.97422 | Y47: =IFERROR(VLOOKUP($B47,'MS11'!$A$1:$B$160,2,0),"0") -> 0 | Z47: =IFERROR(VLOOKUP(Y47,'MS11'!$B$1:$C$161,2,0),0) -> 0 | AA47: =IFERROR(VLOOKUP($B47,'MS12'!$A$1:$B$160,2,0),"0") -> 27 | AB47: =IFERROR(VLOOKUP(AA47,'MS12'!$B$1:$C$161,2,0),0) -> 319.08276 | AC47: =IFERROR(VLOOKUP($B47,'MS13'!$A$1:$B$160,2,0),"0") -> 0 | AD47: =IFERROR(VLOOKUP(AC47,'MS13'!$B$1:$C$161,2,0),0) -> 0 | AE47: =IFERROR(__xludf.DUMMYFUNCTION("""COMPUTED_VALUE"""),"8kinder6") -> 8kinder6 | AF47: =SUM(AG47:AR47)-small((AG47:AR47),1)-small((AG47:AR47),2) -> 9401.2846 | AG47: =IFERROR(VLOOKUP($AE47,'MS1'!$A$1:$C$161,3,0),0) -> 304.64092 | AH47: =IFERROR(VLOOKUP($AE47,'MS2'!$A$1:$C$161,3,0),0) -> 248.63024 | AI47: =IFERROR(VLOOKUP($AE47,'MS3'!$A$1:$C$161,3,0),0) -> 352.62957 | AJ47: =IFERROR(VLOOKUP($AE47,'MS4'!$A$1:$C$161,3,0),0) -> 1094.9864 | AK47: =IFERROR(VLOOKUP($AE47,'MS5'!$A$1:$C$161,3,0),0) -> 906.25131 | AL47: =IFERROR(VLOOKUP($AE47,'MS6'!$A$1:$C$161,3,0),0) -> 1535.8596 | AM47: =IFERROR(VLOOKUP($AE47,'MS7'!$A$1:$C$161,3,0),0) -> 603.56805 | AN47: =IFERROR(VLOOKUP($AE47,'MS8'!$A$1:$C$161,3,0),0) -> 238.76148 | AO47: =IFERROR(VLOOKUP($AE47,'MS9'!$A$1:$C$161,3,0),0) -> 833.71168 | AP47: =IFERROR(VLOOKUP($AE47,'MS10'!$A$1:$C$161,3,0),0) -> 197.13046 | AQ47: =IFERROR(VLOOKUP($AE47,'MS11'!$A$1:$C$161,3,0),0) -> 2218.0752 | AR47: =IFERROR(VLOOKUP($AE47,'MS12'!$A$1:$C$161,3,0),0) -> 1302.9316 | AS47: =IFERROR(VLOOKUP($AE47,'MS13'!$A$1:$C$161,3,0),0) -> 0
A48: =ROW()-1 -> 47 | B48: elvasco | C48: 4672.7347 | E48: =IFERROR(VLOOKUP($B48,'MS1'!$A$1:$B$160,2,0),"0") -> 26 | F48: =IFERROR(VLOOKUP(E48,'MS1'!$B$1:$C$161,2,0),0) -> 644.13337 | G48: =IFERROR(VLOOKUP($B48,'MS2'!$A$1:$B$160,2,0),"0") -> 36 | H48: =IFERROR(VLOOKUP(G48,'MS2'!$B$1:$C$161,2,0),0) -> 458.84896 | I48: =IFERROR(VLOOKUP($B48,'MS3'!$A$1:$B$161,2,0),0) -> 0 | J48: =IFERROR(VLOOKUP(I48,'MS3'!$B$1:$C$161,2,0),0) -> 0 | K48: =IFERROR(VLOOKUP($B48,'MS4'!$A$1:$B$160,2,0),"0") -> 0 | L48: =IFERROR(VLOOKUP(K48,'MS4'!$B$1:$C$161,2,0),0) -> 0 | M48: =IFERROR(VLOOKUP($B48,'MS5'!$A$1:$B$160,2,0),"0") -> 0 | N48: =IFERROR(VLOOKUP(M48,'MS5'!$B$1:$C$161,2,0),0) -> 0 | O48: =IFERROR(VLOOKUP($B48,'MS6'!$A$1:$B$160,2,0),"0") -> 41 | P48: =IFERROR(VLOOKUP(O48,'MS6'!$B$1:$C$161,2,0),0) -> 369.75601 | Q48: =IFERROR(VLOOKUP($B48,'MS7'!$A$1:$B$160,2,0),"0") -> 45 | R48: =IFERROR(VLOOKUP(Q48,'MS7'!$B$1:$C$161,2,0),0) -> 319.08276 | S48: =IFERROR(VLOOKUP($B48,'MS8'!$A$1:$B$160,2,0),"0") -> 2 | T48: =IFERROR(VLOOKUP(S48,'MS8'!$B$1:$C$161,2,0),0) -> 1882.6538 | U48: =IFERROR(VLOOKUP($B48,'MS9'!$A$1:$B$160,2,0),"0") -> 33 | V48: =IFERROR(VLOOKUP(U48,'MS9'!$B$1:$C$161,2,0),0) -> 475.68285 | W48: =IFERROR(VLOOKUP($B48,'MS10'!$A$1:$B$160,2,0),"0") -> 35 | X48: =IFERROR(VLOOKUP(W48,'MS10'!$B$1:$C$161,2,0),0) -> 431.0317 | Y48: =IFERROR(VLOOKUP($B48,'MS11'!$A$1:$B$160,2,0),"0") -> 56 | Z48: =IFERROR(VLOOKUP(Y48,'MS11'!$B$1:$C$161,2,0),0) -> 91.545206 | AA48: =IFERROR(VLOOKUP($B48,'MS12'!$A$1:$B$160,2,0),"0") -> 0 | AB48: =IFERROR(VLOOKUP(AA48,'MS12'!$B$1:$C$161,2,0),0) -> 0 | AC48: =IFERROR(VLOOKUP($B48,'MS13'!$A$1:$B$160,2,0),"0") -> 0 | AD48: =IFERROR(VLOOKUP(AC48,'MS13'!$B$1:$C$161,2,0),0) -> 0 | AE48: =IFERROR(__xludf.DUMMYFUNCTION("""COMPUTED_VALUE"""),"LeYug") -> LeYug | AF48: =SUM(AG48:AR48)-small((AG48:AR48),1)-small((AG48:AR48),2) -> 372.5173 | AG48: =IFERROR(VLOOKUP($AE48,'MS1'!$A$1:$C$161,3,0),0) -> 290.38209 | AH48: =IFERROR(VLOOKUP($AE48,'MS2'!$A$1:$C$161,3,0),0) -> 82.135208 | AI48: =IFERROR(VLOOKUP($AE48,'MS3'!$A$1:$C$161,3,0),0) -> 0 | AJ48: =IFERROR(VLOOKUP($AE48,'MS4'!$A$1:$C$161,3,0),0) -> 0 | AK48: =IFERROR(VLOOKUP($AE48,'MS5'!$A$1:$C$161,3,0),0) -> 0 | AL48: =IFERROR(VLOOKUP($AE48,'MS6'!$A$1:$C$161,3,0),0) -> 0 | AM48: =IFERROR(VLOOKUP($AE48,'MS7'!$A$1:$C$161,3,0),0) -> 0 | AN48: =IFERROR(VLOOKUP($AE48,'MS8'!$A$1:$C$161,3,0),0) -> 0 | AO48: =IFERROR(VLOOKUP($AE48,'MS9'!$A$1:$C$161,3,0),0) -> 0 | AP48: =IFERROR(VLOOKUP($AE48,'MS10'!$A$1:$C$161,3,0),0) -> 0 | AQ48: =IFERROR(VLOOKUP($AE48,'MS11'!$A$1:$C$161,3,0),0) -> 0 | AR48: =IFERROR(VLOOKUP($AE48,'MS12'!$A$1:$C$161,3,0),0) -> 0 | AS48: =IFERROR(VLOOKUP($AE48,'MS13'!$A$1:$C$161,3,0),0) -> 0
A49: =ROW()-1 -> 48 | B49: ..mamat86.. | C49: 4617.2724 | E49: =IFERROR(VLOOKUP($B49,'MS1'!$A$1:$B$160,2,0),"0") -> 27 | F49: =IFERROR(VLOOKUP(E49,'MS1'!$B$1:$C$161,2,0),0) -> 623.58258 | G49: =IFERROR(VLOOKUP($B49,'MS2'!$A$1:$B$160,2,0),"0") -> 43 | H49: =IFERROR(VLOOKUP(G49,'MS2'!$B$1:$C$161,2,0),0) -> 348.54841 | I49: =IFERROR(VLOOKUP($B49,'MS3'!$A$1:$B$161,2,0),0) -> 37 | J49: =IFERROR(VLOOKUP(I49,'MS3'!$B$1:$C$161,2,0),0) -> 499.15049 | K49: =IFERROR(VLOOKUP($B49,'MS4'!$A$1:$B$160,2,0),"0") -> 20 | L49: =IFERROR(VLOOKUP(K49,'MS4'!$B$1:$C$161,2,0),0) -> 759.23154 | M49: =IFERROR(VLOOKUP($B49,'MS5'!$A$1:$B$160,2,0),"0") -> 13 | N49: =IFERROR(VLOOKUP(M49,'MS5'!$B$1:$C$161,2,0),0) -> 942.03869 | O49: =IFERROR(VLOOKUP($B49,'MS6'!$A$1:$B$160,2,0),"0") -> 51 | P49: =IFERROR(VLOOKUP(O49,'MS6'!$B$1:$C$161,2,0),0) -> 225.07804 | Q49: =IFERROR(VLOOKUP($B49,'MS7'!$A$1:$B$160,2,0),"0") -> 0 | R49: =IFERROR(VLOOKUP(Q49,'MS7'!$B$1:$C$161,2,0),0) -> 0 | S49: =IFERROR(VLOOKUP($B49,'MS8'!$A$1:$B$160,2,0),"0") -> 25 | T49: =IFERROR(VLOOKUP(S49,'MS8'!$B$1:$C$161,2,0),0) -> 657.53798 | U49: =IFERROR(VLOOKUP($B49,'MS9'!$A$1:$B$160,2,0),"0") -> 0 | V49: =IFERROR(VLOOKUP(U49,'MS9'!$B$1:$C$161,2,0),0) -> 0 | W49: =IFERROR(VLOOKUP($B49,'MS10'!$A$1:$B$160,2,0),"0") -> 28 | X49: =IFERROR(VLOOKUP(W49,'MS10'!$B$1:$C$161,2,0),0) -> 562.10466 | Y49: =IFERROR(VLOOKUP($B49,'MS11'!$A$1:$B$160,2,0),"0") -> 0 | Z49: =IFERROR(VLOOKUP(Y49,'MS11'!$B$1:$C$161,2,0),0) -> 0 | AA49: =IFERROR(VLOOKUP($B49,'MS12'!$A$1:$B$160,2,0),"0") -> 0 | AB49: =IFERROR(VLOOKUP(AA49,'MS12'!$B$1:$C$161,2,0),0) -> 0 | AC49: =IFERROR(VLOOKUP($B49,'MS13'!$A$1:$B$160,2,0),"0") -> 0 | AD49: =IFERROR(VLOOKUP(AC49,'MS13'!$B$1:$C$161,2,0),0) -> 0 | AE49: =IFERROR(__xludf.DUMMYFUNCTION("""COMPUTED_VALUE"""),"pablo") -> pablo | AF49: =SUM(AG49:AR49)-small((AG49:AR49),1)-small((AG49:AR49),2) -> 1745.4016 | AG49: =IFERROR(VLOOKUP($AE49,'MS1'!$A$1:$C$161,3,0),0) -> 276.29869 | AH49: =IFERROR(VLOOKUP($AE49,'MS2'!$A$1:$C$161,3,0),0) -> 23.023388 | AI49: =IFERROR(VLOOKUP($AE49,'MS3'!$A$1:$C$161,3,0),0) -> 0 | AJ49: =IFERROR(VLOOKUP($AE49,'MS4'!$A$1:$C$161,3,0),0) -> 0 | AK49: =IFERROR(VLOOKUP($AE49,'MS5'!$A$1:$C$161,3,0),0) -> 0 | AL49: =IFERROR(VLOOKUP($AE49,'MS6'!$A$1:$C$161,3,0),0) -> 11.636596 | AM49: =IFERROR(VLOOKUP($AE49,'MS7'!$A$1:$C$161,3,0),0) -> 333.7157 | AN49: =IFERROR(VLOOKUP($AE49,'MS8'!$A$1:$C$161,3,0),0) -> 0 | AO49: =IFERROR(VLOOKUP($AE49,'MS9'!$A$1:$C$161,3,0),0) -> 1087.9779 | AP49: =IFERROR(VLOOKUP($AE49,'MS10'!$A$1:$C$161,3,0),0) -> 0 | AQ49: =IFERROR(VLOOKUP($AE49,'MS11'!$A$1:$C$161,3,0),0) -> 12.749309 | AR49: =IFERROR(VLOOKUP($AE49,'MS12'!$A$1:$C$161,3,0),0) -> 0 | AS49: =IFERROR(VLOOKUP($AE49,'MS13'!$A$1:$C$161,3,0),0) -> 0
A50: =ROW()-1 -> 49 | B50: KamehamehAS | C50: 4584.5276 | E50: =IFERROR(VLOOKUP($B50,'MS1'!$A$1:$B$160,2,0),"0") -> 0 | F50: =IFERROR(VLOOKUP(E50,'MS1'!$B$1:$C$161,2,0),0) -> 0 | G50: =IFERROR(VLOOKUP($B50,'MS2'!$A$1:$B$160,2,0),"0") -> 21 | H50: =IFERROR(VLOOKUP(G50,'MS2'!$B$1:$C$161,2,0),0) -> 756.67209 | I50: =IFERROR(VLOOKUP($B50,'MS3'!$A$1:$B$161,2,0),0) -> 33 | J50: =IFERROR(VLOOKUP(I50,'MS3'!$B$1:$C$161,2,0),0) -> 564.99699 | K50: =IFERROR(VLOOKUP($B50,'MS4'!$A$1:$B$160,2,0),"0") -> 50 | L50: =IFERROR(VLOOKUP(K50,'MS4'!$B$1:$C$161,2,0),0) -> 218.3938 | M50: =IFERROR(VLOOKUP($B50,'MS5'!$A$1:$B$160,2,0),"0") -> 0 | N50: =IFERROR(VLOOKUP(M50,'MS5'!$B$1:$C$161,2,0),0) -> 0 | O50: =IFERROR(VLOOKUP($B50,'MS6'!$A$1:$B$160,2,0),"0") -> 0 | P50: =IFERROR(VLOOKUP(O50,'MS6'!$B$1:$C$161,2,0),0) -> 0 | Q50: =IFERROR(VLOOKUP($B50,'MS7'!$A$1:$B$160,2,0),"0") -> 36 | R50: =IFERROR(VLOOKUP(Q50,'MS7'!$B$1:$C$161,2,0),0) -> 458.84896 | S50: =IFERROR(VLOOKUP($B50,'MS8'!$A$1:$B$160,2,0),"0") -> 38 | T50: =IFERROR(VLOOKUP(S50,'MS8'!$B$1:$C$161,2,0),0) -> 417.22369 | U50: =IFERROR(VLOOKUP($B50,'MS9'!$A$1:$B$160,2,0),"0") -> 6 | V50: =IFERROR(VLOOKUP(U50,'MS9'!$B$1:$C$161,2,0),0) -> 1324.4802 | W50: =IFERROR(VLOOKUP($B50,'MS10'!$A$1:$B$160,2,0),"0") -> 54 | X50: =IFERROR(VLOOKUP(W50,'MS10'!$B$1:$C$161,2,0),0) -> 141.8075 | Y50: =IFERROR(VLOOKUP($B50,'MS11'!$A$1:$B$160,2,0),"0") -> 55 | Z50: =IFERROR(VLOOKUP(Y50,'MS11'!$B$1:$C$161,2,0),0) -> 105.09544 | AA50: =IFERROR(VLOOKUP($B50,'MS12'!$A$1:$B$160,2,0),"0") -> 17 | AB50: =IFERROR(VLOOKUP(AA50,'MS12'!$B$1:$C$161,2,0),0) -> 597.00889 | AC50: =IFERROR(VLOOKUP($B50,'MS13'!$A$1:$B$160,2,0),"0") -> 0 | AD50: =IFERROR(VLOOKUP(AC50,'MS13'!$B$1:$C$161,2,0),0) -> 0 | AE50: =IFERROR(__xludf.DUMMYFUNCTION("""COMPUTED_VALUE"""),"vicmackey86") -> vicmackey86 | AF50: =SUM(AG50:AR50)-small((AG50:AR50),1)-small((AG50:AR50),2) -> 1921.88 | AG50: =IFERROR(VLOOKUP($AE50,'MS1'!$A$1:$C$161,3,0),0) -> 262.38363 | AH50: =IFERROR(VLOOKUP($AE50,'MS2'!$A$1:$C$161,3,0),0) -> 276.29869 | AI50: =IFERROR(VLOOKUP($AE50,'MS3'!$A$1:$C$161,3,0),0) -> 452.80235 | AJ50: =IFERROR(VLOOKUP($AE50,'MS4'!$A$1:$C$161,3,0),0) -> 0 | AK50: =IFERROR(VLOOKUP($AE50,'MS5'!$A$1:$C$161,3,0),0) -> 91.545206 | AL50: =IFERROR(VLOOKUP($AE50,'MS6'!$A$1:$C$161,3,0),0) -> 827.38038 | AM50: =IFERROR(VLOOKUP($AE50,'MS7'!$A$1:$C$161,3,0),0) -> 11.469756 | AN50: =IFERROR(VLOOKUP($AE50,'MS8'!$A$1:$C$161,3,0),0) -> 0 | AO50: =IFERROR(VLOOKUP($AE50,'MS9'!$A$1:$C$161,3,0),0) -> 0 | AP50: =IFERROR(VLOOKUP($AE50,'MS10'!$A$1:$C$161,3,0),0) -> 0 | AQ50: =IFERROR(VLOOKUP($AE50,'MS11'!$A$1:$C$161,3,0),0) -> 0 | AR50: =IFERROR(VLOOKUP($AE50,'MS12'!$A$1:$C$161,3,0),0) -> 0 | AS50: =IFERROR(VLOOKUP($AE50,'MS13'!$A$1:$C$161,3,0),0) -> 0
A51: =ROW()-1 -> 50 | B51: Gus enScene | C51: 4530.5684 | E51: =IFERROR(VLOOKUP($B51,'MS1'!$A$1:$B$160,2,0),"0") -> 12 | F51: =IFERROR(VLOOKUP(E51,'MS1'!$B$1:$C$161,2,0),0) -> 1030.1469 | G51: =IFERROR(VLOOKUP($B51,'MS2'!$A$1:$B$160,2,0),"0") -> 4 | H51: =IFERROR(VLOOKUP(G51,'MS2'!$B$1:$C$161,2,0),0) -> 1542.7494 | I51: =IFERROR(VLOOKUP($B51,'MS3'!$A$1:$B$161,2,0),0) -> 44 | J51: =IFERROR(VLOOKUP(I51,'MS3'!$B$1:$C$161,2,0),0) -> 394.34171 | K51: =IFERROR(VLOOKUP($B51,'MS4'!$A$1:$B$160,2,0),"0") -> 52 | L51: =IFERROR(VLOOKUP(K51,'MS4'!$B$1:$C$161,2,0),0) -> 190.82018 | M51: =IFERROR(VLOOKUP($B51,'MS5'!$A$1:$B$160,2,0),"0") -> 0 | N51: =IFERROR(VLOOKUP(M51,'MS5'!$B$1:$C$161,2,0),0) -> 0 | O51: =IFERROR(VLOOKUP($B51,'MS6'!$A$1:$B$160,2,0),"0") -> 54 | P51: =IFERROR(VLOOKUP(O51,'MS6'!$B$1:$C$161,2,0),0) -> 184.90386 | Q51: =IFERROR(VLOOKUP($B51,'MS7'!$A$1:$B$160,2,0),"0") -> 62 | R51: =IFERROR(VLOOKUP(Q51,'MS7'!$B$1:$C$161,2,0),0) -> 94.245044 | S51: =IFERROR(VLOOKUP($B51,'MS8'!$A$1:$B$160,2,0),"0") -> 0 | T51: =IFERROR(VLOOKUP(S51,'MS8'!$B$1:$C$161,2,0),0) -> 0 | U51: =IFERROR(VLOOKUP($B51,'MS9'!$A$1:$B$160,2,0),"0") -> 36 | V51: =IFERROR(VLOOKUP(U51,'MS9'!$B$1:$C$161,2,0),0) -> 423.13375 | W51: =IFERROR(VLOOKUP($B51,'MS10'!$A$1:$B$160,2,0),"0") -> 23 | X51: =IFERROR(VLOOKUP(W51,'MS10'!$B$1:$C$161,2,0),0) -> 670.22759 | Y51: =IFERROR(VLOOKUP($B51,'MS11'!$A$1:$B$160,2,0),"0") -> 0 | Z51: =IFERROR(VLOOKUP(Y51,'MS11'!$B$1:$C$161,2,0),0) -> 0 | AA51: =IFERROR(VLOOKUP($B51,'MS12'!$A$1:$B$160,2,0),"0") -> 0 | AB51: =IFERROR(VLOOKUP(AA51,'MS12'!$B$1:$C$161,2,0),0) -> 0 | AC51: =IFERROR(VLOOKUP($B51,'MS13'!$A$1:$B$160,2,0),"0") -> 0 | AD51: =IFERROR(VLOOKUP(AC51,'MS13'!$B$1:$C$161,2,0),0) -> 0 | AE51: =IFERROR(__xludf.DUMMYFUNCTION("""COMPUTED_VALUE"""),"Butterfly-as") -> Butterfly-as | AF51: =SUM(AG51:AR51)-small((AG51:AR51),1)-small((AG51:AR51),2) -> 1038.9536 | AG51: =IFERROR(VLOOKUP($AE51,'MS1'!$A$1:$C$161,3,0),0) -> 248.63024 | AH51: =IFERROR(VLOOKUP($AE51,'MS2'!$A$1:$C$161,3,0),0) -> 410.07378 | AI51: =IFERROR(VLOOKUP($AE51,'MS3'!$A$1:$C$161,3,0),0) -> 380.24962 | AJ51: =IFERROR(VLOOKUP($AE51,'MS4'!$A$1:$C$161,3,0),0) -> 0 | AK51: =IFERROR(VLOOKUP($AE51,'MS5'!$A$1:$C$161,3,0),0) -> 0 | AL51: =IFERROR(VLOOKUP($AE51,'MS6'!$A$1:$C$161,3,0),0) -> 0 | AM51: =IFERROR(VLOOKUP($AE51,'MS7'!$A$1:$C$161,3,0),0) -> 0 | AN51: =IFERROR(VLOOKUP($AE51,'MS8'!$A$1:$C$161,3,0),0) -> 0 | AO51: =IFERROR(VLOOKUP($AE51,'MS9'!$A$1:$C$161,3,0),0) -> 0 | AP51: =IFERROR(VLOOKUP($AE51,'MS10'!$A$1:$C$161,3,0),0) -> 0 | AQ51: =IFERROR(VLOOKUP($AE51,'MS11'!$A$1:$C$161,3,0),0) -> 0 | AR51: =IFERROR(VLOOKUP($AE51,'MS12'!$A$1:$C$161,3,0),0) -> 0 | AS51: =IFERROR(VLOOKUP($AE51,'MS13'!$A$1:$C$161,3,0),0) -> 0
A52: =ROW()-1 -> 51 | B52: sonic86 | C52: 4459.2575 | E52: =IFERROR(VLOOKUP($B52,'MS1'!$A$1:$B$160,2,0),"0") -> 28 | F52: =IFERROR(VLOOKUP(E52,'MS1'!$B$1:$C$161,2,0),0) -> 603.56805 | G52: =IFERROR(VLOOKUP($B52,'MS2'!$A$1:$B$160,2,0),"0") -> 6 | H52: =IFERROR(VLOOKUP(G52,'MS2'!$B$1:$C$161,2,0),0) -> 1351.7881 | I52: =IFERROR(VLOOKUP($B52,'MS3'!$A$1:$B$161,2,0),0) -> 72 | J52: =IFERROR(VLOOKUP(I52,'MS3'!$B$1:$C$161,2,0),0) -> 52.82735 | K52: =IFERROR(VLOOKUP($B52,'MS4'!$A$1:$B$160,2,0),"0") -> 29 | L52: =IFERROR(VLOOKUP(K52,'MS4'!$B$1:$C$161,2,0),0) -> 559.39423 | M52: =IFERROR(VLOOKUP($B52,'MS5'!$A$1:$B$160,2,0),"0") -> 28 | N52: =IFERROR(VLOOKUP(M52,'MS5'!$B$1:$C$161,2,0),0) -> 544.33105 | O52: =IFERROR(VLOOKUP($B52,'MS6'!$A$1:$B$160,2,0),"0") -> 37 | P52: =IFERROR(VLOOKUP(O52,'MS6'!$B$1:$C$161,2,0),0) -> 433.5635 | Q52: =IFERROR(VLOOKUP($B52,'MS7'!$A$1:$B$160,2,0),"0") -> 59 | R52: =IFERROR(VLOOKUP(Q52,'MS7'!$B$1:$C$161,2,0),0) -> 131.20372 | S52: =IFERROR(VLOOKUP($B52,'MS8'!$A$1:$B$160,2,0),"0") -> 65 | T52: =IFERROR(VLOOKUP(S52,'MS8'!$B$1:$C$161,2,0),0) -> 47.074403 | U52: =IFERROR(VLOOKUP($B52,'MS9'!$A$1:$B$160,2,0),"0") -> 54 | V52: =IFERROR(VLOOKUP(U52,'MS9'!$B$1:$C$161,2,0),0) -> 152.9378 | W52: =IFERROR(VLOOKUP($B52,'MS10'!$A$1:$B$160,2,0),"0") -> 27 | X52: =IFERROR(VLOOKUP(W52,'MS10'!$B$1:$C$161,2,0),0) -> 582.56934 | Y52: =IFERROR(VLOOKUP($B52,'MS11'!$A$1:$B$160,2,0),"0") -> 0 | Z52: =IFERROR(VLOOKUP(Y52,'MS11'!$B$1:$C$161,2,0),0) -> 0 | AA52: =IFERROR(VLOOKUP($B52,'MS12'!$A$1:$B$160,2,0),"0") -> 0 | AB52: =IFERROR(VLOOKUP(AA52,'MS12'!$B$1:$C$161,2,0),0) -> 0 | AC52: =IFERROR(VLOOKUP($B52,'MS13'!$A$1:$B$160,2,0),"0") -> 0 | AD52: =IFERROR(VLOOKUP(AC52,'MS13'!$B$1:$C$161,2,0),0) -> 0 | AE52: =IFERROR(__xludf.DUMMYFUNCTION("""COMPUTED_VALUE"""),"A_iniesta") -> A_iniesta | AF52: =SUM(AG52:AR52)-small((AG52:AR52),1)-small((AG52:AR52),2) -> 5443.2018 | AG52: =IFERROR(VLOOKUP($AE52,'MS1'!$A$1:$C$161,3,0),0) -> 235.03228 | AH52: =IFERROR(VLOOKUP($AE52,'MS2'!$A$1:$C$161,3,0),0) -> 781.58994 | AI52: =IFERROR(VLOOKUP($AE52,'MS3'!$A$1:$C$161,3,0),0) -> 781.58994 | AJ52: =IFERROR(VLOOKUP($AE52,'MS4'!$A$1:$C$161,3,0),0) -> 1260.1163 | AK52: =IFERROR(VLOOKUP($AE52,'MS5'!$A$1:$C$161,3,0),0) -> 118.77599 | AL52: =IFERROR(VLOOKUP($AE52,'MS6'!$A$1:$C$161,3,0),0) -> 0 | AM52: =IFERROR(VLOOKUP($AE52,'MS7'!$A$1:$C$161,3,0),0) -> 807.5106 | AN52: =IFERROR(VLOOKUP($AE52,'MS8'!$A$1:$C$161,3,0),0) -> 198.15461 | AO52: =IFERROR(VLOOKUP($AE52,'MS9'!$A$1:$C$161,3,0),0) -> 180.11888 | AP52: =IFERROR(VLOOKUP($AE52,'MS10'!$A$1:$C$161,3,0),0) -> 269.85585 | AQ52: =IFERROR(VLOOKUP($AE52,'MS11'!$A$1:$C$161,3,0),0) -> 810.45737 | AR52: =IFERROR(VLOOKUP($AE52,'MS12'!$A$1:$C$161,3,0),0) -> 0 | AS52: =IFERROR(VLOOKUP($AE52,'MS13'!$A$1:$C$161,3,0),0) -> 0
A53: =ROW()-1 -> 52 | B53: erniedog56x | C53: 4361.8015 | E53: =IFERROR(VLOOKUP($B53,'MS1'!$A$1:$B$160,2,0),"0") -> 66 | F53: =IFERROR(VLOOKUP(E53,'MS1'!$B$1:$C$161,2,0),0) -> 46.391719 | G53: =IFERROR(VLOOKUP($B53,'MS2'!$A$1:$B$160,2,0),"0") -> 0 | H53: =IFERROR(VLOOKUP(G53,'MS2'!$B$1:$C$161,2,0),0) -> 0 | I53: =IFERROR(VLOOKUP($B53,'MS3'!$A$1:$B$161,2,0),0) -> 20 | J53: =IFERROR(VLOOKUP(I53,'MS3'!$B$1:$C$161,2,0),0) -> 829.54376 | K53: =IFERROR(VLOOKUP($B53,'MS4'!$A$1:$B$160,2,0),"0") -> 61 | L53: =IFERROR(VLOOKUP(K53,'MS4'!$B$1:$C$161,2,0),0) -> 73.341988 | M53: =IFERROR(VLOOKUP($B53,'MS5'!$A$1:$B$160,2,0),"0") -> 0 | N53: =IFERROR(VLOOKUP(M53,'MS5'!$B$1:$C$161,2,0),0) -> 0 | O53: =IFERROR(VLOOKUP($B53,'MS6'!$A$1:$B$160,2,0),"0") -> 11 | P53: =IFERROR(VLOOKUP(O53,'MS6'!$B$1:$C$161,2,0),0) -> 1064.2239 | Q53: =IFERROR(VLOOKUP($B53,'MS7'!$A$1:$B$160,2,0),"0") -> 35 | R53: =IFERROR(VLOOKUP(Q53,'MS7'!$B$1:$C$161,2,0),0) -> 475.68285 | S53: =IFERROR(VLOOKUP($B53,'MS8'!$A$1:$B$160,2,0),"0") -> 0 | T53: =IFERROR(VLOOKUP(S53,'MS8'!$B$1:$C$161,2,0),0) -> 0 | U53: =IFERROR(VLOOKUP($B53,'MS9'!$A$1:$B$160,2,0),"0") -> 63 | V53: =IFERROR(VLOOKUP(U53,'MS9'!$B$1:$C$161,2,0),0) -> 36.789014 | W53: =IFERROR(VLOOKUP($B53,'MS10'!$A$1:$B$160,2,0),"0") -> 31 | X53: =IFERROR(VLOOKUP(W53,'MS10'!$B$1:$C$161,2,0),0) -> 503.551 | Y53: =IFERROR(VLOOKUP($B53,'MS11'!$A$1:$B$160,2,0),"0") -> 21 | Z53: =IFERROR(VLOOKUP(Y53,'MS11'!$B$1:$C$161,2,0),0) -> 701.90614 | AA53: =IFERROR(VLOOKUP($B53,'MS12'!$A$1:$B$160,2,0),"0") -> 16 | AB53: =IFERROR(VLOOKUP(AA53,'MS12'!$B$1:$C$161,2,0),0) -> 630.37121 | AC53: =IFERROR(VLOOKUP($B53,'MS13'!$A$1:$B$160,2,0),"0") -> 0 | AD53: =IFERROR(VLOOKUP(AC53,'MS13'!$B$1:$C$161,2,0),0) -> 0 | AE53: =IFERROR(__xludf.DUMMYFUNCTION("""COMPUTED_VALUE"""),"emmanuel.g") -> emmanuel.g | AF53: =SUM(AG53:AR53)-small((AG53:AR53),1)-small((AG53:AR53),2) -> 3359.6191 | AG53: =IFERROR(VLOOKUP($AE53,'MS1'!$A$1:$C$161,3,0),0) -> 221.58386 | AH53: =IFERROR(VLOOKUP($AE53,'MS2'!$A$1:$C$161,3,0),0) -> 58.21141 | AI53: =IFERROR(VLOOKUP($AE53,'MS3'!$A$1:$C$161,3,0),0) -> 515.14581 | AJ53: =IFERROR(VLOOKUP($AE53,'MS4'!$A$1:$C$161,3,0),0) -> 415.53222 | AK53: =IFERROR(VLOOKUP($AE53,'MS5'!$A$1:$C$161,3,0),0) -> 630.37121 | AL53: =IFERROR(VLOOKUP($AE53,'MS6'!$A$1:$C$161,3,0),0) -> 401.15136 | AM53: =IFERROR(VLOOKUP($AE53,'MS7'!$A$1:$C$161,3,0),0) -> 892.5452 | AN53: =IFERROR(VLOOKUP($AE53,'MS8'!$A$1:$C$161,3,0),0) -> 225.07804 | AO53: =IFERROR(VLOOKUP($AE53,'MS9'!$A$1:$C$161,3,0),0) -> 0 | AP53: =IFERROR(VLOOKUP($AE53,'MS10'!$A$1:$C$161,3,0),0) -> 0 | AQ53: =IFERROR(VLOOKUP($AE53,'MS11'!$A$1:$C$161,3,0),0) -> 0 | AR53: =IFERROR(VLOOKUP($AE53,'MS12'!$A$1:$C$161,3,0),0) -> 0 | AS53: =IFERROR(VLOOKUP($AE53,'MS13'!$A$1:$C$161,3,0),0) -> 0
A54: =ROW()-1 -> 53 | B54: Vaillant 86 | C54: 4075.9996 | E54: =IFERROR(VLOOKUP($B54,'MS1'!$A$1:$B$160,2,0),"0") -> 60 | F54: =IFERROR(VLOOKUP(E54,'MS1'!$B$1:$C$161,2,0),0) -> 118.77599 | G54: =IFERROR(VLOOKUP($B54,'MS2'!$A$1:$B$160,2,0),"0") -> 10 | H54: =IFERROR(VLOOKUP(G54,'MS2'!$B$1:$C$161,2,0),0) -> 1115.3668 | I54: =IFERROR(VLOOKUP($B54,'MS3'!$A$1:$B$161,2,0),0) -> 0 | J54: =IFERROR(VLOOKUP(I54,'MS3'!$B$1:$C$161,2,0),0) -> 0 | K54: =IFERROR(VLOOKUP($B54,'MS4'!$A$1:$B$160,2,0),"0") -> 0 | L54: =IFERROR(VLOOKUP(K54,'MS4'!$B$1:$C$161,2,0),0) -> 0 | M54: =IFERROR(VLOOKUP($B54,'MS5'!$A$1:$B$160,2,0),"0") -> 58 | N54: =IFERROR(VLOOKUP(M54,'MS5'!$B$1:$C$161,2,0),0) -> 64.818292 | O54: =IFERROR(VLOOKUP($B54,'MS6'!$A$1:$B$160,2,0),"0") -> 56 | P54: =IFERROR(VLOOKUP(O54,'MS6'!$B$1:$C$161,2,0),0) -> 158.79964 | Q54: =IFERROR(VLOOKUP($B54,'MS7'!$A$1:$B$160,2,0),"0") -> 26 | R54: =IFERROR(VLOOKUP(Q54,'MS7'!$B$1:$C$161,2,0),0) -> 644.13337 | S54: =IFERROR(VLOOKUP($B54,'MS8'!$A$1:$B$160,2,0),"0") -> 23 | T54: =IFERROR(VLOOKUP(S54,'MS8'!$B$1:$C$161,2,0),0) -> 701.90614 | U54: =IFERROR(VLOOKUP($B54,'MS9'!$A$1:$B$160,2,0),"0") -> 50 | V54: =IFERROR(VLOOKUP(U54,'MS9'!$B$1:$C$161,2,0),0) -> 207.87847 | W54: =IFERROR(VLOOKUP($B54,'MS10'!$A$1:$B$160,2,0),"0") -> 36 | X54: =IFERROR(VLOOKUP(W54,'MS10'!$B$1:$C$161,2,0),0) -> 413.73984 | Y54: =IFERROR(VLOOKUP($B54,'MS11'!$A$1:$B$160,2,0),"0") -> 50 | Z54: =IFERROR(VLOOKUP(Y54,'MS11'!$B$1:$C$161,2,0),0) -> 174.89823 | AA54: =IFERROR(VLOOKUP($B54,'MS12'!$A$1:$B$160,2,0),"0") -> 21 | AB54: =IFERROR(VLOOKUP(AA54,'MS12'!$B$1:$C$161,2,0),0) -> 475.68285 | AC54: =IFERROR(VLOOKUP($B54,'MS13'!$A$1:$B$160,2,0),"0") -> 0 | AD54: =IFERROR(VLOOKUP(AC54,'MS13'!$B$1:$C$161,2,0),0) -> 0 | AE54: =IFERROR(__xludf.DUMMYFUNCTION("""COMPUTED_VALUE"""),"Redblood92") -> Redblood92 | AF54: =SUM(AG54:AR54)-small((AG54:AR54),1)-small((AG54:AR54),2) -> 7530.8107 | AG54: =IFERROR(VLOOKUP($AE54,'MS1'!$A$1:$C$161,3,0),0) -> 208.27944 | AH54: =IFERROR(VLOOKUP($AE54,'MS2'!$A$1:$C$161,3,0),0) -> 118.77599 | AI54: =IFERROR(VLOOKUP($AE54,'MS3'!$A$1:$C$161,3,0),0) -> 1324.4802 | AJ54: =IFERROR(VLOOKUP($AE54,'MS4'!$A$1:$C$161,3,0),0) -> 150.53048 | AK54: =IFERROR(VLOOKUP($AE54,'MS5'!$A$1:$C$161,3,0),0) -> 872.57547 | AL54: =IFERROR(VLOOKUP($AE54,'MS6'!$A$1:$C$161,3,0),0) -> 1212.022 | AM54: =IFERROR(VLOOKUP($AE54,'MS7'!$A$1:$C$161,3,0),0) -> 1280.3612 | AN54: =IFERROR(VLOOKUP($AE54,'MS8'!$A$1:$C$161,3,0),0) -> 916.90452 | AO54: =IFERROR(VLOOKUP($AE54,'MS9'!$A$1:$C$161,3,0),0) -> 100.15324 | AP54: =IFERROR(VLOOKUP($AE54,'MS10'!$A$1:$C$161,3,0),0) -> 466.58037 | AQ54: =IFERROR(VLOOKUP($AE54,'MS11'!$A$1:$C$161,3,0),0) -> 51.6335 | AR54: =IFERROR(VLOOKUP($AE54,'MS12'!$A$1:$C$161,3,0),0) -> 980.30099 | AS54: =IFERROR(VLOOKUP($AE54,'MS13'!$A$1:$C$161,3,0),0) -> 0
